Back
From: metabase:user:320bfe00-2aae-11df-837a-5e0a49663a4f
Subject: PASS Gentoo-MetaEbuild-Spec-MiniSpec-0.1.1 v5.24.0 GNU/Linux
Date: 2016-09-02T16:23:09Z
This distribution has been tested as part of the CPAN Testers
project, supporting the Perl programming language. See
http://wiki.cpantesters.org/ for more information or email
questions to cpan-testers-discuss@perl.org
--
Dear Kent Fredric,
This is a computer-generated report for Gentoo-MetaEbuild-Spec-MiniSpec-0.1.1
on perl 5.24.0, created by CPAN-Reporter-1.2018.
Thank you for uploading your work to CPAN. Congratulations!
All tests were successful.
Sections of this report:
* Tester comments
* Program output
* Prerequisites
* Environment and other context
------------------------------
TESTER COMMENTS
------------------------------
Additional comments from tester:
this report is from an automated smoke testing program
and was not reviewed by a human for accuracy
------------------------------
PROGRAM OUTPUT
------------------------------
Output from './Build test':
t/00-compile.t ................ ok
#
#
# Generated by Dist::Zilla::Plugin::ReportVersions::Tiny v1.08
# perl: 5.024000 (wanted v5.10.0) on linux from /tmp/basesmoker-reloperl-yKpD/bin/perl
#
# Dist::Zilla::PluginBundle::Author::KENTNL => module not found. (want v1.7.0)
# Dist::Zilla::PluginBundle::Author::KENTNL::Lite => module not found. (want v1.3.0)
# File::Find => 1.34 (want any version)
# File::Temp => 0.2304 (want any version)
# FindBin => 1.51 (want any version)
# Gentoo::MetaEbuild::Spec::Base => 1.000001 (want any version)
# Module::Build => 0.422 (want 0.4003)
# Moose => 2.1805 (want any version)
# Pod::Coverage::TrustPod => 0.100003 (want any version)
# Test::CPAN::Meta => 0.25 (want any version)
# Test::File::ShareDir => 1.001001 (want any version)
# Test::More => 1.302052 (want 0.98)
# Test::Pod => 1.51 (want 1.41)
# Test::Pod::Coverage => 1.10 (want 1.08)
# strict => 1.11 (want any version)
# version => 0.9917 (want 0.9901)
# warnings => 1.36 (want any version)
#
# Thanks for using my code. I hope it works for you.
# If not, please try and include this output in the bug report.
# That will help me reproduce the issue and solve your problem.
#
t/000-report-versions-tiny.t .. ok
t/01_loadspec.t ............... ok
All tests successful.
Files=3, Tests=10, 1 wallclock secs ( 0.01 usr 0.02 sys + 0.97 cusr 0.12 csys = 1.12 CPU)
Result: PASS
------------------------------
PREREQUISITES
------------------------------
Prerequisite modules loaded:
requires:
Module Need Have
------------------------------ ------- --------
File::ShareDir 1.00 1.102
Gentoo::MetaEbuild::Spec::Base 0 1.000001
Moose 0 2.1805
perl v5.10.0 5.024000
strict 0 1.11
warnings 0 1.36
build_requires:
Module Need Have
------------------------------ ------- --------
File::Find 0 1.34
File::Temp 0 0.2304
FindBin 0 1.51
Module::Build 0.4003 0.4220
Test::File::ShareDir 0 1.001001
Test::More 0.98 1.302052
configure_requires:
Module Need Have
------------------------------ ------- --------
Module::Build 0.4003 0.4220
------------------------------
ENVIRONMENT AND OTHER CONTEXT
------------------------------
Environment variables:
AUTOMATED_TESTING = 1
LANG = C
PATH = /home/sand/bin:/usr/local/bin:/usr/bin:/bin:/usr/games:/usr/local/perl/bin:/usr/X11/bin:/sbin:/usr/sbin
PERL5LIB = /tmp/loop_over_bdir-10158-n0odg8/FusionInventory-Agent-2.3.18-0/blib/arch:/tmp/loop_over_bdir-10158-n0odg8/FusionInventory-Agent-2.3.18-0/blib/lib
PERL5OPT =
PERL5_CPANPLUS_IS_RUNNING = 9858
PERL5_CPAN_IS_RUNNING = 9858
PERL_CANARY_STABILITY_NOPROMPT = 1
PERL_MM_USE_DEFAULT = 1
SHELL = /usr/bin/zsh
TERM = screen
Perl special variables (and OS-specific diagnostics, for MSWin32):
$^X = /tmp/basesmoker-reloperl-yKpD/bin/perl
$UID/$EUID = 1005 / 1005
$GID = 1005 1005
$EGID = 1005 1005
Perl module toolchain versions installed:
Module Have
------------------- --------
CPAN 2.15
CPAN::Meta 2.150010
Cwd 3.63
ExtUtils::CBuilder 0.280225
ExtUtils::Command 7.24
ExtUtils::Install 2.04
ExtUtils::MakeMaker 7.24
ExtUtils::Manifest 1.70
ExtUtils::ParseXS 3.31
File::Spec 3.63
JSON 2.90
JSON::PP 2.27300
Module::Build 0.4220
Module::Signature 0.80
Parse::CPAN::Meta 2.150010
Test::Harness 3.36
Test::More 1.302052
YAML 1.18
YAML::Syck 1.29
version 0.9917
--
Summary of my perl5 (revision 5 version 24 subversion 0) configuration:
Commit id: be2c0c650b028f54e427f2469a59942edfdff8a9
Platform:
osname=linux, osvers=4.7.0-1-amd64, archname=x86_64-linux-thread-multi
uname='linux k93x64sid 4.7.0-1-amd64 #1 smp debian 4.7.2-1 (2016-08-28) x86_64 gnulinux '
config_args='-Dprefix=/home/sand/src/perl/repoperls/installed-perls/host/k93x64sid/v5.24.0/9af6 -Dmyhostname=k93x64sid -Dinstallusrbinperl=n -Uversiononly -Dusedevel -des -Ui_db -Dlibswanted=cl pthread socket inet nsl gdbm dbm malloc dl ld sun m crypt sec util c cposix posix ucb BSD gdbm_compat -Duseithreads -Uuselongdouble -DDEBUGGING=-g'
hint=recommended, useposix=true, d_sigaction=define
useithreads=define, usemultiplicity=define
use64bitint=define, use64bitall=define, uselongdouble=undef
usemymalloc=n, bincompat5005=undef
Compiler:
cc='cc', ccflags ='-D_REENTRANT -D_GNU_SOURCE -fwrapv -fno-strict-aliasing -pipe -fstack-protector-strong -I/usr/local/include -D_LARGEFILE_SOURCE -D_FILE_OFFSET_BITS=64',
optimize='-O2 -g',
cppflags='-D_REENTRANT -D_GNU_SOURCE -fwrapv -fno-strict-aliasing -pipe -fstack-protector-strong -I/usr/local/include'
ccversion='', gccversion='6.2.0 20160830', gccosandvers=''
intsize=4, longsize=8, ptrsize=8, doublesize=8, byteorder=12345678, doublekind=3
d_longlong=define, longlongsize=8, d_longdbl=define, longdblsize=16, longdblkind=3
ivtype='long', ivsize=8, nvtype='double', nvsize=8, Off_t='off_t', lseeksize=8
alignbytes=8, prototype=define
Linker and Libraries:
ld='cc', ldflags =' -fstack-protector-strong -L/usr/local/lib'
libpth=/usr/local/lib /usr/lib/gcc/x86_64-linux-gnu/6/include-fixed /usr/include/x86_64-linux-gnu /usr/lib /lib/x86_64-linux-gnu /lib/../lib /usr/lib/x86_64-linux-gnu /usr/lib/../lib /lib
libs=-lpthread -lnsl -ldl -lm -lcrypt -lutil -lc
perllibs=-lpthread -lnsl -ldl -lm -lcrypt -lutil -lc
libc=libc-2.24.so, so=so, useshrplib=false, libperl=libperl.a
gnulibc_version='2.24'
Dynamic Linking:
dlsrc=dl_dlopen.xs, dlext=so, d_dlsymun=undef, ccdlflags='-Wl,-E'
cccdlflags='-fPIC', lddlflags='-shared -O2 -g -L/usr/local/lib -fstack-protector-strong'
Characteristics of this binary (from libperl):
Compile-time options: HAS_TIMES MULTIPLICITY PERLIO_LAYERS
PERL_COPY_ON_WRITE PERL_DONT_CREATE_GVSV
PERL_HASH_FUNC_ONE_AT_A_TIME_HARD
PERL_IMPLICIT_CONTEXT PERL_MALLOC_WRAP
PERL_PRESERVE_IVUV PERL_USE_DEVEL USE_64_BIT_ALL
USE_64_BIT_INT USE_ITHREADS USE_LARGE_FILES
USE_LOCALE USE_LOCALE_COLLATE USE_LOCALE_CTYPE
USE_LOCALE_NUMERIC USE_LOCALE_TIME USE_PERLIO
USE_PERL_ATOF USE_REENTRANT_API
Built under linux
Compiled at Sep 1 2016 22:21:57
%ENV:
PERL5LIB="/tmp/loop_over_bdir-10158-n0odg8/FusionInventory-Agent-2.3.18-0/blib/arch:/tmp/loop_over_bdir-10158-n0odg8/FusionInventory-Agent-2.3.18-0/blib/lib"
PERL5OPT=""
PERL5_CPANPLUS_IS_RUNNING="9858"
PERL5_CPAN_IS_RUNNING="9858"
PERL_CANARY_STABILITY_NOPROMPT="1"
PERL_MM_USE_DEFAULT="1"
@INC:
/tmp/loop_over_bdir-10158-n0odg8/FusionInventory-Agent-2.3.18-0/blib/arch
/tmp/loop_over_bdir-10158-n0odg8/FusionInventory-Agent-2.3.18-0/blib/lib
/home/sand/src/perl/repoperls/installed-perls/host/k93x64sid/v5.24.0/9af6/lib/site_perl/5.24.0/x86_64-linux-thread-multi
/home/sand/src/perl/repoperls/installed-perls/host/k93x64sid/v5.24.0/9af6/lib/site_perl/5.24.0
/home/sand/src/perl/repoperls/installed-perls/host/k93x64sid/v5.24.0/9af6/lib/5.24.0/x86_64-linux-thread-multi
/home/sand/src/perl/repoperls/installed-perls/host/k93x64sid/v5.24.0/9af6/lib/5.24.0
.