Report for Soar-Production-0.03

Back
From: metabase:user:e83797c6-6da0-1014-84df-33ea7e0f01d3
Subject: PASS Soar-Production-0.03 v5.19.3 Windows (Cygwin)
Date: 2013-09-08T01:19:42Z

This distribution has been tested as part of the CPAN Testers
project, supporting the Perl programming language.  See
http://wiki.cpantesters.org/ for more information or email
questions to cpan-testers-discuss@perl.org


--
Dear Nathan Gary Glenn,

This is a computer-generated report for Soar-Production-0.03
on perl 5.19.3, created by CPAN-Reporter-1.2010.

Thank you for uploading your work to CPAN.  Congratulations!
All tests were successful.

Sections of this report:

    * Tester comments
    * Program output
    * Prerequisites
    * Environment and other context

------------------------------
TESTER COMMENTS
------------------------------

Additional comments from tester:

this report is from an automated smoke testing program
and was not reviewed by a human for accuracy

------------------------------
PROGRAM OUTPUT
------------------------------

Output from './Build test':

t/0-use.t ........................ ok
t/00-compile.t ................... ok
# 
# 
# Generated by Dist::Zilla::Plugin::ReportVersions::Tiny v1.08
# perl: 5.019003 (wanted 5.010) on cygwin from /home/lithron/perl5/perlbrew/perls/perl-5.19.3/bin/perl5.19.3
# 
# Carp                                          => 1.32       (want any version)
# Data::Diver                                   => 1.0101     (want any version)
# Data::Dumper                                  => 2.148      (want any version)
# Exporter::Easy                                => 0.16       (want any version)
# File::Find                                    => 1.24       (want any version)
# File::Spec                                    => 3.44       (want any version)
# File::Spec::Functions                         => 3.44       (want any version)
# File::Temp                                    => 0.2301     (want any version)
# FindBin                                       => 1.51       (want any version)
# Module::Build                                 => 0.4007     (want 0.3601) 
# Parse::RecDescent                             => 1.96701    (want any version)
# Path::Tiny                                    => 0.032      (want any version)
# Pod::Coverage::TrustPod                       => 0.100002   (want any version)
# Test::Base                                    => 0.60       (want any version)
# Test::Base::Filter                            => <undef>    (want any version)
# Test::CPAN::Meta                              => 0.23       (want any version)
# Test::Deep                                    => 0.11       (want any version)
# Test::Exception                               => 0.32       (want any version)
# Test::LongString                              => 0.15       (want any version)
# Test::More                                    => 0.98       (want 0.88)   
# Test::Pod                                     => 1.48       (want 1.41)   
# Test::Pod::Coverage                           => 1.08       (want 1.08)   
# Test::Warn                                    => 0.24       (want any version)
# strict                                        => 1.08       (want any version)
# utf8                                          => 1.13       (want any version)
# version                                       => 0.9904     (want 0.9901) 
# warnings                                      => 1.18       (want any version)
# 
# Thanks for using my code.  I hope it works for you.
# If not, please try and include this output in the bug report.
# That will help me reproduce the issue and solve your problem.
# 
t/000-report-versions-tiny.t ..... ok
t/1-basic.t ...................... ok
t/parser/00-use.t ................ ok
t/parser/01-bad_input.t .......... ok
t/parser/01_5-comments.t ......... ok
t/parser/02-split-productions.t .. ok
Subroutine main::is redefined at t/parser/03-production-names.t line 4.
t/parser/03-production-names.t ... ok
Subroutine main::is redefined at t/parser/04-documentation.t line 5.
t/parser/04-documentation.t ...... ok
Subroutine main::is redefined at t/parser/05-Flags.t line 5.
t/parser/05-Flags.t .............. ok
Subroutine main::is redefined at t/parser/06-State.t line 6.
t/parser/06-State.t .............. ok
Subroutine main::is redefined at t/parser/07-variables.t line 6.
t/parser/07-variables.t .......... ok
Subroutine main::is redefined at t/parser/08-attributes.t line 6.
t/parser/08-attributes.t ......... ok
Subroutine main::is redefined at t/parser/09-int.t line 6.
t/parser/09-int.t ................ ok
Subroutine main::is redefined at t/parser/10-float.t line 6.
t/parser/10-float.t .............. ok
Subroutine main::is redefined at t/parser/11-string.t line 5.
t/parser/11-string.t ............. ok
Subroutine main::is redefined at t/parser/12-quoted.t line 5.
t/parser/12-quoted.t ............. ok
Subroutine main::is redefined at t/parser/13-disjunct.t line 5.
t/parser/13-disjunct.t ........... ok
Subroutine main::is redefined at t/parser/14-conjunct.t line 5.
t/parser/14-conjunct.t ........... ok
Subroutine main::is redefined at t/parser/15-predicate.t line 5.
t/parser/15-predicate.t .......... ok
Subroutine main::is redefined at t/parser/16-preference.t line 6.
t/parser/16-preference.t ......... ok
Subroutine main::is redefined at t/parser/17-function.t line 5.
t/parser/17-function.t ........... ok
Subroutine main::is redefined at t/parser/18-negative.t line 5.
t/parser/18-negative.t ........... ok
Subroutine main::is redefined at t/parser/19-conjunctiveCond.t line 5.
t/parser/19-conjunctiveCond.t .... ok
t/parser/20-test_data.t .......... ok
t/printer/0-use.t ................ ok
t/printer/1-test_data.t .......... ok
All tests successful.
Files=28, Tests=1816, 95 wallclock secs ( 0.11 usr  0.14 sys + 91.10 cusr  3.15 csys = 94.50 CPU)
Result: PASS

------------------------------
PREREQUISITES
------------------------------

Prerequisite modules loaded:

requires:

    Module                Need   Have     
    --------------------- ------ ---------
    Carp                  0      1.32     
    Data::Dumper          0      2.148    
    Exporter::Easy        0      0.16     
    Parse::RecDescent     0      1.967_010
    perl                  5.010  5.019003 
    strict                0      1.08     
    warnings              0      1.18     

build_requires:

    Module                Need   Have     
    --------------------- ------ ---------
    Data::Diver           0      1.0101   
    File::Find            0      1.24     
    File::Spec            0      3.44     
    File::Spec::Functions 0      3.44     
    File::Temp            0      0.2301   
    FindBin               0      1.51     
    Module::Build         0.3601 0.4007   
    Path::Tiny            0      0.032    
    Test::Base            0      0.60     
    Test::Base::Filter    0      0        
    Test::Deep            0      0.110    
    Test::Exception       0      0.32     
    Test::LongString      0      0.15     
    Test::More            0.88   0.98     
    Test::Warn            0      0.24     
    utf8                  0      1.13     

configure_requires:

    Module                Need   Have     
    --------------------- ------ ---------
    Module::Build         0.3601 0.4007   


------------------------------
ENVIRONMENT AND OTHER CONTEXT
------------------------------

Environment variables:

    AUTOMATED_TESTING = 1
    COMSPEC = C:\windows\system32\cmd.exe
    LANG = en_US.UTF-8
    NUMBER_OF_PROCESSORS = 8
    PATH = /home/lithron/perl5/perlbrew/bin:/home/lithron/perl5/perlbrew/perls/perl-5.19.3/bin:/usr/local/bin:/usr/bin:/cygdrive/c/windows/system32:/cygdrive/c/windows:/cygdrive/c/windows/System32/Wbem:/cygdrive/c/windows/System32/WindowsPowerShell/v1.0:/cygdrive/c/Dwimperl/perl/bin:/cygdrive/c/Dwimperl/perl/site/bin:/cygdrive/c/Dwimperl/c/bin:/cygdrive/c/Program Files/Intel/WiFi/bin:/cygdrive/c/Program Files/Common Files/Intel/WirelessCommon:/cygdrive/c/Program Files/Mercurial:.:.:.
    PERL5LIB = 
    PERL5OPT = 
    PERL5_CPANPLUS_IS_RUNNING = 4940
    PERL5_CPAN_IS_RUNNING = 4940
    PERL5_CPAN_IS_RUNNING_IN_RECURSION = 6356,4940
    PERLBREW_BASHRC_VERSION = 0.66
    PERLBREW_HOME = /home/lithron/.perlbrew
    PERLBREW_MANPATH = /home/lithron/perl5/perlbrew/perls/perl-5.19.3/man
    PERLBREW_PATH = /home/lithron/perl5/perlbrew/bin:/home/lithron/perl5/perlbrew/perls/perl-5.19.3/bin
    PERLBREW_PERL = perl-5.19.3
    PERLBREW_ROOT = /home/lithron/perl5/perlbrew
    PERLBREW_VERSION = 0.66
    PERL_CR_SMOKER_CURRENT = Soar-Production-0.03
    PERL_EXTUTILS_AUTOINSTALL = --defaultdeps
    PERL_MM_USE_DEFAULT = 1
    PROCESSOR_IDENTIFIER = Intel64 Family 6 Model 42 Stepping 7, GenuineIntel
    SHELL = /bin/bash
    TEMP = /tmp
    TERM = xterm

Perl special variables (and OS-specific diagnostics, for MSWin32):

    $^X = /home/lithron/perl5/perlbrew/perls/perl-5.19.3/bin/perl5.19.3
    $UID/$EUID = 1002 / 1002
    $GID = 513 545 1001 513
    $EGID = 513 545 1001 513

Perl module toolchain versions installed:

    Module              Have    
    ------------------- --------
    CPAN                2.00    
    CPAN::Meta          2.132140
    Cwd                 3.44    
    ExtUtils::CBuilder  0.280210
    ExtUtils::Command   1.17    
    ExtUtils::Install   1.60    
    ExtUtils::MakeMaker 6.76    
    ExtUtils::Manifest  1.63    
    ExtUtils::ParseXS   3.22    
    File::Spec          3.44    
    JSON                2.59    
    JSON::PP            2.27202 
    Module::Build       0.4007  
    Module::Signature   n/a     
    Parse::CPAN::Meta   1.4405  
    Test::Harness       3.28    
    Test::More          0.98    
    YAML                0.84    
    YAML::Syck          1.27    
    version             0.9904  


--

Summary of my perl5 (revision 5 version 19 subversion 3) configuration:
   
  Platform:
    osname=cygwin, osvers=1.7.20(0.26653), archname=cygwin-thread-multi-64int
    uname='cygwin_nt-6.1-wow64 lithron-laptop 1.7.20(0.26653) 2013-06-07 11:11 i686 cygwin '
    config_args='-de -Dprefix=/home/lithron/perl5/perlbrew/perls/perl-5.19.3 -Dusedevel -Aeval:scriptdir=/home/lithron/perl5/perlbrew/perls/perl-5.19.3/bin'
    hint=recommended, useposix=true, d_sigaction=define
    useithreads=define, usemultiplicity=define
    useperlio=define, d_sfio=undef, uselargefiles=define, usesocks=undef
    use64bitint=define, use64bitall=undef, uselongdouble=undef
    usemymalloc=n, bincompat5005=undef
  Compiler:
    cc='gcc', ccflags ='-DPERL_USE_SAFE_PUTENV -U__STRICT_ANSI__ -fno-strict-aliasing -pipe -fstack-protector -I/usr/local/include',
    optimize='-O3',
    cppflags='-DPERL_USE_SAFE_PUTENV -U__STRICT_ANSI__ -fno-strict-aliasing -pipe -fstack-protector -I/usr/local/include'
    ccversion='', gccversion='4.5.3', gccosandvers=''
    intsize=4, longsize=4, ptrsize=4, doublesize=8, byteorder=12345678
    d_longlong=define, longlongsize=8, d_longdbl=define, longdblsize=12
    ivtype='long long', ivsize=8, nvtype='double', nvsize=8, Off_t='off_t', lseeksize=8
    alignbytes=8, prototype=define
  Linker and Libraries:
    ld='g++', ldflags =' -Wl,--enable-auto-import -Wl,--export-all-symbols -Wl,--enable-auto-image-base -fstack-protector -L/usr/local/lib'
    libpth=/usr/local/lib /usr/lib /lib
    libs=-ldb -ldl -lcrypt
    perllibs=-ldl -lcrypt
    libc=/usr/lib/libc.a, so=dll, useshrplib=true, libperl=cygperl5_19_3.dll
    gnulibc_version=''
  Dynamic Linking:
    dlsrc=dl_dlopen.xs, dlext=dll, d_dlsymun=undef, ccdlflags=' '
    cccdlflags=' ', lddlflags=' --shared  -Wl,--enable-auto-import -Wl,--export-all-symbols -Wl,--enable-auto-image-base -L/usr/local/lib -fstack-protector'


Characteristics of this binary (from libperl): 
  Compile-time options: HAS_TIMES MULTIPLICITY PERLIO_LAYERS
                        PERL_DONT_CREATE_GVSV
                        PERL_HASH_FUNC_ONE_AT_A_TIME_HARD
                        PERL_IMPLICIT_CONTEXT PERL_MALLOC_WRAP
                        PERL_NEW_COPY_ON_WRITE PERL_PRESERVE_IVUV
                        PERL_USE_DEVEL PERL_USE_SAFE_PUTENV USE_64_BIT_INT
                        USE_ITHREADS USE_LARGE_FILES USE_LOCALE
                        USE_LOCALE_COLLATE USE_LOCALE_CTYPE
                        USE_LOCALE_NUMERIC USE_PERLIO USE_PERL_ATOF
                        USE_REENTRANT_API
  Built under cygwin
  Compiled at Aug 24 2013 16:05:12
  %ENV:
    PERL5LIB=""
    PERL5OPT=""
    PERL5_CPANPLUS_IS_RUNNING="4940"
    PERL5_CPAN_IS_RUNNING="4940"
    PERL5_CPAN_IS_RUNNING_IN_RECURSION="6356,4940"
    PERLBREW_BASHRC_VERSION="0.66"
    PERLBREW_HOME="/home/lithron/.perlbrew"
    PERLBREW_MANPATH="/home/lithron/perl5/perlbrew/perls/perl-5.19.3/man"
    PERLBREW_PATH="/home/lithron/perl5/perlbrew/bin:/home/lithron/perl5/perlbrew/perls/perl-5.19.3/bin"
    PERLBREW_PERL="perl-5.19.3"
    PERLBREW_ROOT="/home/lithron/perl5/perlbrew"
    PERLBREW_VERSION="0.66"
    PERL_CR_SMOKER_CURRENT="Soar-Production-0.03"
    PERL_EXTUTILS_AUTOINSTALL="--defaultdeps"
    PERL_MM_USE_DEFAULT="1"
  @INC:
    /home/lithron/perl5/perlbrew/perls/perl-5.19.3/lib/site_perl/5.19.3/cygwin-thread-multi-64int
    /home/lithron/perl5/perlbrew/perls/perl-5.19.3/lib/site_perl/5.19.3
    /home/lithron/perl5/perlbrew/perls/perl-5.19.3/lib/5.19.3/cygwin-thread-multi-64int
    /home/lithron/perl5/perlbrew/perls/perl-5.19.3/lib/5.19.3
    .