Catalyst-Authentication-Credential-RemoteHTTP v0.05 Perl 5 v5.35.8 x86_64-linux

Status
Pass
From
Andreas J. König (ANDK)
Dist
Catalyst-Authentication-Credential-RemoteHTTP v0.05
Platform
Perl 5 v5.35.8 x86_64-linux
Date
2021-12-24 16:07:05
ID
89adcde8-64d3-11ec-9fe0-24006b0b916a
This distribution has been tested as part of the CPAN Testers
project, supporting the Perl programming language.  See
http://wiki.cpantesters.org/ for more information or email
questions to cpan-testers-discuss@perl.org


--
Dear Nigel Metheringham,

This is a computer-generated report for Catalyst-Authentication-Credential-RemoteHTTP-0.05
on perl 5.35.8, created by CPAN-Reporter-1.2018.

Thank you for uploading your work to CPAN.  Congratulations!
All tests were successful.

Sections of this report:

    * Tester comments
    * Program output
    * Prerequisites
    * Environment and other context

------------------------------
TESTER COMMENTS
------------------------------

Additional comments from tester:

this report is from an automated smoke testing program
and was not reviewed by a human for accuracy

------------------------------
PROGRAM OUTPUT
------------------------------

Output from './Build test':

t/00-compile.t ............... ok
# Testing Catalyst::Authentication::Credential::RemoteHTTP 0.05, Perl 5.035008, /tmp/basesmoker-reloperl-u6vX/bin/perl
t/00-load.t .................. ok
# Testing with Perl 5.035008, /tmp/basesmoker-reloperl-u6vX/bin/perl
#     Carp version is 1.52
#     Catalyst version is 5.90128
#     Catalyst::Authentication::Store::Minimal version is undefined
#     Catalyst::Controller version is undefined
#     Catalyst::Exception version is undefined
#     Catalyst::Test version is undefined
#     English version is 1.11
#     File::Find version is 1.39_01
#     File::Temp version is 0.2311
#     HTTP::Server::Simple version is 0.52
#     HTTP::Server::Simple::CGI version is undefined
#     IO::Socket::INET version is 1.49
#     LWP::UserAgent version is 6.60
#     MIME::Base64 version is 3.16
#     Module::Build version is 0.4231
#     Moose version is 2.2201
#     MooseX::Types::Moose version is 0.50
#     Scalar::Util version is 1.60
#     Test::Exception version is 0.43
#     Test::More version is 1.302188
#     base version is 2.27
#     namespace::autoclean version is 0.29
#     strict version is 1.12
#     warnings version is 1.56
t/000-report-versions.t ...... ok
t/author-critic.t ............ skipped: these tests are for testing by the author
t/author-pod-spell.t ......... skipped: these tests are for testing by the author
t/live.t ..................... ok
t/release-dist-manifest.t .... skipped: these tests are for release candidate testing
t/release-distmeta.t ......... skipped: these tests are for release candidate testing
t/release-eol.t .............. skipped: these tests are for release candidate testing
t/release-has-version.t ...... skipped: these tests are for release candidate testing
t/release-kwalitee.t ......... skipped: these tests are for release candidate testing
t/release-minimum-version.t .. skipped: these tests are for release candidate testing
t/release-no-tabs.t .......... skipped: these tests are for release candidate testing
t/release-pod-coverage.t ..... skipped: these tests are for release candidate testing
t/release-pod-syntax.t ....... skipped: these tests are for release candidate testing
t/release-portability.t ...... skipped: these tests are for release candidate testing
t/release-synopsis.t ......... skipped: these tests are for release candidate testing
t/release-unused-vars.t ...... skipped: these tests are for release candidate testing
All tests successful.
Files=18, Tests=43,  3 wallclock secs ( 0.03 usr  0.05 sys +  1.77 cusr  0.37 csys =  2.22 CPU)
Result: PASS

------------------------------
PREREQUISITES
------------------------------

Prerequisite modules loaded:

requires:

    Module                                   Need     Have    
    ---------------------------------------- -------- --------
    base                                     0        2.27    
    Catalyst::Exception                      0        0       
    LWP::UserAgent                           0        6.60    
    Moose                                    0        2.2201  
    MooseX::Types::Moose                     0        0.50    
    namespace::autoclean                     0        0.29    
    perl                                     5.008005 5.035008
    strict                                   0        1.12    
    warnings                                 0        1.56    

build_requires:

    Module                                   Need     Have    
    ---------------------------------------- -------- --------
    Carp                                     0        1.52    
    Catalyst                                 0        5.90128 
    Catalyst::Authentication::Store::Minimal 0        0       
    Catalyst::Controller                     0        0       
    Catalyst::Test                           0        0       
    English                                  0        1.11    
    File::Find                               0        1.39_01 
    File::Temp                               0        0.2311  
    HTTP::Server::Simple                     0        0.52    
    HTTP::Server::Simple::CGI                0        0       
    IO::Socket::INET                         0        1.49    
    MIME::Base64                             0        3.16    
    Module::Build                            0.3601   0.4231  
    Scalar::Util                             0        1.60    
    Test::Exception                          0        0.43    
    Test::More                               0.94     1.302188

configure_requires:

    Module                                   Need     Have    
    ---------------------------------------- -------- --------
    Module::Build                            0.3601   0.4231  


------------------------------
ENVIRONMENT AND OTHER CONTEXT
------------------------------

Environment variables:

    AUTOMATED_TESTING = 1
    LANG = en_US.UTF-8
    PATH = /home/sand/bin:/usr/local/bin:/usr/bin:/bin:/usr/games:/usr/local/perl/bin:/usr/X11/bin:/sbin:/usr/sbin
    PERL5LIB = 
    PERL5OPT = 
    PERL5_CPANPLUS_IS_RUNNING = 1268850
    PERL5_CPAN_IS_RUNNING = 1268850
    PERL_CANARY_STABILITY_NOPROMPT = 1
    PERL_MM_USE_DEFAULT = 1
    PERL_USE_UNSAFE_INC = 1
    SHELL = /usr/bin/zsh
    TERM = screen

Perl special variables (and OS-specific diagnostics, for MSWin32):

    $^X = /tmp/basesmoker-reloperl-u6vX/bin/perl
    $UID/$EUID = 1005 / 1005
    $GID = 1005 1005
    $EGID = 1005 1005

Perl module toolchain versions installed:

    Module              Have    
    ------------------- --------
    CPAN                2.29    
    CPAN::Meta          2.150010
    Cwd                 3.83    
    ExtUtils::CBuilder  0.280236
    ExtUtils::Command   7.64    
    ExtUtils::Install   2.20    
    ExtUtils::MakeMaker 7.64    
    ExtUtils::Manifest  1.73    
    ExtUtils::ParseXS   3.44    
    File::Spec          3.83    
    JSON                4.04    
    JSON::PP            4.07    
    Module::Build       0.4231  
    Module::Signature   0.88    
    Parse::CPAN::Meta   2.150010
    Test::Harness       3.43    
    Test::More          1.302188
    YAML                1.30    
    YAML::Syck          1.34    
    version             0.9929  


--

Summary of my perl5 (revision 5 version 35 subversion 8) configuration:
  Commit id: 57036fb884346f2d6d8c1d90f199df4075b51324
  Platform:
    osname=linux
    osvers=5.14.0-3-amd64
    archname=x86_64-linux
    uname='linux k93msid 5.14.0-3-amd64 #1 smp debian 5.14.12-1 (2021-10-14) x86_64 gnulinux '
    config_args='-Dprefix=/home/sand/src/perl/repoperls/installed-perls/host/k93msid/v5.35.7-7-g57036fb884/da1c -Dmyhostname=k93msid -Dinstallusrbinperl=n -Uversiononly -Dusedevel -des -Ui_db -Dlibswanted=cl pthread socket inet nsl gdbm dbm malloc dl ld sun m crypt sec util c cposix posix ucb BSD gdbm_compat -Uuseithreads -Uuselongdouble -DEBUGGING=-g'
    hint=recommended
    useposix=true
    d_sigaction=define
    useithreads=undef
    usemultiplicity=undef
    use64bitint=define
    use64bitall=define
    uselongdouble=undef
    usemymalloc=n
    default_inc_excludes_dot=define
  Compiler:
    cc='cc'
    ccflags ='-fwrapv -fno-strict-aliasing -pipe -fstack-protector-strong -I/usr/local/include -D_LARGEFILE_SOURCE -D_FILE_OFFSET_BITS=64 -D_FORTIFY_SOURCE=2'
    optimize='-O2 -g'
    cppflags='-fwrapv -fno-strict-aliasing -pipe -fstack-protector-strong -I/usr/local/include'
    ccversion=''
    gccversion='11.2.0'
    gccosandvers=''
    intsize=4
    longsize=8
    ptrsize=8
    doublesize=8
    byteorder=12345678
    doublekind=3
    d_longlong=define
    longlongsize=8
    d_longdbl=define
    longdblsize=16
    longdblkind=3
    ivtype='long'
    ivsize=8
    nvtype='double'
    nvsize=8
    Off_t='off_t'
    lseeksize=8
    alignbytes=8
    prototype=define
  Linker and Libraries:
    ld='cc'
    ldflags =' -fstack-protector-strong -L/usr/local/lib'
    libpth=/usr/local/lib /usr/lib/x86_64-linux-gnu /usr/lib /lib/x86_64-linux-gnu /lib
    libs=-lpthread -lnsl -ldl -lm -lcrypt -lutil -lc
    perllibs=-lpthread -lnsl -ldl -lm -lcrypt -lutil -lc
    libc=libc-2.32.so
    so=so
    useshrplib=false
    libperl=libperl.a
    gnulibc_version='2.32'
  Dynamic Linking:
    dlsrc=dl_dlopen.xs
    dlext=so
    d_dlsymun=undef
    ccdlflags='-Wl,-E'
    cccdlflags='-fPIC'
    lddlflags='-shared -O2 -g -L/usr/local/lib -fstack-protector-strong'


Characteristics of this binary (from libperl): 
  Compile-time options:
    HAS_TIMES
    PERLIO_LAYERS
    PERL_COPY_ON_WRITE
    PERL_DONT_CREATE_GVSV
    PERL_MALLOC_WRAP
    PERL_OP_PARENT
    PERL_PRESERVE_IVUV
    PERL_USE_DEVEL
    USE_64_BIT_ALL
    USE_64_BIT_INT
    USE_LARGE_FILES
    USE_LOCALE
    USE_LOCALE_COLLATE
    USE_LOCALE_CTYPE
    USE_LOCALE_NUMERIC
    USE_LOCALE_TIME
    USE_PERLIO
    USE_PERL_ATOF
  Built under linux
  Compiled at Dec 23 2021 22:20:59
  %ENV:
    PERL5LIB=""
    PERL5OPT=""
    PERL5_CPANPLUS_IS_RUNNING="1268850"
    PERL5_CPAN_IS_RUNNING="1268850"
    PERL_CANARY_STABILITY_NOPROMPT="1"
    PERL_MM_USE_DEFAULT="1"
    PERL_USE_UNSAFE_INC="1"
  @INC:
    /home/sand/src/perl/repoperls/installed-perls/host/k93msid/v5.35.7-7-g57036fb884/da1c/lib/site_perl/5.35.8/x86_64-linux
    /home/sand/src/perl/repoperls/installed-perls/host/k93msid/v5.35.7-7-g57036fb884/da1c/lib/site_perl/5.35.8
    /home/sand/src/perl/repoperls/installed-perls/host/k93msid/v5.35.7-7-g57036fb884/da1c/lib/5.35.8/x86_64-linux
    /home/sand/src/perl/repoperls/installed-perls/host/k93msid/v5.35.7-7-g57036fb884/da1c/lib/5.35.8
    .