PAR-Packer v1.063_001 Perl 5 v5.30.2 i86pc-solaris-thread-multi-64

Status
Pass
From
David Cantrell (DCANTRELL)
Dist
PAR-Packer v1.063_001
Platform
Perl 5 v5.30.2 i86pc-solaris-thread-multi-64
Date
2024-06-26 08:17:33
ID
89d617a2-3394-11ef-8550-a01c6c209c2b
This distribution has been tested as part of the CPAN Testers
project, supporting the Perl programming language.  See
http://wiki.cpantesters.org/ for more information or email
questions to cpan-testers-discuss@perl.org


--
Dear Roderich Schupp,

This is a computer-generated report for PAR-Packer-1.063_001
on perl 5.30.2, created by CPAN-Reporter-1.2018.

Thank you for uploading your work to CPAN.  Congratulations!
All tests were successful.

Sections of this report:

    * Tester comments
    * Program output
    * Prerequisites
    * Environment and other context

------------------------------
TESTER COMMENTS
------------------------------

Additional comments from tester:

this report is from an automated smoke testing program
and was not reviewed by a human for accuracy

------------------------------
PROGRAM OUTPUT
------------------------------

Output from '/usr/bin/make test':

"/home/david/cpantesting/perl-5.30.2/bin/perl" -MExtUtils::Command::MM -e 'cp_nonempty' -- XSFoo.bs ../blib/arch/auto/XSFoo/XSFoo.bs 644
"/home/david/cpantesting/perl-5.30.2/bin/perl" -MExtUtils::Command::MM -e 'cp_nonempty' -- XSFoo.bs ../blib/arch/auto/XSFoo/XSFoo.bs 644
No tests defined for XSFoo extension.
No tests defined for myldr extension.
PERL_DL_NONLAZY=1 "/home/david/cpantesting/perl-5.30.2/bin/perl" "-MExtUtils::Command::MM" "-MTest::Harness" "-e" "undef *Test::Harness::Switches; test_harness(0, 'blib/lib', 'blib/arch')" t/*.t
t/00-pod.t ............... skipped: Set environment variable PERL_TEST_POD=1 to test POD
t/10-parl-generation.t ... ok
/tmp/ENfiBhnb0g syntax OK
t/20-pp.t ................ ok
t/30-current_exec.t ...... ok
t/40-packer_cd_option.t .. ok
t/80-doublecolon.t ....... ok
t/85-crt-glob.t .......... ok
t/85-ldlibpthname.t ...... ok
t/85-myfile.t ............ ok
# dl_shared_objects = /tmp/Qh6Wafc3Af/par-6461766964/cache-d49e1fd4d888fc46377e1aa10f354fbab97b08ba/11da2937.so /tmp/Qh6Wafc3Af/par-6461766964/cache-d49e1fd4d888fc46377e1aa10f354fbab97b08ba/1e11e913.so /tmp/Qh6Wafc3Af/par-6461766964/cache-d49e1fd4d888fc46377e1aa10f354fbab97b08ba/d1a9402b.so /tmp/Qh6Wafc3Af/par-6461766964/cache-d49e1fd4d888fc46377e1aa10f354fbab97b08ba/7a1b4b52.so /tmp/Qh6Wafc3Af/par-6461766964/cache-d49e1fd4d888fc46377e1aa10f354fbab97b08ba/de0517e1.so /tmp/Qh6Wafc3Af/par-6461766964/cache-d49e1fd4d888fc46377e1aa10f354fbab97b08ba/f91cf0b2.so /tmp/Qh6Wafc3Af/par-6461766964/cache-d49e1fd4d888fc46377e1aa10f354fbab97b08ba/1e3c58d4.so /tmp/Qh6Wafc3Af/par-6461766964/cache-d49e1fd4d888fc46377e1aa10f354fbab97b08ba/b67aef03.so /tmp/Qh6Wafc3Af/par-6461766964/cache-d49e1fd4d888fc46377e1aa10f354fbab97b08ba/e561390b.so /tmp/Qh6Wafc3Af/par-6461766964/cache-d49e1fd4d888fc46377e1aa10f354fbab97b08ba/2ea9e911.so /tmp/Qh6Wafc3Af/par-6461766964/cache-d49e1fd4d888fc46377e1aa10f354fbab97b08ba/674df40f.so /tmp/Qh6Wafc3Af/par-6461766964/cache-d49e1fd4d888fc46377e1aa10f354fbab97b08ba/1de8a500.so /tmp/Qh6Wafc3Af/par-6461766964/cache-d49e1fd4d888fc46377e1aa10f354fbab97b08ba/2a190b9e.so /tmp/Qh6Wafc3Af/par-6461766964/cache-d49e1fd4d888fc46377e1aa10f354fbab97b08ba/inc/lib/auto/XSFoo/XSFoo.so
# dl_modules = IO Fcntl Cwd Compress::Raw::Zlib List::Util Time::HiRes Encode Storable File::Glob Digest::SHA PerlIO::scalar Tie::Hash::NamedCapture attributes XSFoo
# greetings from XSFoo
t/86-xs-exe.t ............ ok
t/86-xs-par.t ............ ok
t/87-xs-cross.t .......... skipped: Tests only relevant on Windows
t/90-exitcode.t .......... ok
t/90-gh41.t .............. skipped: Tests only relevant on Windows
t/90-gh66.t .............. ok
# PAR_TEMP = /tmp/BZu84NIahD/par-6461766964/cache-b5ea1d47c494f2b64c5643b0e9c55a4ee26b1d9c
# running /tmp/BZu84NIahD/pp000 a second time
# running /tmp/BZu84NIahD/pp000 a third time
t/90-rt101800.t .......... ok
t/90-rt103861.t .......... ok
t/90-rt104560.t .......... ok
t/90-rt104635.t .......... ok
t/90-rt122949.t .......... skipped: Tests only relevant on Windows
t/90-rt127064.t .......... skipped: Tests only relevant on Windows
t/90-rt129312.t .......... ok
# found core module Carp in /home/david/cpantesting/perl-5.30.2/lib/site_perl/5.30.2/Carp.pm
# found core module Exporter in /home/david/cpantesting/perl-5.30.2/lib/site_perl/5.30.2/Exporter.pm
# found core module File::Glob in /home/david/cpantesting/perl-5.30.2/lib/5.30.2/i86pc-solaris-thread-multi-64/File/Glob.pm
# found core module List::Util in /home/david/cpantesting/perl-5.30.2/lib/site_perl/5.30.2/i86pc-solaris-thread-multi-64/List/Util.pm
t/90-rt130685.t .......... ok
t/90-rt59710.t ........... ok
All tests successful.
Files=24, Tests=162, 472 wallclock secs ( 0.24 usr  0.25 sys + 225.38 cusr 221.66 csys = 447.52 CPU)
Result: PASS

------------------------------
PREREQUISITES
------------------------------

Prerequisite modules loaded:

requires:

    Module                Need     Have    
    --------------------- -------- --------
    Archive::Zip          1.02     1.68    
    Compress::Zlib        1.30     2.206   
    Digest::SHA           5.40     6.04    
    File::Temp            0.05     0.2311  
    Getopt::ArgvFile      1.07     1.11    
    IO::Compress::Gzip    0        2.206   
    Module::ScanDeps      1.21     1.35    
    PAR                   1.020    1.020   
    PAR::Dist             0.22     0.53    
    perl                  5.008009 5.030002
    Text::ParseWords      0        3.31    

build_requires:

    Module                Need     Have    
    --------------------- -------- --------
    ExtUtils::MakeMaker   0        7.71_01 
    IPC::Run3             0.048    0.048   
    Test::More            0        1.302198

configure_requires:

    Module                Need     Have    
    --------------------- -------- --------
    DynaLoader            0        1.45    
    ExtUtils::CBuilder    0        0.280236
    ExtUtils::Embed       0        1.35    
    ExtUtils::MakeMaker   6.31     7.71_01 
    File::Basename        0        2.85    
    File::Glob            0        1.32    
    File::Spec::Functions 0        3.75    


------------------------------
ENVIRONMENT AND OTHER CONTEXT
------------------------------

Environment variables:

    AUTOMATED_TESTING = 1
    LANG = en_GB.UTF-8
    NONINTERACTIVE_TESTING = 1
    PATH = /home/david/bin:/home/david/perl5/perlbrew/bin:/home/david/perl5/perlbrew/perls/perl-5.32.0/bin:/home/david/bin:/home/david/.cargo/bin:/home/david/bin:/usr/bin:/usr/sbin:/sbin:/usr/gnu/bin:/opt/ooce/bin:/home/david/.fzf.git/bin:/opt/ooce/bin:/opt/ooce/bin
    PERL = 5.30.2
    PERL5LIB = 
    PERL5OPT = 
    PERL5_CPANPLUS_IS_RUNNING = 8975
    PERL5_CPAN_IS_RUNNING = 8975
    PERLBREW_HOME = /home/david/.perlbrew
    PERLBREW_MANPATH = /home/david/perl5/perlbrew/perls/perl-5.32.0/man
    PERLBREW_PATH = /home/david/perl5/perlbrew/bin:/home/david/perl5/perlbrew/perls/perl-5.32.0/bin
    PERLBREW_PERL = perl-5.32.0
    PERLBREW_ROOT = /home/david/perl5/perlbrew
    PERLBREW_SHELLRC_VERSION = 0.89
    PERLBREW_VERSION = 0.89
    PERLVER = 5.30.2
    PERL_INLINE_DIRECTORY = /home/david/.Inline-5.30.2
    PERL_MM_USE_DEFAULT = 1
    PERL_USE_UNSAFE_INC = 0
    SHELL = /bin/bash
    TERM = screen

Perl special variables (and OS-specific diagnostics, for MSWin32):

    $^X = /home/david/cpantesting/perl-5.30.2/bin/perl
    $UID/$EUID = 100 / 100
    $GID = 1 1 100
    $EGID = 1 1 100

Perl module toolchain versions installed:

    Module              Have    
    ------------------- --------
    CPAN                2.22    
    CPAN::Meta          2.150010
    Cwd                 3.75    
    ExtUtils::CBuilder  0.280236
    ExtUtils::Command   7.71_01 
    ExtUtils::Install   2.22    
    ExtUtils::MakeMaker 7.71_01 
    ExtUtils::Manifest  1.75    
    ExtUtils::ParseXS   3.51    
    File::Spec          3.75    
    JSON                4.10    
    JSON::PP            4.16    
    Module::Build       0.4234  
    Module::Signature   n/a     
    Parse::CPAN::Meta   2.150010
    Test::Harness       3.48    
    Test::More          1.302198
    YAML                1.30    
    YAML::Syck          n/a     
    version             0.9930  


--

Summary of my perl5 (revision 5 version 30 subversion 2) configuration:
   
  Platform:
    osname=solaris
    osvers=2.11
    archname=i86pc-solaris-thread-multi-64
    uname='sunos cpantesting-illumos 5.11 omnios-r151036-4a32ffb911 i86pc i386 i86pc '
    config_args='-de -Dcc=gcc -Dprefix=/home/david/cpantesting/perl-5.30.2 -Dusethreads'
    hint=recommended
    useposix=true
    d_sigaction=define
    useithreads=define
    usemultiplicity=define
    use64bitint=define
    use64bitall=define
    uselongdouble=undef
    usemymalloc=n
    default_inc_excludes_dot=define
    bincompat5005=undef
  Compiler:
    cc='gcc'
    ccflags ='-D_REENTRANT -fwrapv -fno-strict-aliasing -pipe -fstack-protector-strong -m64 -D_LARGEFILE_SOURCE -D_FILE_OFFSET_BITS=64 -D_FORTIFY_SOURCE=2 -DPERL_USE_SAFE_PUTENV'
    optimize='-O'
    cppflags='-D_REENTRANT -fwrapv -fno-strict-aliasing -pipe -fstack-protector-strong'
    ccversion=''
    gccversion='9.3.0'
    gccosandvers=''
    intsize=4
    longsize=8
    ptrsize=8
    doublesize=8
    byteorder=12345678
    doublekind=3
    d_longlong=define
    longlongsize=8
    d_longdbl=define
    longdblsize=16
    longdblkind=3
    ivtype='long'
    ivsize=8
    nvtype='double'
    nvsize=8
    Off_t='off_t'
    lseeksize=8
    alignbytes=8
    prototype=define
  Linker and Libraries:
    ld='gcc'
    ldflags =' -fstack-protector-strong -L/usr/gnu/lib -m64 '
    libpth=/opt/gcc-9/lib /opt/gcc-9/lib/gcc/x86_64-pc-solaris2.11/9.3.0/include-fixed /usr/lib /usr/gnu/lib /usr/ccs/lib
    libs=-lpthread -lsocket -lnsl -ldl -lm -lc
    perllibs=-lpthread -lsocket -lnsl -ldl -lm -lc
    libc=/lib/libc.so
    so=so
    useshrplib=true
    libperl=libperl.so
    gnulibc_version=''
  Dynamic Linking:
    dlsrc=dl_dlopen.xs
    dlext=so
    d_dlsymun=undef
    ccdlflags='  -R /home/david/cpantesting/perl-5.30.2/lib/5.30.2/i86pc-solaris-thread-multi-64/CORE'
    cccdlflags='-fPIC'
    lddlflags=' -shared -m64 -L/usr/gnu/lib -fstack-protector-strong'


Characteristics of this binary (from libperl): 
  Compile-time options:
    HAS_TIMES
    MULTIPLICITY
    PERLIO_LAYERS
    PERL_COPY_ON_WRITE
    PERL_DONT_CREATE_GVSV
    PERL_IMPLICIT_CONTEXT
    PERL_MALLOC_WRAP
    PERL_OP_PARENT
    PERL_PRESERVE_IVUV
    PERL_USE_SAFE_PUTENV
    USE_64_BIT_ALL
    USE_64_BIT_INT
    USE_ITHREADS
    USE_LARGE_FILES
    USE_LOCALE
    USE_LOCALE_COLLATE
    USE_LOCALE_CTYPE
    USE_LOCALE_NUMERIC
    USE_LOCALE_TIME
    USE_PERLIO
    USE_PERL_ATOF
    USE_REENTRANT_API
    USE_THREAD_SAFE_LOCALE
  Built under solaris
  Compiled at Dec 12 2020 00:49:07
  %ENV:
    PERL="5.30.2"
    PERL5LIB=""
    PERL5OPT=""
    PERL5_CPANPLUS_IS_RUNNING="8975"
    PERL5_CPAN_IS_RUNNING="8975"
    PERLBREW_HOME="/home/david/.perlbrew"
    PERLBREW_MANPATH="/home/david/perl5/perlbrew/perls/perl-5.32.0/man"
    PERLBREW_PATH="/home/david/perl5/perlbrew/bin:/home/david/perl5/perlbrew/perls/perl-5.32.0/bin"
    PERLBREW_PERL="perl-5.32.0"
    PERLBREW_ROOT="/home/david/perl5/perlbrew"
    PERLBREW_SHELLRC_VERSION="0.89"
    PERLBREW_VERSION="0.89"
    PERLVER="5.30.2"
    PERL_INLINE_DIRECTORY="/home/david/.Inline-5.30.2"
    PERL_MM_USE_DEFAULT="1"
    PERL_USE_UNSAFE_INC="0"
  @INC:
    /home/david/cpantesting/perl-5.30.2/lib/site_perl/5.30.2/i86pc-solaris-thread-multi-64
    /home/david/cpantesting/perl-5.30.2/lib/site_perl/5.30.2
    /home/david/cpantesting/perl-5.30.2/lib/5.30.2/i86pc-solaris-thread-multi-64
    /home/david/cpantesting/perl-5.30.2/lib/5.30.2