Report for Dist-Zilla-App-Command-dumpphases-1.000002

Back
From: metabase:user:30ae4450-2aae-11df-837a-5e0a49663a4f
Subject: PASS Dist-Zilla-App-Command-dumpphases-1.000002 v5.16.1 
Date: 2014-08-03T16:24:35Z

This distribution has been tested as part of the CPAN Testers
project, supporting the Perl programming language.  See
http://wiki.cpantesters.org/ for more information or email
questions to cpan-testers-discuss@perl.org


--
Dear Kent Fredric,

This is a computer-generated report for Dist-Zilla-App-Command-dumpphases-1.000002
on perl 5.16.1, created by CPAN-Reporter-1.2010_01.

Thank you for uploading your work to CPAN.  Congratulations!
All tests were successful.

Sections of this report:

    * Tester comments
    * Program output
    * Prerequisites
    * Environment and other context

------------------------------
TESTER COMMENTS
------------------------------

Additional comments from tester:

this report is from an automated smoke testing program
and was not reviewed by a human for accuracy

------------------------------
PROGRAM OUTPUT
------------------------------

Output from 'C:\strawberry5161\c\bin\dmake.exe test':

C:\strawberry5161\perl\bin\perl.exe "-MExtUtils::Command::MM" "-e" "test_harness(0, 'blib\lib', 'blib\arch')" t/*.t t/00-compile/*.t
t/00-compile/lib_Dist_Zilla_App_Command_dumpphases_pm.t ............. ok
t/00-compile/lib_Dist_Zilla_dumpphases_Role_Theme_pm.t .............. ok
t/00-compile/lib_Dist_Zilla_dumpphases_Role_Theme_SimpleColor_pm.t .. ok
t/00-compile/lib_Dist_Zilla_dumpphases_Theme_basic_blue_pm.t ........ ok
t/00-compile/lib_Dist_Zilla_dumpphases_Theme_basic_green_pm.t ....... ok
t/00-compile/lib_Dist_Zilla_dumpphases_Theme_basic_plain_pm.t ....... ok
t/00-compile/lib_Dist_Zilla_dumpphases_Theme_basic_red_pm.t ......... ok
# 
# Versions for all modules listed in MYMETA.json (including optional ones):
# 
# === Configure Requires ===
# 
#     Module              Want    Have
#     ------------------- ---- -------
#     ExtUtils::MakeMaker  any 6.63_02
# 
# === Configure Recommends ===
# 
#     Module              Want    Have
#     ------------------- ---- -------
#     ExtUtils::MakeMaker 6.98 6.63_02
# 
# === Build Requires ===
# 
#     Module              Want    Have
#     ------------------- ---- -------
#     ExtUtils::MakeMaker  any 6.63_02
# 
# === Test Requires ===
# 
#     Module                   Want     Have
#     ------------------------ ---- --------
#     Cwd                       any     3.40
#     Dist::Zilla::App::Tester  any 4.300039
#     ExtUtils::MakeMaker       any  6.63_02
#     File::Spec                any     3.40
#     Test::More               0.89     0.98
# 
# === Test Recommends ===
# 
#     Module                  Want     Have
#     ------------------- -------- --------
#     CPAN::Meta          2.120900 2.132661
#     ExtUtils::MakeMaker     6.98  6.63_02
#     Test::More          1.001003     0.98
# 
# === Runtime Requires ===
# 
#     Module                     Want     Have
#     ------------------------- ----- --------
#     Carp                        any     1.26
#     Cwd                         any     3.40
#     Dist::Zilla::App            any 4.300039
#     Dist::Zilla::App::Tester    any 4.300039
#     Dist::Zilla::Util::RoleDB   any 0.002000
#     ExtUtils::MakeMaker         any  6.63_02
#     File::Spec                  any     3.40
#     Module::Runtime             any    0.013
#     Moo                         any 1.003001
#     Path::ScanINC             0.011 1.000001
#     Path::Tiny                  any    0.040
#     Role::Tiny                  any 1.003002
#     Scalar::Util                any     1.32
#     Term::ANSIColor             any     4.02
#     Test::More                 0.89     0.98
#     Try::Tiny                   any     0.18
#     strict                      any     1.07
#     utf8                        any     1.09
#     warnings                    any     1.13
# 
t/00-report-prereqs.t ............................................... ok
t/01-noparam.t ...................................................... ok
t/02-bad-theme.t .................................................... ok
t/03-green-theme.t .................................................. ok
t/04-red-theme.t .................................................... ok
t/05-plain-theme.t .................................................. ok
All tests successful.
Files=13, Tests=23, 13 wallclock secs ( 0.02 usr +  0.08 sys =  0.10 CPU)
Result: PASS

------------------------------
PREREQUISITES
------------------------------

Prerequisite modules loaded:

requires:

    Module                    Need  Have    
    ------------------------- ----- --------
    Carp                      0     1.26    
    Cwd                       0     3.40    
    Dist::Zilla::App          0     4.300039
    Dist::Zilla::App::Tester  0     4.300039
    Dist::Zilla::Util::RoleDB 0     0.002000
    ExtUtils::MakeMaker       0     6.63_02 
    File::Spec                0     3.40    
    Module::Runtime           0     0.013   
    Moo                       0     1.003001
    Path::ScanINC             0.011 1.000001
    Path::Tiny                0     0.040   
    Role::Tiny                0     1.003002
    Scalar::Util              0     1.32    
    strict                    0     1.07    
    Term::ANSIColor           0     4.02    
    Test::More                0.89  0.98    
    Try::Tiny                 0     0.18    
    utf8                      0     1.09    
    warnings                  0     1.13    

build_requires:

    Module                    Need  Have    
    ------------------------- ----- --------
    ExtUtils::MakeMaker       0     6.63_02 

configure_requires:

    Module                    Need  Have    
    ------------------------- ----- --------
    ExtUtils::MakeMaker       0     6.63_02 


------------------------------
ENVIRONMENT AND OTHER CONTEXT
------------------------------

Environment variables:

    AUTOMATED_TESTING = 1
    COMSPEC = C:\WINDOWS\system32\cmd.exe
    NUMBER_OF_PROCESSORS = 1
    PATH = C:\Program Files\Far Manager\;C:\WINDOWS\system32;C:\WINDOWS;C:\WINDOWS\System32\Wbem;C:\strawberry5161\c\bin;C:\strawberry5161\perl\site\bin;C:\strawberry5161\perl\bin
    PERL5LIB = C:\strawberry5161\cpan\build\Path-ScanINC-1.000001-bwNRLD/blib/arch;C:\strawberry5161\cpan\build\Path-ScanINC-1.000001-bwNRLD/blib/lib;C:\strawberry5161\cpan\build\Dist-Zilla-Util-RoleDB-0.002000-eCxoMn/blib/arch;C:\strawberry5161\cpan\build\Dist-Zilla-Util-RoleDB-0.002000-eCxoMn/blib/lib
    PERL5OPT = 
    PERL5_CPANPLUS_IS_RUNNING = 28828
    PERL5_CPAN_IS_RUNNING = 28828
    PERL5_CPAN_IS_RUNNING_IN_RECURSION = 30980,28828
    PERL_CR_SMOKER_CURRENT = Dist-Zilla-App-Command-dumpphases-1.000002
    PERL_EXTUTILS_AUTOINSTALL = --defaultdeps
    PERL_MM_USE_DEFAULT = 1
    PROCESSOR_IDENTIFIER = x86 Family 16 Model 5 Stepping 3, AuthenticAMD
    TEMP = C:\DOCUME~1\c\LOCALS~1\Temp
    TERM = dumb

Perl special variables (and OS-specific diagnostics, for MSWin32):

    $^X = C:\strawberry5161\perl\bin\perl.exe
    $UID/$EUID = 0 / 0
    $GID = 0
    $EGID = 0
    Win32::GetOSName = WinXP/.Net
    Win32::GetOSVersion = Service Pack 3, 5, 1, 2600, 2, 3, 0, 256, 1
    Win32::FsType = NTFS
    Win32::IsAdminUser = 1

Perl module toolchain versions installed:

    Module              Have    
    ------------------- --------
    CPAN                2.00    
    CPAN::Meta          2.132661
    Cwd                 3.40    
    ExtUtils::CBuilder  0.280206
    ExtUtils::Command   1.17    
    ExtUtils::Install   1.58    
    ExtUtils::MakeMaker 6.63_02 
    ExtUtils::Manifest  1.61    
    ExtUtils::ParseXS   3.16    
    File::Spec          3.40    
    JSON                2.59    
    JSON::PP            2.27200 
    Module::Build       0.4007  
    Module::Signature   0.68    
    Parse::CPAN::Meta   1.4404  
    Test::Harness       3.29    
    Test::More          0.98    
    YAML                0.84    
    YAML::Syck          1.27    
    version             0.9904  


--

Summary of my perl5 (revision 5 version 16 subversion 1) configuration:
   
  Platform:
    osname=MSWin32, osvers=4.0, archname=MSWin32-x86-multi-thread
    uname='Win32 strawberry-perl 5.16.1.1 #1 Thu Aug  9 09:54:46 2012 i386'
    config_args='undef'
    hint=recommended, useposix=true, d_sigaction=undef
    useithreads=define, usemultiplicity=define
    useperlio=define, d_sfio=undef, uselargefiles=define, usesocks=undef
    use64bitint=undef, use64bitall=undef, uselongdouble=undef
    usemymalloc=n, bincompat5005=undef
  Compiler:
    cc='gcc', ccflags =' -s -O2 -DWIN32  -DPERL_TEXTMODE_SCRIPTS -DPERL_IMPLICIT_CONTEXT -DPERL_IMPLICIT_SYS -fno-strict-aliasing -mms-bitfields',
    optimize='-s -O2',
    cppflags='-DWIN32'
    ccversion='', gccversion='4.6.3', gccosandvers=''
    intsize=4, longsize=4, ptrsize=4, doublesize=8, byteorder=1234
    d_longlong=undef, longlongsize=8, d_longdbl=define, longdblsize=12
    ivtype='long', ivsize=4, nvtype='double', nvsize=8, Off_t='long long', lseeksize=8
    alignbytes=8, prototype=define
  Linker and Libraries:
    ld='g++', ldflags ='-s -L"C:\strawberry5161\perl\lib\CORE" -L"C:\strawberry5161\c\lib"'
    libpth=C:\strawberry5161\c\lib C:\strawberry5161\c\i686-w64-mingw32\lib
    libs=-lmoldname -lkernel32 -luser32 -lgdi32 -lwinspool -lcomdlg32 -ladvapi32 -lshell32 -lole32 -loleaut32 -lnetapi32 -luuid -lws2_32 -lmpr -lwinmm -lversion -lodbc32 -lodbccp32 -lcomctl32
    perllibs=-lmoldname -lkernel32 -luser32 -lgdi32 -lwinspool -lcomdlg32 -ladvapi32 -lshell32 -lole32 -loleaut32 -lnetapi32 -luuid -lws2_32 -lmpr -lwinmm -lversion -lodbc32 -lodbccp32 -lcomctl32
    libc=, so=dll, useshrplib=true, libperl=libperl516.a
    gnulibc_version=''
  Dynamic Linking:
    dlsrc=dl_win32.xs, dlext=dll, d_dlsymun=undef, ccdlflags=' '
    cccdlflags=' ', lddlflags='-mdll -s -L"C:\strawberry5161\perl\lib\CORE" -L"C:\strawberry5161\c\lib"'


Characteristics of this binary (from libperl): 
  Compile-time options: HAS_TIMES HAVE_INTERP_INTERN MULTIPLICITY
                        PERLIO_LAYERS PERL_DONT_CREATE_GVSV
                        PERL_IMPLICIT_CONTEXT PERL_IMPLICIT_SYS
                        PERL_MALLOC_WRAP PERL_PRESERVE_IVUV PL_OP_SLAB_ALLOC
                        USE_ITHREADS USE_LARGE_FILES USE_LOCALE
                        USE_LOCALE_COLLATE USE_LOCALE_CTYPE
                        USE_LOCALE_NUMERIC USE_PERLIO USE_PERL_ATOF
  Built under MSWin32
  Compiled at Aug  9 2012 10:03:09
  %ENV:
    PERL5LIB="C:\strawberry5161\cpan\build\Path-ScanINC-1.000001-bwNRLD/blib/arch;C:\strawberry5161\cpan\build\Path-ScanINC-1.000001-bwNRLD/blib/lib;C:\strawberry5161\cpan\build\Dist-Zilla-Util-RoleDB-0.002000-eCxoMn/blib/arch;C:\strawberry5161\cpan\build\Dist-Zilla-Util-RoleDB-0.002000-eCxoMn/blib/lib"
    PERL5_CPANPLUS_IS_RUNNING="28828"
    PERL5_CPAN_IS_RUNNING="28828"
    PERL5_CPAN_IS_RUNNING_IN_RECURSION="30980,28828"
    PERL_CR_SMOKER_CURRENT="Dist-Zilla-App-Command-dumpphases-1.000002"
    PERL_EXTUTILS_AUTOINSTALL="--defaultdeps"
    PERL_MM_USE_DEFAULT="1"
  @INC:
    C:\strawberry5161\cpan\build\Path-ScanINC-1.000001-bwNRLD/blib/arch
    C:\strawberry5161\cpan\build\Path-ScanINC-1.000001-bwNRLD/blib/lib
    C:\strawberry5161\cpan\build\Dist-Zilla-Util-RoleDB-0.002000-eCxoMn/blib/arch
    C:\strawberry5161\cpan\build\Dist-Zilla-Util-RoleDB-0.002000-eCxoMn/blib/lib
    C:/strawberry5161/perl/site/lib
    C:/strawberry5161/perl/vendor/lib
    C:/strawberry5161/perl/lib
    .