Report for Apache-ASP-2.62

Back
From: metabase:user:314402c4-2aae-11df-837a-5e0a49663a4f
Subject: PASS Apache-ASP-2.62 v5.18.4 GNU/Linux
Date: 2014-11-20T03:30:14Z

This distribution has been tested as part of the CPAN Testers
project, supporting the Perl programming language.  See
http://wiki.cpantesters.org/ for more information or email
questions to cpan-testers-discuss@perl.org


--
Dear J Chamas,

This is a computer-generated report for Apache-ASP-2.62
on perl 5.18.4, created by CPAN-Reporter-1.2011.

Thank you for uploading your work to CPAN.  Congratulations!
All tests were successful.

Sections of this report:

    * Tester comments
    * Program output
    * Prerequisites
    * Environment and other context

------------------------------
TESTER COMMENTS
------------------------------

Additional comments from tester:

none provided

------------------------------
PROGRAM OUTPUT
------------------------------

Output from '/usr/bin/make test':

PERL_DL_NONLAZY=1 "/bbbike/perl-5.18.4t/bin/perl" "-MExtUtils::Command::MM" "-MTest::Harness" "-e" "undef *Test::Harness::Switches; test_harness(0, 'blib/lib', 'blib/arch')" t/*.t
t/application.t .......... ok
t/asp-perl1.t ............ ok
t/asp-perl2.t ............ ok
t/asp_object.t ........... ok
t/cache.t ................ ok
t/cgi_headers.t .......... ok
Use of uninitialized value $rv in lc at /tmpfs/.cpan-build/Apache-ASP-2.62-VGmWgj/blib/lib/Apache/ASP.pm line 2018.
Use of uninitialized value $rv in lc at /tmpfs/.cpan-build/Apache-ASP-2.62-VGmWgj/blib/lib/Apache/ASP.pm line 2018.
Use of uninitialized value $rv in lc at /tmpfs/.cpan-build/Apache-ASP-2.62-VGmWgj/blib/lib/Apache/ASP.pm line 2018.
Use of uninitialized value $rv in lc at /tmpfs/.cpan-build/Apache-ASP-2.62-VGmWgj/blib/lib/Apache/ASP.pm line 2018.
Use of uninitialized value $rv in lc at /tmpfs/.cpan-build/Apache-ASP-2.62-VGmWgj/blib/lib/Apache/ASP.pm line 2018.
Use of uninitialized value $rv in lc at /tmpfs/.cpan-build/Apache-ASP-2.62-VGmWgj/blib/lib/Apache/ASP.pm line 2018.
Use of uninitialized value $rv in lc at /tmpfs/.cpan-build/Apache-ASP-2.62-VGmWgj/blib/lib/Apache/ASP.pm line 2018.
Use of uninitialized value $rv in lc at /tmpfs/.cpan-build/Apache-ASP-2.62-VGmWgj/blib/lib/Apache/ASP.pm line 2018.
Use of uninitialized value $rv in lc at /tmpfs/.cpan-build/Apache-ASP-2.62-VGmWgj/blib/lib/Apache/ASP.pm line 2018.
t/closure.t .............. ok
t/collection.t ........... ok
t/collectionitem.t ....... ok
t/cookies.t .............. ok
t/end.t .................. ok
t/general.t .............. ok
t/global_event_end.t ..... ok
t/include.t .............. ok
Use of uninitialized value $rv in lc at /tmpfs/.cpan-build/Apache-ASP-2.62-VGmWgj/blib/lib/Apache/ASP.pm line 2018.
 at /tmpfs/.cpan-build/Apache-ASP-2.62-VGmWgj/blib/lib/Apache/ASP.pm line 2018.
	Apache::ASP::get_dir_config('Apache::ASP::CGI::Table=HASH(0x22b6da8)', 'Global') called at /tmpfs/.cpan-build/Apache-ASP-2.62-VGmWgj/blib/lib/Apache/ASP.pm line 276
	Apache::ASP::new('Apache::ASP', 'Apache::ASP::CGI=HASH(0x1d92698)', 't/include_change.t') called at /tmpfs/.cpan-build/Apache-ASP-2.62-VGmWgj/blib/lib/Apache/ASP.pm line 184
	Apache::ASP::handler('Apache::ASP::CGI=HASH(0x1d92698)') called at /tmpfs/.cpan-build/Apache-ASP-2.62-VGmWgj/blib/lib/Apache/ASP/CGI.pm line 40
	Apache::ASP::CGI::do_self('NoState', 1, 'Debug', 0, 'UseStrict', 0) called at t/include_change.t line 5
Use of uninitialized value $rv in lc at /tmpfs/.cpan-build/Apache-ASP-2.62-VGmWgj/blib/lib/Apache/ASP.pm line 2018.
 at /tmpfs/.cpan-build/Apache-ASP-2.62-VGmWgj/blib/lib/Apache/ASP.pm line 2018.
	Apache::ASP::get_dir_config('Apache::ASP::CGI::Table=HASH(0x22b6da8)', 'GlobalPackage') called at /tmpfs/.cpan-build/Apache-ASP-2.62-VGmWgj/blib/lib/Apache/ASP.pm line 280
	Apache::ASP::new('Apache::ASP', 'Apache::ASP::CGI=HASH(0x1d92698)', 't/include_change.t') called at /tmpfs/.cpan-build/Apache-ASP-2.62-VGmWgj/blib/lib/Apache/ASP.pm line 184
	Apache::ASP::handler('Apache::ASP::CGI=HASH(0x1d92698)') called at /tmpfs/.cpan-build/Apache-ASP-2.62-VGmWgj/blib/lib/Apache/ASP/CGI.pm line 40
	Apache::ASP::CGI::do_self('NoState', 1, 'Debug', 0, 'UseStrict', 0) called at t/include_change.t line 5
Use of uninitialized value $rv in lc at /tmpfs/.cpan-build/Apache-ASP-2.62-VGmWgj/blib/lib/Apache/ASP.pm line 2018.
 at /tmpfs/.cpan-build/Apache-ASP-2.62-VGmWgj/blib/lib/Apache/ASP.pm line 2018.
	Apache::ASP::get_dir_config('Apache::ASP::CGI::Table=HASH(0x22b6da8)', 'InodeNames') called at /tmpfs/.cpan-build/Apache-ASP-2.62-VGmWgj/blib/lib/Apache/ASP.pm line 280
	Apache::ASP::new('Apache::ASP', 'Apache::ASP::CGI=HASH(0x1d92698)', 't/include_change.t') called at /tmpfs/.cpan-build/Apache-ASP-2.62-VGmWgj/blib/lib/Apache/ASP.pm line 184
	Apache::ASP::handler('Apache::ASP::CGI=HASH(0x1d92698)') called at /tmpfs/.cpan-build/Apache-ASP-2.62-VGmWgj/blib/lib/Apache/ASP/CGI.pm line 40
	Apache::ASP::CGI::do_self('NoState', 1, 'Debug', 0, 'UseStrict', 0) called at t/include_change.t line 5
Use of uninitialized value $rv in lc at /tmpfs/.cpan-build/Apache-ASP-2.62-VGmWgj/blib/lib/Apache/ASP.pm line 2018.
 at /tmpfs/.cpan-build/Apache-ASP-2.62-VGmWgj/blib/lib/Apache/ASP.pm line 2018.
	Apache::ASP::get_dir_config('Apache::ASP::CGI::Table=HASH(0x22b6da8)', 'NoCache') called at /tmpfs/.cpan-build/Apache-ASP-2.62-VGmWgj/blib/lib/Apache/ASP.pm line 280
	Apache::ASP::new('Apache::ASP', 'Apache::ASP::CGI=HASH(0x1d92698)', 't/include_change.t') called at /tmpfs/.cpan-build/Apache-ASP-2.62-VGmWgj/blib/lib/Apache/ASP.pm line 184
	Apache::ASP::handler('Apache::ASP::CGI=HASH(0x1d92698)') called at /tmpfs/.cpan-build/Apache-ASP-2.62-VGmWgj/blib/lib/Apache/ASP/CGI.pm line 40
	Apache::ASP::CGI::do_self('NoState', 1, 'Debug', 0, 'UseStrict', 0) called at t/include_change.t line 5
Use of uninitialized value $rv in lc at /tmpfs/.cpan-build/Apache-ASP-2.62-VGmWgj/blib/lib/Apache/ASP.pm line 2018.
 at /tmpfs/.cpan-build/Apache-ASP-2.62-VGmWgj/blib/lib/Apache/ASP.pm line 2018.
	Apache::ASP::get_dir_config('Apache::ASP::CGI::Table=HASH(0x22b6da8)', 'StatINC') called at /tmpfs/.cpan-build/Apache-ASP-2.62-VGmWgj/blib/lib/Apache/ASP.pm line 280
	Apache::ASP::new('Apache::ASP', 'Apache::ASP::CGI=HASH(0x1d92698)', 't/include_change.t') called at /tmpfs/.cpan-build/Apache-ASP-2.62-VGmWgj/blib/lib/Apache/ASP.pm line 184
	Apache::ASP::handler('Apache::ASP::CGI=HASH(0x1d92698)') called at /tmpfs/.cpan-build/Apache-ASP-2.62-VGmWgj/blib/lib/Apache/ASP/CGI.pm line 40
	Apache::ASP::CGI::do_self('NoState', 1, 'Debug', 0, 'UseStrict', 0) called at t/include_change.t line 5
Use of uninitialized value $rv in lc at /tmpfs/.cpan-build/Apache-ASP-2.62-VGmWgj/blib/lib/Apache/ASP.pm line 2018.
 at /tmpfs/.cpan-build/Apache-ASP-2.62-VGmWgj/blib/lib/Apache/ASP.pm line 2018.
	Apache::ASP::get_dir_config('Apache::ASP::CGI::Table=HASH(0x22b6da8)', 'StatINCMatch') called at /tmpfs/.cpan-build/Apache-ASP-2.62-VGmWgj/blib/lib/Apache/ASP.pm line 280
	Apache::ASP::new('Apache::ASP', 'Apache::ASP::CGI=HASH(0x1d92698)', 't/include_change.t') called at /tmpfs/.cpan-build/Apache-ASP-2.62-VGmWgj/blib/lib/Apache/ASP.pm line 184
	Apache::ASP::handler('Apache::ASP::CGI=HASH(0x1d92698)') called at /tmpfs/.cpan-build/Apache-ASP-2.62-VGmWgj/blib/lib/Apache/ASP/CGI.pm line 40
	Apache::ASP::CGI::do_self('NoState', 1, 'Debug', 0, 'UseStrict', 0) called at t/include_change.t line 5
Use of uninitialized value $rv in lc at /tmpfs/.cpan-build/Apache-ASP-2.62-VGmWgj/blib/lib/Apache/ASP.pm line 2018.
 at /tmpfs/.cpan-build/Apache-ASP-2.62-VGmWgj/blib/lib/Apache/ASP.pm line 2018.
	Apache::ASP::get_dir_config('Apache::ASP::CGI::Table=HASH(0x22b6da8)', 'XSLT') called at /tmpfs/.cpan-build/Apache-ASP-2.62-VGmWgj/blib/lib/Apache/ASP.pm line 280
	Apache::ASP::new('Apache::ASP', 'Apache::ASP::CGI=HASH(0x1d92698)', 't/include_change.t') called at /tmpfs/.cpan-build/Apache-ASP-2.62-VGmWgj/blib/lib/Apache/ASP.pm line 184
	Apache::ASP::handler('Apache::ASP::CGI=HASH(0x1d92698)') called at /tmpfs/.cpan-build/Apache-ASP-2.62-VGmWgj/blib/lib/Apache/ASP/CGI.pm line 40
	Apache::ASP::CGI::do_self('NoState', 1, 'Debug', 0, 'UseStrict', 0) called at t/include_change.t line 5
Use of uninitialized value $rv in lc at /tmpfs/.cpan-build/Apache-ASP-2.62-VGmWgj/blib/lib/Apache/ASP.pm line 2018.
 at /tmpfs/.cpan-build/Apache-ASP-2.62-VGmWgj/blib/lib/Apache/ASP.pm line 2018.
	Apache::ASP::get_dir_config('Apache::ASP::CGI::Table=HASH(0x22b6da8)', 'Filter') called at /tmpfs/.cpan-build/Apache-ASP-2.62-VGmWgj/blib/lib/Apache/ASP.pm line 326
	Apache::ASP::new('Apache::ASP', 'Apache::ASP::CGI=HASH(0x1d92698)', 't/include_change.t') called at /tmpfs/.cpan-build/Apache-ASP-2.62-VGmWgj/blib/lib/Apache/ASP.pm line 184
	Apache::ASP::handler('Apache::ASP::CGI=HASH(0x1d92698)') called at /tmpfs/.cpan-build/Apache-ASP-2.62-VGmWgj/blib/lib/Apache/ASP/CGI.pm line 40
	Apache::ASP::CGI::do_self('NoState', 1, 'Debug', 0, 'UseStrict', 0) called at t/include_change.t line 5
Use of uninitialized value $rv in lc at /tmpfs/.cpan-build/Apache-ASP-2.62-VGmWgj/blib/lib/Apache/ASP.pm line 2018.
 at /tmpfs/.cpan-build/Apache-ASP-2.62-VGmWgj/blib/lib/Apache/ASP.pm line 2018.
	Apache::ASP::get_dir_config('Apache::ASP::CGI::Table=HASH(0x22b6da8)', 'CompressGzip') called at /tmpfs/.cpan-build/Apache-ASP-2.62-VGmWgj/blib/lib/Apache/ASP.pm line 353
	Apache::ASP::new('Apache::ASP', 'Apache::ASP::CGI=HASH(0x1d92698)', 't/include_change.t') called at /tmpfs/.cpan-build/Apache-ASP-2.62-VGmWgj/blib/lib/Apache/ASP.pm line 184
	Apache::ASP::handler('Apache::ASP::CGI=HASH(0x1d92698)') called at /tmpfs/.cpan-build/Apache-ASP-2.62-VGmWgj/blib/lib/Apache/ASP/CGI.pm line 40
	Apache::ASP::CGI::do_self('NoState', 1, 'Debug', 0, 'UseStrict', 0) called at t/include_change.t line 5
t/include_change.t ....... ok
t/include_dir_error.t .... ok
t/include_runtime.t ...... ok
t/inode_names.t .......... ok
Use of uninitialized value $rv in lc at /tmpfs/.cpan-build/Apache-ASP-2.62-VGmWgj/blib/lib/Apache/ASP.pm line 2018.
Use of uninitialized value $rv in lc at /tmpfs/.cpan-build/Apache-ASP-2.62-VGmWgj/blib/lib/Apache/ASP.pm line 2018.
Use of uninitialized value $rv in lc at /tmpfs/.cpan-build/Apache-ASP-2.62-VGmWgj/blib/lib/Apache/ASP.pm line 2018.
Use of uninitialized value $rv in lc at /tmpfs/.cpan-build/Apache-ASP-2.62-VGmWgj/blib/lib/Apache/ASP.pm line 2018.
Use of uninitialized value $rv in lc at /tmpfs/.cpan-build/Apache-ASP-2.62-VGmWgj/blib/lib/Apache/ASP.pm line 2018.
Use of uninitialized value $rv in lc at /tmpfs/.cpan-build/Apache-ASP-2.62-VGmWgj/blib/lib/Apache/ASP.pm line 2018.
Use of uninitialized value $rv in lc at /tmpfs/.cpan-build/Apache-ASP-2.62-VGmWgj/blib/lib/Apache/ASP.pm line 2018.
Use of uninitialized value $rv in lc at /tmpfs/.cpan-build/Apache-ASP-2.62-VGmWgj/blib/lib/Apache/ASP.pm line 2018.
Use of uninitialized value $rv in lc at /tmpfs/.cpan-build/Apache-ASP-2.62-VGmWgj/blib/lib/Apache/ASP.pm line 2018.
t/load.t ................. ok
t/long_names.t ........... ok
t/loops.t ................ ok
Use of uninitialized value $rv in lc at /tmpfs/.cpan-build/Apache-ASP-2.62-VGmWgj/blib/lib/Apache/ASP.pm line 2018.
Use of uninitialized value $rv in lc at /tmpfs/.cpan-build/Apache-ASP-2.62-VGmWgj/blib/lib/Apache/ASP.pm line 2018.
Use of uninitialized value $rv in lc at /tmpfs/.cpan-build/Apache-ASP-2.62-VGmWgj/blib/lib/Apache/ASP.pm line 2018.
Use of uninitialized value $rv in lc at /tmpfs/.cpan-build/Apache-ASP-2.62-VGmWgj/blib/lib/Apache/ASP.pm line 2018.
Use of uninitialized value $rv in lc at /tmpfs/.cpan-build/Apache-ASP-2.62-VGmWgj/blib/lib/Apache/ASP.pm line 2018.
Use of uninitialized value $rv in lc at /tmpfs/.cpan-build/Apache-ASP-2.62-VGmWgj/blib/lib/Apache/ASP.pm line 2018.
Use of uninitialized value $rv in lc at /tmpfs/.cpan-build/Apache-ASP-2.62-VGmWgj/blib/lib/Apache/ASP.pm line 2018.
Use of uninitialized value $rv in lc at /tmpfs/.cpan-build/Apache-ASP-2.62-VGmWgj/blib/lib/Apache/ASP.pm line 2018.
Use of uninitialized value $rv in lc at /tmpfs/.cpan-build/Apache-ASP-2.62-VGmWgj/blib/lib/Apache/ASP.pm line 2018.
Use of uninitialized value $rv in lc at /tmpfs/.cpan-build/Apache-ASP-2.62-VGmWgj/blib/lib/Apache/ASP.pm line 2018.
t/mail_error.t ........... ok
t/no_cache.t ............. ok
t/raw.t .................. ok
t/raw_include.t .......... ok
Use of uninitialized value $rv in lc at /tmpfs/.cpan-build/Apache-ASP-2.62-VGmWgj/blib/lib/Apache/ASP.pm line 2018.
Use of uninitialized value $rv in lc at /tmpfs/.cpan-build/Apache-ASP-2.62-VGmWgj/blib/lib/Apache/ASP.pm line 2018.
Use of uninitialized value $rv in lc at /tmpfs/.cpan-build/Apache-ASP-2.62-VGmWgj/blib/lib/Apache/ASP.pm line 2018.
Use of uninitialized value $rv in lc at /tmpfs/.cpan-build/Apache-ASP-2.62-VGmWgj/blib/lib/Apache/ASP.pm line 2018.
Use of uninitialized value $rv in lc at /tmpfs/.cpan-build/Apache-ASP-2.62-VGmWgj/blib/lib/Apache/ASP.pm line 2018.
Use of uninitialized value $rv in lc at /tmpfs/.cpan-build/Apache-ASP-2.62-VGmWgj/blib/lib/Apache/ASP.pm line 2018.
Use of uninitialized value $rv in lc at /tmpfs/.cpan-build/Apache-ASP-2.62-VGmWgj/blib/lib/Apache/ASP.pm line 2018.
Use of uninitialized value $rv in lc at /tmpfs/.cpan-build/Apache-ASP-2.62-VGmWgj/blib/lib/Apache/ASP.pm line 2018.
Use of uninitialized value $rv in lc at /tmpfs/.cpan-build/Apache-ASP-2.62-VGmWgj/blib/lib/Apache/ASP.pm line 2018.
Use of uninitialized value $rv in lc at /tmpfs/.cpan-build/Apache-ASP-2.62-VGmWgj/blib/lib/Apache/ASP.pm line 2018.
Use of uninitialized value $rv in lc at /tmpfs/.cpan-build/Apache-ASP-2.62-VGmWgj/blib/lib/Apache/ASP.pm line 2018.
Use of uninitialized value $rv in lc at /tmpfs/.cpan-build/Apache-ASP-2.62-VGmWgj/blib/lib/Apache/ASP.pm line 2018.
Use of uninitialized value $rv in lc at /tmpfs/.cpan-build/Apache-ASP-2.62-VGmWgj/blib/lib/Apache/ASP.pm line 2018.
Use of uninitialized value $rv in lc at /tmpfs/.cpan-build/Apache-ASP-2.62-VGmWgj/blib/lib/Apache/ASP.pm line 2018.
Use of uninitialized value $rv in lc at /tmpfs/.cpan-build/Apache-ASP-2.62-VGmWgj/blib/lib/Apache/ASP.pm line 2018.
Use of uninitialized value $rv in lc at /tmpfs/.cpan-build/Apache-ASP-2.62-VGmWgj/blib/lib/Apache/ASP.pm line 2018.
Use of uninitialized value $rv in lc at /tmpfs/.cpan-build/Apache-ASP-2.62-VGmWgj/blib/lib/Apache/ASP.pm line 2018.
Use of uninitialized value $rv in lc at /tmpfs/.cpan-build/Apache-ASP-2.62-VGmWgj/blib/lib/Apache/ASP.pm line 2018.
Use of uninitialized value $rv in lc at /tmpfs/.cpan-build/Apache-ASP-2.62-VGmWgj/blib/lib/Apache/ASP.pm line 2018.
Use of uninitialized value $rv in lc at /tmpfs/.cpan-build/Apache-ASP-2.62-VGmWgj/blib/lib/Apache/ASP.pm line 2018.
t/reload_global_asa.t .... ok
t/req_params_none.t ...... ok
t/request.t .............. ok
t/response.t ............. ok
t/response_end.t ......... ok
t/same_name.t ............ ok
t/server.t ............... ok
t/server_mail.t .......... ok
t/server_transfer.t ...... ok
t/session.t .............. ok
t/session_events.t ....... ok
t/session_query_parse.t .. ok
t/session_serialize.t .... ok
t/share.t ................ ok
t/stat_inc.t ............. ok
t/strict_error.t ......... ok
t/taint_check.t .......... ok
t/unique_packages.t ...... ok
t/xmlsubs.t .............. ok
t/xmlsubs_aspargs.t ...... ok
t/xmlsubs_perlargs.t ..... ok
t/xmlsubsmatch.t ......... ok
All tests successful.
Files=47, Tests=341, 18 wallclock secs ( 0.11 usr  0.22 sys +  2.28 cusr  0.76 csys =  3.37 CPU)
Result: PASS

------------------------------
PREREQUISITES
------------------------------

Prerequisite modules loaded:

requires:

    Module              Need Have 
    ------------------- ---- -----
    Carp                0    1.29 
    Class::Struct       0    0.64 
    Data::Dumper        0    2.154
    Digest::MD5         0    2.53 
    Fcntl               0    1.11 
    File::Basename      0    2.84 
    MLDBM               0    2.05 
    MLDBM::Sync         0    0.30 
    SDBM_File           0    1.09 

build_requires:

    Module              Need Have 
    ------------------- ---- -----
    ExtUtils::MakeMaker 0    7.02 


------------------------------
ENVIRONMENT AND OTHER CONTEXT
------------------------------

Environment variables:

    DBIC_NO_WARN_BAD_PERL = 1
    LANG = C
    PATH = /usr/local/bin:/usr/bin:/bin:/usr/local/sbin:/usr/sbin:/sbin:/home/eserte/bin/linux-gnu:/home/eserte/bin/sh:/home/eserte/bin:/usr/games:/home/eserte/devel:/home/eserte/src/srezic-misc/scripts
    PERL5LIB = 
    PERL5OPT = 
    PERL5_CPANPLUS_IS_RUNNING = 4995
    PERL5_CPAN_IS_RUNNING = 4995
    PERL5_CPAN_IS_RUNNING_IN_RECURSION = 15846,4995
    PERLDOC = -MPod::Perldoc::ToTextOverstrike
    PERL_BATCH = yes
    PERL_CPAN_REPORTER_CONFIG = /var/tmp/cpansmoker-1001/11OqRbc2B4_config.ini
    PERL_EXTUTILS_AUTOINSTALL = --defaultdeps
    PERL_HTML_DISPLAY_CLASS = HTML::Display::Mozilla
    SHELL = /bin/zsh
    TERM = screen
    TMPDIR = /var/tmp/cpansmoker-1001

Perl special variables (and OS-specific diagnostics, for MSWin32):

    $^X = /bbbike/perl-5.18.4t/bin/perl
    $UID/$EUID = 1001 / 1001
    $GID = 1001 109 1001
    $EGID = 1001 109 1001

Perl module toolchain versions installed:

    Module              Have    
    ------------------- --------
    CPAN                2.00    
    CPAN::Meta          2.142690
    Cwd                 3.47    
    ExtUtils::CBuilder  0.280210
    ExtUtils::Command   1.17    
    ExtUtils::Install   1.59    
    ExtUtils::MakeMaker 7.02    
    ExtUtils::Manifest  1.68    
    ExtUtils::ParseXS   3.24    
    File::Spec          3.47    
    JSON                2.90    
    JSON::PP            2.27203 
    Module::Build       0.4210  
    Module::Signature   0.73    
    Parse::CPAN::Meta   1.4414  
    Test::Harness       3.34    
    Test::More          1.001009
    YAML                1.13    
    YAML::Syck          1.27    
    version             0.9909  


--

Summary of my perl5 (revision 5 version 18 subversion 4) configuration:
   
  Platform:
    osname=linux, osvers=3.2.0-4-amd64, archname=x86_64-linux-thread-multi
    uname='linux eserte 3.2.0-4-amd64 #1 smp debian 3.2.63-2+deb7u1 x86_64 gnulinux '
    config_args='-ds -e -Dprefix=/opt/perl-5.18.4t -Dusethreads'
    hint=recommended, useposix=true, d_sigaction=define
    useithreads=define, usemultiplicity=define
    useperlio=define, d_sfio=undef, uselargefiles=define, usesocks=undef
    use64bitint=define, use64bitall=define, uselongdouble=undef
    usemymalloc=n, bincompat5005=undef
  Compiler:
    cc='cc', ccflags ='-D_REENTRANT -D_GNU_SOURCE -fno-strict-aliasing -pipe -fstack-protector -I/usr/local/include -D_LARGEFILE_SOURCE -D_FILE_OFFSET_BITS=64',
    optimize='-O2',
    cppflags='-D_REENTRANT -D_GNU_SOURCE -fno-strict-aliasing -pipe -fstack-protector -I/usr/local/include'
    ccversion='', gccversion='4.7.2', gccosandvers=''
    intsize=4, longsize=8, ptrsize=8, doublesize=8, byteorder=12345678
    d_longlong=define, longlongsize=8, d_longdbl=define, longdblsize=16
    ivtype='long', ivsize=8, nvtype='double', nvsize=8, Off_t='off_t', lseeksize=8
    alignbytes=8, prototype=define
  Linker and Libraries:
    ld='cc', ldflags =' -fstack-protector -L/usr/local/lib'
    libpth=/usr/local/lib /lib/x86_64-linux-gnu /lib/../lib /usr/lib/x86_64-linux-gnu /usr/lib/../lib /lib /usr/lib
    libs=-lnsl -ldb -ldl -lm -lcrypt -lutil -lpthread -lc
    perllibs=-lnsl -ldl -lm -lcrypt -lutil -lpthread -lc
    libc=, so=so, useshrplib=false, libperl=libperl.a
    gnulibc_version='2.13'
  Dynamic Linking:
    dlsrc=dl_dlopen.xs, dlext=so, d_dlsymun=undef, ccdlflags='-Wl,-E'
    cccdlflags='-fPIC', lddlflags='-shared -O2 -L/usr/local/lib -fstack-protector'


Characteristics of this binary (from libperl): 
  Compile-time options: HAS_TIMES MULTIPLICITY PERLIO_LAYERS
                        PERL_DONT_CREATE_GVSV
                        PERL_HASH_FUNC_ONE_AT_A_TIME_HARD
                        PERL_IMPLICIT_CONTEXT PERL_MALLOC_WRAP
                        PERL_PRESERVE_IVUV PERL_SAWAMPERSAND USE_64_BIT_ALL
                        USE_64_BIT_INT USE_ITHREADS USE_LARGE_FILES
                        USE_LOCALE USE_LOCALE_COLLATE USE_LOCALE_CTYPE
                        USE_LOCALE_NUMERIC USE_PERLIO USE_PERL_ATOF
                        USE_REENTRANT_API
  Built under linux
  Compiled at Nov 15 2014 13:31:56
  %ENV:
    PERL5LIB=""
    PERL5OPT=""
    PERL5_CPANPLUS_IS_RUNNING="4995"
    PERL5_CPAN_IS_RUNNING="4995"
    PERL5_CPAN_IS_RUNNING_IN_RECURSION="15846,4995"
    PERLDOC="-MPod::Perldoc::ToTextOverstrike"
    PERL_BATCH="yes"
    PERL_CPAN_REPORTER_CONFIG="/var/tmp/cpansmoker-1001/11OqRbc2B4_config.ini"
    PERL_EXTUTILS_AUTOINSTALL="--defaultdeps"
    PERL_HTML_DISPLAY_CLASS="HTML::Display::Mozilla"
  @INC:
    /opt/perl-5.18.4t/lib/site_perl/5.18.4/x86_64-linux-thread-multi
    /opt/perl-5.18.4t/lib/site_perl/5.18.4
    /opt/perl-5.18.4t/lib/5.18.4/x86_64-linux-thread-multi
    /opt/perl-5.18.4t/lib/5.18.4
    .