Back
From: metabase:user:30f4dfbe-2aae-11df-837a-5e0a49663a4f
Subject: PASS Test-Settings-0.003 v5.18.1 GNU/Linux
Date: 2017-07-20T22:19:47Z
This distribution has been tested as part of the CPAN Testers
project, supporting the Perl programming language. See
http://wiki.cpantesters.org/ for more information or email
questions to cpan-testers-discuss@perl.org
--
Dear Matthew Horsfall (alh),
This is a computer-generated report for Test-Settings-0.003
on perl 5.18.1, created by CPAN-Reporter-1.2018.
Thank you for uploading your work to CPAN. Congratulations!
All tests were successful.
Sections of this report:
* Tester comments
* Program output
* Prerequisites
* Environment and other context
------------------------------
TESTER COMMENTS
------------------------------
Additional comments from tester:
this report is from an automated smoke testing program
and was not reviewed by a human for accuracy
------------------------------
PROGRAM OUTPUT
------------------------------
Output from '/usr/bin/make test':
PERL_DL_NONLAZY=1 "/home/njh/perl5/perlbrew/perls/perl-5.18.1/bin/perl" "-MExtUtils::Command::MM" "-MTest::Harness" "-e" "undef *Test::Harness::Switches; test_harness(0, 'blib/lib', 'blib/arch')" t/*.t
t/release-pod-syntax.t .. skipped: these tests are for release candidate testing
t/00_env.t .............. ok
t/01_cmd.t .............. ok
All tests successful.
Files=3, Tests=47, 1 wallclock secs ( 0.03 usr 0.00 sys + 1.00 cusr 0.21 csys = 1.24 CPU)
Result: PASS
------------------------------
PREREQUISITES
------------------------------
Prerequisite modules loaded:
build_requires:
Module Need Have
------------------- ---- --------
Test::More 0.88 1.302075
configure_requires:
Module Need Have
------------------- ---- --------
ExtUtils::MakeMaker 6.30 7.22
------------------------------
ENVIRONMENT AND OTHER CONTEXT
------------------------------
Environment variables:
AUTOMATED_TESTING = 1
HARNESS_OPTIONS = j4
LANG = en_GB.UTF-8
LANGUAGE = en_GB:en
PATH = /home/njh/perl5/perlbrew/bin:/home/njh/perl5/perlbrew/perls/perl-5.18.1/bin:/home/njh/perl5/perlbrew/bin:/usr/bin:/bin
PERL5LIB = /home/njh/.cpan/build/SOAP-Lite-1.20-10/blib/arch:/home/njh/.cpan/build/SOAP-Lite-1.20-10/blib/lib:/home/njh/.cpan/build/XML-Parser-Lite-0.721-10/blib/arch:/home/njh/.cpan/build/XML-Parser-Lite-0.721-10/blib/lib:/home/njh/.cpan/build/podlinkcheck-15-19/blib/arch:/home/njh/.cpan/build/podlinkcheck-15-19/blib/lib:/home/njh/.cpan/build/constant-defer-6-19/blib/arch:/home/njh/.cpan/build/constant-defer-6-19/blib/lib:/home/njh/.cpan/build/libintl-perl-1.26-19/blib/arch:/home/njh/.cpan/build/libintl-perl-1.26-19/blib/lib:/home/njh/.cpan/build/File-Find-Iterator-0.4-19/blib/arch:/home/njh/.cpan/build/File-Find-Iterator-0.4-19/blib/lib:/home/njh/.cpan/build/Class-Iterator-0.3-19/blib/arch:/home/njh/.cpan/build/Class-Iterator-0.3-19/blib/lib
PERL5OPT =
PERL5_CPANPLUS_IS_RUNNING = 20477
PERL5_CPAN_IS_RUNNING = 20477
PERLBREW_BASHRC_VERSION = 0.73
PERLBREW_HOME = /home/njh/.perlbrew
PERLBREW_LIB =
PERLBREW_MANPATH = /home/njh/perl5/perlbrew/perls/perl-5.18.1/man
PERLBREW_PATH = /home/njh/perl5/perlbrew/bin:/home/njh/perl5/perlbrew/perls/perl-5.18.1/bin
PERLBREW_PERL = perl-5.18.1
PERLBREW_ROOT = /home/njh/perl5/perlbrew
PERLBREW_VERSION = 0.73
PERL_LOCAL_LIB_ROOT =
SHELL = /bin/sh
Perl special variables (and OS-specific diagnostics, for MSWin32):
$^X = /home/njh/perl5/perlbrew/perls/perl-5.18.1/bin/perl
$UID/$EUID = 1000 / 1000
$GID = 1000 4 24 25 29 30 44 46 108 112 1000
$EGID = 1000 4 24 25 29 30 44 46 108 112 1000
Perl module toolchain versions installed:
Module Have
------------------- --------
CPAN 2.14
CPAN::Meta 2.150010
Cwd 3.62
ExtUtils::CBuilder 0.280224
ExtUtils::Command 7.22
ExtUtils::Install 1.59
ExtUtils::MakeMaker 7.22
ExtUtils::Manifest 1.70
ExtUtils::ParseXS 3.30
File::Spec 3.62
JSON 2.93
JSON::PP 2.27400
Module::Build 0.4218
Module::Signature 0.73
Parse::CPAN::Meta 2.150010
Test::Harness 3.36
Test::More 1.302075
YAML 1.21
YAML::Syck 1.27
version 0.9904
--
Summary of my perl5 (revision 5 version 18 subversion 1) configuration:
Platform:
osname=linux, osvers=3.9-1-amd64, archname=x86_64-linux-thread-multi
uname='linux nigelhorne.force9.co.uk 3.9-1-amd64 #1 smp debian 3.9.8-1 x86_64 gnulinux '
config_args='-de -Dprefix=/home/njh/perl5/perlbrew/perls/perl-5.18.1 -Duseithreads -Dusemultiplicity -Accflags=-O2 -W -Wformat=2 -Wswitch -Wshadow -Wwrite-strings -Wuninitialized -Wall -pipe -mtune=native -march=native -fomit-frame-pointer -msse2 -msse -mmmx -mfpmath=sse -pedantic -D_FORTIFY_SOURCE=2 -Wpointer-arith -Wstrict-prototypes -fstack-protector -Wstack-protector -Wextra -Wbad-function-cast -Wcast-align -Wcast-qual -Wdisabled-optimization -Wendif-labels -Wfloat-equal -Wformat-nonliteral -Winline -Wmissing-declarations -Wmissing-prototypes -Wnested-externs -Wpointer-arith -Wundef -Wformat-security -ftree-vectorize -fassociative-math -ftree-vectorizer-verbose=2 -Aeval:scriptdir=/home/njh/perl5/perlbrew/perls/perl-5.18.1/bin'
hint=recommended, useposix=true, d_sigaction=define
useithreads=define, usemultiplicity=define
useperlio=define, d_sfio=undef, uselargefiles=define, usesocks=undef
use64bitint=define, use64bitall=define, uselongdouble=undef
usemymalloc=n, bincompat5005=undef
Compiler:
cc='cc', ccflags ='-D_REENTRANT -D_GNU_SOURCE -O2 -W -Wformat=2 -Wswitch -Wshadow -Wwrite-strings -Wuninitialized -Wall -pipe -mtune=native -march=native -fomit-frame-pointer -msse2 -msse -mmmx -mfpmath=sse -pedantic -D_FORTIFY_SOURCE=2 -Wpointer-arith -Wstrict-prototypes -fstack-protector -Wstack-protector -Wextra -Wbad-function-cast -Wcast-align -Wcast-qual -Wdisabled-optimization -Wendif-labels -Wfloat-equal -Wformat-nonliteral -Winline -Wmissing-declarations -Wmissing-prototypes -Wnested-externs -Wpointer-arith -Wundef -Wformat-security -ftree-vectorize -fassociative-math -ftree-vectorizer-verbose=2 -fno-strict-aliasing -I/usr/local/include -D_LARGEFILE_SOURCE -D_FILE_OFFSET_BITS=64',
optimize='-O2',
cppflags='-D_REENTRANT -D_GNU_SOURCE -O2 -W -Wformat=2 -Wswitch -Wshadow -Wwrite-strings -Wuninitialized -Wall -pipe -mtune=native -march=native -fomit-frame-pointer -msse2 -msse -mmmx -mfpmath=sse -pedantic -D_FORTIFY_SOURCE=2 -Wpointer-arith -Wstrict-prototypes -fstack-protector -Wstack-protector -Wextra -Wbad-function-cast -Wcast-align -Wcast-qual -Wdisabled-optimization -Wendif-labels -Wfloat-equal -Wformat-nonliteral -Winline -Wmissing-declarations -Wmissing-prototypes -Wnested-externs -Wpointer-arith -Wundef -Wformat-security -ftree-vectorize -fassociative-math -ftree-vectorizer-verbose=2 -fno-strict-aliasing -I/usr/local/include'
ccversion='', gccversion='4.8.1', gccosandvers=''
intsize=4, longsize=8, ptrsize=8, doublesize=8, byteorder=12345678
d_longlong=define, longlongsize=8, d_longdbl=define, longdblsize=16
ivtype='long', ivsize=8, nvtype='double', nvsize=8, Off_t='off_t', lseeksize=8
alignbytes=8, prototype=define
Linker and Libraries:
ld='cc', ldflags =' -fstack-protector -L/usr/local/lib'
libpth=/usr/local/lib /lib/x86_64-linux-gnu /lib/../lib /usr/lib/x86_64-linux-gnu /usr/lib/../lib /lib /usr/lib
libs=-lnsl -lgdbm -ldb -ldl -lm -lcrypt -lutil -lpthread -lc -lgdbm_compat
perllibs=-lnsl -ldl -lm -lcrypt -lutil -lpthread -lc
libc=, so=so, useshrplib=false, libperl=libperl.a
gnulibc_version='2.17'
Dynamic Linking:
dlsrc=dl_dlopen.xs, dlext=so, d_dlsymun=undef, ccdlflags='-Wl,-E'
cccdlflags='-fPIC', lddlflags='-shared -O2 -L/usr/local/lib -fstack-protector'
Characteristics of this binary (from libperl):
Compile-time options: HAS_TIMES MULTIPLICITY PERLIO_LAYERS
PERL_DONT_CREATE_GVSV
PERL_HASH_FUNC_ONE_AT_A_TIME_HARD
PERL_IMPLICIT_CONTEXT PERL_MALLOC_WRAP
PERL_PRESERVE_IVUV PERL_SAWAMPERSAND USE_64_BIT_ALL
USE_64_BIT_INT USE_ITHREADS USE_LARGE_FILES
USE_LOCALE USE_LOCALE_COLLATE USE_LOCALE_CTYPE
USE_LOCALE_NUMERIC USE_PERLIO USE_PERL_ATOF
USE_REENTRANT_API
Built under linux
Compiled at Aug 15 2013 14:02:40
%ENV:
PERL5LIB="/home/njh/.cpan/build/SOAP-Lite-1.20-10/blib/arch:/home/njh/.cpan/build/SOAP-Lite-1.20-10/blib/lib:/home/njh/.cpan/build/XML-Parser-Lite-0.721-10/blib/arch:/home/njh/.cpan/build/XML-Parser-Lite-0.721-10/blib/lib:/home/njh/.cpan/build/podlinkcheck-15-19/blib/arch:/home/njh/.cpan/build/podlinkcheck-15-19/blib/lib:/home/njh/.cpan/build/constant-defer-6-19/blib/arch:/home/njh/.cpan/build/constant-defer-6-19/blib/lib:/home/njh/.cpan/build/libintl-perl-1.26-19/blib/arch:/home/njh/.cpan/build/libintl-perl-1.26-19/blib/lib:/home/njh/.cpan/build/File-Find-Iterator-0.4-19/blib/arch:/home/njh/.cpan/build/File-Find-Iterator-0.4-19/blib/lib:/home/njh/.cpan/build/Class-Iterator-0.3-19/blib/arch:/home/njh/.cpan/build/Class-Iterator-0.3-19/blib/lib"
PERL5OPT=""
PERL5_CPANPLUS_IS_RUNNING="20477"
PERL5_CPAN_IS_RUNNING="20477"
PERLBREW_BASHRC_VERSION="0.73"
PERLBREW_HOME="/home/njh/.perlbrew"
PERLBREW_LIB=""
PERLBREW_MANPATH="/home/njh/perl5/perlbrew/perls/perl-5.18.1/man"
PERLBREW_PATH="/home/njh/perl5/perlbrew/bin:/home/njh/perl5/perlbrew/perls/perl-5.18.1/bin"
PERLBREW_PERL="perl-5.18.1"
PERLBREW_ROOT="/home/njh/perl5/perlbrew"
PERLBREW_VERSION="0.73"
PERL_LOCAL_LIB_ROOT=""
@INC:
/home/njh/.cpan/build/SOAP-Lite-1.20-10/blib/arch
/home/njh/.cpan/build/SOAP-Lite-1.20-10/blib/lib
/home/njh/.cpan/build/XML-Parser-Lite-0.721-10/blib/arch
/home/njh/.cpan/build/XML-Parser-Lite-0.721-10/blib/lib
/home/njh/.cpan/build/podlinkcheck-15-19/blib/arch
/home/njh/.cpan/build/podlinkcheck-15-19/blib/lib
/home/njh/.cpan/build/constant-defer-6-19/blib/arch
/home/njh/.cpan/build/constant-defer-6-19/blib/lib
/home/njh/.cpan/build/libintl-perl-1.26-19/blib/arch
/home/njh/.cpan/build/libintl-perl-1.26-19/blib/lib
/home/njh/.cpan/build/File-Find-Iterator-0.4-19/blib/arch
/home/njh/.cpan/build/File-Find-Iterator-0.4-19/blib/lib
/home/njh/.cpan/build/Class-Iterator-0.3-19/blib/arch
/home/njh/.cpan/build/Class-Iterator-0.3-19/blib/lib
/home/njh/perl5/perlbrew/perls/perl-5.18.1/lib/site_perl/5.18.1/x86_64-linux-thread-multi
/home/njh/perl5/perlbrew/perls/perl-5.18.1/lib/site_perl/5.18.1
/home/njh/perl5/perlbrew/perls/perl-5.18.1/lib/5.18.1/x86_64-linux-thread-multi
/home/njh/perl5/perlbrew/perls/perl-5.18.1/lib/5.18.1
.