Back
From: metabase:user:314402c4-2aae-11df-837a-5e0a49663a4f
Subject: PASS POE-Loop-Glib-0.038 v5.18.4 FreeBSD
Date: 2015-12-07T20:46:07Z
This distribution has been tested as part of the CPAN Testers
project, supporting the Perl programming language. See
http://wiki.cpantesters.org/ for more information or email
questions to cpan-testers-discuss@perl.org
--
Dear Apocalypse,
This is a computer-generated report for POE-Loop-Glib-0.038
on perl 5.18.4, created by CPAN-Reporter-1.2015.
Thank you for uploading your work to CPAN. Congratulations!
All tests were successful.
Sections of this report:
* Tester comments
* Program output
* Prerequisites
* Environment and other context
------------------------------
TESTER COMMENTS
------------------------------
Additional comments from tester:
none provided
------------------------------
PROGRAM OUTPUT
------------------------------
Output from './Build test':
t/1_load.t ............................. ok
t/apocalypse.t ......................... skipped: Test::Apocalypse required for validating the distribution
# Testing POE 1.367, POE::Test::Loops 1.360, Using Loop(POE::Loop::Glib), Perl 5.018004, /usr/perl5.18.4p/bin/perl5.18.4 on freebsd
t/glib/00_info.t ....................... ok
t/glib/all_errors.t .................... skipped: most of these should move into other test files
GLib-CRITICAL **: Source ID 4 was not found when attempting to remove it at /home/cpansand/.cpan/build/2015120721/POE-Loop-Glib-0.038-l65eRs/blib/lib/POE/Loop/Glib.pm line 53.
GLib-CRITICAL **: Source ID 10 was not found when attempting to remove it at /home/cpansand/.cpan/build/2015120721/POE-Loop-Glib-0.038-l65eRs/blib/lib/POE/Loop/Glib.pm line 53.
t/glib/comp_tcp.t ...................... ok
# You might see a 'disconnect' error during this test.
# It may be ignored.
GLib-CRITICAL **: Source ID 4 was not found when attempting to remove it at /home/cpansand/.cpan/build/2015120721/POE-Loop-Glib-0.038-l65eRs/blib/lib/POE/Loop/Glib.pm line 53.
GLib-CRITICAL **: Source ID 26 was not found when attempting to remove it at /home/cpansand/.cpan/build/2015120721/POE-Loop-Glib-0.038-l65eRs/blib/lib/POE/Loop/Glib.pm line 53.
GLib-CRITICAL **: Source ID 87 was not found when attempting to remove it at /home/cpansand/.cpan/build/2015120721/POE-Loop-Glib-0.038-l65eRs/blib/lib/POE/Loop/Glib.pm line 53.
GLib-CRITICAL **: Source ID 94 was not found when attempting to remove it at /home/cpansand/.cpan/build/2015120721/POE-Loop-Glib-0.038-l65eRs/blib/lib/POE/Loop/Glib.pm line 53.
GLib-CRITICAL **: Source ID 96 was not found when attempting to remove it at /home/cpansand/.cpan/build/2015120721/POE-Loop-Glib-0.038-l65eRs/blib/lib/POE/Loop/Glib.pm line 53.
GLib-CRITICAL **: Source ID 99 was not found when attempting to remove it at /home/cpansand/.cpan/build/2015120721/POE-Loop-Glib-0.038-l65eRs/blib/lib/POE/Loop/Glib.pm line 53.
GLib-CRITICAL **: Source ID 110 was not found when attempting to remove it at /home/cpansand/.cpan/build/2015120721/POE-Loop-Glib-0.038-l65eRs/blib/lib/POE/Loop/Glib.pm line 53.
GLib-CRITICAL **: Source ID 115 was not found when attempting to remove it at /home/cpansand/.cpan/build/2015120721/POE-Loop-Glib-0.038-l65eRs/blib/lib/POE/Loop/Glib.pm line 53.
GLib-CRITICAL **: Source ID 119 was not found when attempting to remove it at /home/cpansand/.cpan/build/2015120721/POE-Loop-Glib-0.038-l65eRs/blib/lib/POE/Loop/Glib.pm line 53.
GLib-CRITICAL **: Source ID 127 was not found when attempting to remove it at /home/cpansand/.cpan/build/2015120721/POE-Loop-Glib-0.038-l65eRs/blib/lib/POE/Loop/Glib.pm line 53.
GLib-CRITICAL **: Source ID 129 was not found when attempting to remove it at /home/cpansand/.cpan/build/2015120721/POE-Loop-Glib-0.038-l65eRs/blib/lib/POE/Loop/Glib.pm line 53.
GLib-CRITICAL **: Source ID 131 was not found when attempting to remove it at /home/cpansand/.cpan/build/2015120721/POE-Loop-Glib-0.038-l65eRs/blib/lib/POE/Loop/Glib.pm line 53.
GLib-CRITICAL **: Source ID 135 was not found when attempting to remove it at /home/cpansand/.cpan/build/2015120721/POE-Loop-Glib-0.038-l65eRs/blib/lib/POE/Loop/Glib.pm line 53.
GLib-CRITICAL **: Source ID 136 was not found when attempting to remove it at /home/cpansand/.cpan/build/2015120721/POE-Loop-Glib-0.038-l65eRs/blib/lib/POE/Loop/Glib.pm line 53.
GLib-CRITICAL **: Source ID 140 was not found when attempting to remove it at /home/cpansand/.cpan/build/2015120721/POE-Loop-Glib-0.038-l65eRs/blib/lib/POE/Loop/Glib.pm line 53.
GLib-CRITICAL **: Source ID 142 was not found when attempting to remove it at /home/cpansand/.cpan/build/2015120721/POE-Loop-Glib-0.038-l65eRs/blib/lib/POE/Loop/Glib.pm line 53.
GLib-CRITICAL **: Source ID 143 was not found when attempting to remove it at /home/cpansand/.cpan/build/2015120721/POE-Loop-Glib-0.038-l65eRs/blib/lib/POE/Loop/Glib.pm line 53.
GLib-CRITICAL **: Source ID 147 was not found when attempting to remove it at /home/cpansand/.cpan/build/2015120721/POE-Loop-Glib-0.038-l65eRs/blib/lib/POE/Loop/Glib.pm line 53.
GLib-CRITICAL **: Source ID 149 was not found when attempting to remove it at /home/cpansand/.cpan/build/2015120721/POE-Loop-Glib-0.038-l65eRs/blib/lib/POE/Loop/Glib.pm line 53.
GLib-CRITICAL **: Source ID 150 was not found when attempting to remove it at /home/cpansand/.cpan/build/2015120721/POE-Loop-Glib-0.038-l65eRs/blib/lib/POE/Loop/Glib.pm line 53.
GLib-CRITICAL **: Source ID 154 was not found when attempting to remove it at /home/cpansand/.cpan/build/2015120721/POE-Loop-Glib-0.038-l65eRs/blib/lib/POE/Loop/Glib.pm line 53.
GLib-CRITICAL **: Source ID 156 was not found when attempting to remove it at /home/cpansand/.cpan/build/2015120721/POE-Loop-Glib-0.038-l65eRs/blib/lib/POE/Loop/Glib.pm line 53.
GLib-CRITICAL **: Source ID 157 was not found when attempting to remove it at /home/cpansand/.cpan/build/2015120721/POE-Loop-Glib-0.038-l65eRs/blib/lib/POE/Loop/Glib.pm line 53.
GLib-CRITICAL **: Source ID 161 was not found when attempting to remove it at /home/cpansand/.cpan/build/2015120721/POE-Loop-Glib-0.038-l65eRs/blib/lib/POE/Loop/Glib.pm line 53.
GLib-CRITICAL **: Source ID 163 was not found when attempting to remove it at /home/cpansand/.cpan/build/2015120721/POE-Loop-Glib-0.038-l65eRs/blib/lib/POE/Loop/Glib.pm line 53.
GLib-CRITICAL **: Source ID 164 was not found when attempting to remove it at /home/cpansand/.cpan/build/2015120721/POE-Loop-Glib-0.038-l65eRs/blib/lib/POE/Loop/Glib.pm line 53.
GLib-CRITICAL **: Source ID 168 was not found when attempting to remove it at /home/cpansand/.cpan/build/2015120721/POE-Loop-Glib-0.038-l65eRs/blib/lib/POE/Loop/Glib.pm line 53.
GLib-CRITICAL **: Source ID 171 was not found when attempting to remove it at /home/cpansand/.cpan/build/2015120721/POE-Loop-Glib-0.038-l65eRs/blib/lib/POE/Loop/Glib.pm line 53.
t/glib/comp_tcp_concurrent.t ........... ok
t/glib/connect_errors.t ................ ok
t/glib/k_alarms.t ...................... ok
t/glib/k_aliases.t ..................... ok
t/glib/k_detach.t ...................... ok
t/glib/k_run_returns.t ................. ok
GLib-CRITICAL **: Source ID 6 was not found when attempting to remove it at /home/cpansand/.cpan/build/2015120721/POE-Loop-Glib-0.038-l65eRs/blib/lib/POE/Loop/Glib.pm line 53.
GLib-CRITICAL **: Source ID 33 was not found when attempting to remove it at /home/cpansand/.cpan/build/2015120721/POE-Loop-Glib-0.038-l65eRs/blib/lib/POE/Loop/Glib.pm line 53.
GLib-CRITICAL **: Source ID 49 was not found when attempting to remove it at /home/cpansand/.cpan/build/2015120721/POE-Loop-Glib-0.038-l65eRs/blib/lib/POE/Loop/Glib.pm line 53.
GLib-CRITICAL **: Source ID 65 was not found when attempting to remove it at /home/cpansand/.cpan/build/2015120721/POE-Loop-Glib-0.038-l65eRs/blib/lib/POE/Loop/Glib.pm line 53.
GLib-CRITICAL **: Source ID 81 was not found when attempting to remove it at /home/cpansand/.cpan/build/2015120721/POE-Loop-Glib-0.038-l65eRs/blib/lib/POE/Loop/Glib.pm line 53.
t/glib/k_selects.t ..................... ok
t/glib/k_sig_child.t ................... ok
t/glib/k_signals.t ..................... ok
GLib-CRITICAL **: Source ID 3 was not found when attempting to remove it at /home/cpansand/.cpan/build/2015120721/POE-Loop-Glib-0.038-l65eRs/blib/lib/POE/Loop/Glib.pm line 53.
GLib-CRITICAL **: Source ID 14 was not found when attempting to remove it at /home/cpansand/.cpan/build/2015120721/POE-Loop-Glib-0.038-l65eRs/blib/lib/POE/Loop/Glib.pm line 53.
GLib-CRITICAL **: Source ID 25 was not found when attempting to remove it at /home/cpansand/.cpan/build/2015120721/POE-Loop-Glib-0.038-l65eRs/blib/lib/POE/Loop/Glib.pm line 53.
GLib-CRITICAL **: Source ID 45 was not found when attempting to remove it at /home/cpansand/.cpan/build/2015120721/POE-Loop-Glib-0.038-l65eRs/blib/lib/POE/Loop/Glib.pm line 53.
GLib-CRITICAL **: Source ID 56 was not found when attempting to remove it at /home/cpansand/.cpan/build/2015120721/POE-Loop-Glib-0.038-l65eRs/blib/lib/POE/Loop/Glib.pm line 53.
GLib-CRITICAL **: Source ID 67 was not found when attempting to remove it at /home/cpansand/.cpan/build/2015120721/POE-Loop-Glib-0.038-l65eRs/blib/lib/POE/Loop/Glib.pm line 53.
GLib-CRITICAL **: Source ID 78 was not found when attempting to remove it at /home/cpansand/.cpan/build/2015120721/POE-Loop-Glib-0.038-l65eRs/blib/lib/POE/Loop/Glib.pm line 53.
t/glib/k_signals_rerun.t ............... ok
t/glib/sbk_signal_init.t ............... ok
t/glib/ses_nfa.t ....................... ok
# This test generates some STDERR during trace testing.
=== 93013 === 23 -> _start (from /usr/perl5.18.4p/lib/site_perl/5.18.4/POE/Kernel.pm at 1497)
=== 93013 === 23 -> woot (from /usr/perl5.18.4p/lib/site_perl/5.18.4/POE/Test/Loops/ses_session.pm at 691)
=== 93013 === 23 -> narf (from /usr/perl5.18.4p/lib/site_perl/5.18.4/POE/Test/Loops/ses_session.pm at 692)
=== 93013 === 23 -> _stop (from /usr/perl5.18.4p/lib/site_perl/5.18.4/POE/Resource/Sessions.pm at 571)
t/glib/ses_session.t ................... ok
t/glib/wheel_accept.t .................. ok
t/glib/wheel_curses.t .................. skipped: Need help with Curses functions blocking under ptys
t/glib/wheel_readline.t ................ ok
GLib-CRITICAL **: Source ID 17 was not found when attempting to remove it at /home/cpansand/.cpan/build/2015120721/POE-Loop-Glib-0.038-l65eRs/blib/lib/POE/Loop/Glib.pm line 53.
t/glib/wheel_readwrite.t ............... ok
t/glib/wheel_run.t ..................... ok
GLib-CRITICAL **: Source ID 3 was not found when attempting to remove it at /home/cpansand/.cpan/build/2015120721/POE-Loop-Glib-0.038-l65eRs/blib/lib/POE/Loop/Glib.pm line 53.
t/glib/wheel_run_size.t ................ ok
t/glib/wheel_sf_ipv6.t ................. skipped: Socket::GetAddrInfo is needed for IPv6 tests
GLib-CRITICAL **: Source ID 4 was not found when attempting to remove it at /home/cpansand/.cpan/build/2015120721/POE-Loop-Glib-0.038-l65eRs/blib/lib/POE/Loop/Glib.pm line 53.
t/glib/wheel_sf_tcp.t .................. ok
t/glib/wheel_sf_udp.t .................. ok
GLib-CRITICAL **: Source ID 4 was not found when attempting to remove it at /home/cpansand/.cpan/build/2015120721/POE-Loop-Glib-0.038-l65eRs/blib/lib/POE/Loop/Glib.pm line 53.
t/glib/wheel_sf_unix.t ................. ok
t/glib/wheel_tail.t .................... ok
t/glib/z_kogman_sig_order.t ............ ok
t/glib/z_leolo_wheel_run.t ............. ok
# Using '/usr/bin/true' as our thing to run under system()
t/glib/z_merijn_sigchld_system.t ....... ok
GLib-CRITICAL **: Source ID 6 was not found when attempting to remove it at /home/cpansand/.cpan/build/2015120721/POE-Loop-Glib-0.038-l65eRs/blib/lib/POE/Loop/Glib.pm line 53.
GLib-CRITICAL **: Source ID 17 was not found when attempting to remove it at /home/cpansand/.cpan/build/2015120721/POE-Loop-Glib-0.038-l65eRs/blib/lib/POE/Loop/Glib.pm line 53.
t/glib/z_rt39872_sigchld.t ............. ok
# Parent 93068 waiting 3sec for slow systems to settle.
# sending sigusr1
93079: GLib-CRITICAL **: Source ID 5 was not found when attempting to remove it at /home/cpansand/.cpan/build/2015120721/POE-Loop-Glib-0.038-l65eRs/blib/lib/POE/Loop/Glib.pm line 53.
# sent sigusr1
93068: GLib-CRITICAL **: Source ID 8 was not found when attempting to remove it at /home/cpansand/.cpan/build/2015120721/POE-Loop-Glib-0.038-l65eRs/blib/lib/POE/Loop/Glib.pm line 53.
93080: GLib-CRITICAL **: Source ID 5 was not found when attempting to remove it at /home/cpansand/.cpan/build/2015120721/POE-Loop-Glib-0.038-l65eRs/blib/lib/POE/Loop/Glib.pm line 53.
93068: GLib-CRITICAL **: Source ID 13 was not found when attempting to remove it at /home/cpansand/.cpan/build/2015120721/POE-Loop-Glib-0.038-l65eRs/blib/lib/POE/Loop/Glib.pm line 53.
t/glib/z_rt39872_sigchld_stop.t ........ ok
GLib-CRITICAL **: Source ID 14 was not found when attempting to remove it at /home/cpansand/.cpan/build/2015120721/POE-Loop-Glib-0.038-l65eRs/blib/lib/POE/Loop/Glib.pm line 53.
GLib-CRITICAL **: Source ID 34 was not found when attempting to remove it at /home/cpansand/.cpan/build/2015120721/POE-Loop-Glib-0.038-l65eRs/blib/lib/POE/Loop/Glib.pm line 53.
t/glib/z_rt53302_fh_watchers.t ......... ok
t/glib/z_rt54319_bazerka_followtail.t .. ok
t/glib/z_steinert_signal_integrity.t ... ok
All tests successful.
Files=37, Tests=491, 94 wallclock secs ( 0.88 usr 0.41 sys + 23.36 cusr 4.77 csys = 29.41 CPU)
Result: PASS
------------------------------
PREREQUISITES
------------------------------
Prerequisite modules loaded:
requires:
Module Need Have
---------------- ----- --------
Glib 1.222 1.307
perl 5.006 5.018004
POE 1.288 1.367
configure_requires:
Module Need Have
---------------- ----- --------
Module::Build 0.36 0.4214
POE::Test::Loops 1.034 1.360
------------------------------
ENVIRONMENT AND OTHER CONTEXT
------------------------------
Environment variables:
LC_ALL = de_DE.ISO8859-1
PATH = /usr/local/bin:/usr/bin:/bin:/usr/local/sbin:/usr/sbin:/sbin:/home/cpansand/bin/freebsd10.1:/home/cpansand/bin/sh:/home/cpansand/bin:/usr/games:/home/cpansand/devel:/home/eserte/src/srezic-misc/scripts
PERL5LIB =
PERL5OPT =
PERL5_CPANPLUS_IS_RUNNING = 92778
PERL5_CPAN_IS_RUNNING = 92778
PERL5_CPAN_IS_RUNNING_IN_RECURSION = 90192,92778
PERLDOC = -MPod::Perldoc::ToTextOverstrike
PERL_BATCH = yes
PERL_CANARY_STABILITY_NOPROMPT = 1
PERL_CPAN_REPORTER_CONFIG = /var/tmp/cpansmoker-1023/2015120721/cpanreporter_002_config.ini
PERL_EXTUTILS_AUTOINSTALL = --defaultdeps
SHELL = /usr/local/bin/zsh
TERM = screen
TMPDIR = /var/tmp/cpansmoker-1023/2015120721
Perl special variables (and OS-specific diagnostics, for MSWin32):
$^X = /usr/perl5.18.4p/bin/perl5.18.4
$UID/$EUID = 1023 / 1023
$GID = 1023 1023
$EGID = 1023 1023
Perl module toolchain versions installed:
Module Have
------------------- --------
CPAN 2.00
CPAN::Meta 2.150005
Cwd 3.60
ExtUtils::CBuilder 0.280224
ExtUtils::Command 1.17
ExtUtils::Install 1.59
ExtUtils::MakeMaker 7.04
ExtUtils::Manifest 1.70
ExtUtils::ParseXS 3.24
File::Spec 3.60
JSON 2.90
JSON::PP 2.27300
Module::Build 0.4214
Module::Signature 0.79
Parse::CPAN::Meta 1.4417
Test::Harness 3.35
Test::More 1.001014
YAML 1.15
YAML::Syck 1.29
version 0.9912
--
Summary of my perl5 (revision 5 version 18 subversion 4) configuration:
Platform:
osname=freebsd, osvers=10.1-release, archname=amd64-freebsd
uname='freebsd cvrsnica-freebsd-101.herceg.de 10.1-release freebsd 10.1-release #0 r274401: tue nov 11 21:02:49 utc 2014 root@releng1.nyi.freebsd.org:usrobjusrsrcsysgeneric amd64 '
config_args='-ds -e -Dprefix=/usr/perl5.18.4p'
hint=recommended, useposix=true, d_sigaction=define
useithreads=undef, usemultiplicity=undef
useperlio=define, d_sfio=undef, uselargefiles=define, usesocks=undef
use64bitint=define, use64bitall=define, uselongdouble=undef
usemymalloc=n, bincompat5005=undef
Compiler:
cc='cc', ccflags ='-DHAS_FPSETMASK -DHAS_FLOATINGPOINT_H -fno-strict-aliasing -pipe -fstack-protector -I/usr/local/include',
optimize='-O',
cppflags='-DHAS_FPSETMASK -DHAS_FLOATINGPOINT_H -fno-strict-aliasing -pipe -fstack-protector -I/usr/local/include'
ccversion='', gccversion='4.2.1 Compatible FreeBSD Clang 3.4.1 (tags/RELEASE_34/dot1-final 208032)', gccosandvers=''
intsize=4, longsize=8, ptrsize=8, doublesize=8, byteorder=12345678
d_longlong=define, longlongsize=8, d_longdbl=define, longdblsize=16
ivtype='long', ivsize=8, nvtype='double', nvsize=8, Off_t='off_t', lseeksize=8
alignbytes=8, prototype=define
Linker and Libraries:
ld='cc', ldflags ='-pthread -Wl,-E -fstack-protector -L/usr/local/lib'
libpth=/usr/lib /usr/local/lib
libs=-lgdbm -lm -lcrypt -lutil -lc
perllibs=-lm -lcrypt -lutil -lc
libc=, so=so, useshrplib=false, libperl=libperl.a
gnulibc_version=''
Dynamic Linking:
dlsrc=dl_dlopen.xs, dlext=so, d_dlsymun=undef, ccdlflags=' '
cccdlflags='-DPIC -fPIC', lddlflags='-shared -L/usr/local/lib -fstack-protector'
Characteristics of this binary (from libperl):
Compile-time options: HAS_TIMES PERLIO_LAYERS PERL_DONT_CREATE_GVSV
PERL_HASH_FUNC_ONE_AT_A_TIME_HARD PERL_MALLOC_WRAP
PERL_PRESERVE_IVUV PERL_SAWAMPERSAND USE_64_BIT_ALL
USE_64_BIT_INT USE_LARGE_FILES USE_LOCALE
USE_LOCALE_COLLATE USE_LOCALE_CTYPE
USE_LOCALE_NUMERIC USE_PERLIO USE_PERL_ATOF
Built under freebsd
Compiled at Apr 4 2015 13:03:15
%ENV:
PERL5LIB=""
PERL5OPT=""
PERL5_CPANPLUS_IS_RUNNING="92778"
PERL5_CPAN_IS_RUNNING="92778"
PERL5_CPAN_IS_RUNNING_IN_RECURSION="90192,92778"
PERLDOC="-MPod::Perldoc::ToTextOverstrike"
PERL_BATCH="yes"
PERL_CANARY_STABILITY_NOPROMPT="1"
PERL_CPAN_REPORTER_CONFIG="/var/tmp/cpansmoker-1023/2015120721/cpanreporter_002_config.ini"
PERL_EXTUTILS_AUTOINSTALL="--defaultdeps"
@INC:
/usr/perl5.18.4p/lib/site_perl/5.18.4/amd64-freebsd
/usr/perl5.18.4p/lib/site_perl/5.18.4
/usr/perl5.18.4p/lib/5.18.4/amd64-freebsd
/usr/perl5.18.4p/lib/5.18.4
.