ExtUtils-MakeMaker v7.74 Perl 5 v5.22.4 darwin-2level
- Status
- Pass
- From
- Stanislaw Pusep
- Dist
-
ExtUtils-MakeMaker v7.74
- Platform
- Perl 5 v5.22.4 darwin-2level
- Date
- 2025-04-13 07:11:37
- ID
- 8a7f7d10-1836-11f0-828d-f17dba04b80c
This distribution has been tested as part of the CPAN Testers
project, supporting the Perl programming language. See
http://wiki.cpantesters.org/ for more information or email
questions to cpan-testers-discuss@perl.org
--
Dear BINGOS,
This is a computer-generated report for ExtUtils-MakeMaker-7.74
on perl 5.22.4, created by App::cpanminus::reporter 0.22 (1.7047).
Thank you for uploading your work to CPAN. Congratulations!
All tests were successful.
Sections of this report:
* Tester comments
* Program output
* Prerequisites
* Environment and other context
------------------------------
TESTER COMMENTS
------------------------------
Additional comments from tester:
none provided
------------------------------
PROGRAM OUTPUT
------------------------------
Output from '':
Building and testing ExtUtils-MakeMaker-7.74
cp lib/ExtUtils/MM_Cygwin.pm blib/lib/ExtUtils/MM_Cygwin.pm
cp lib/ExtUtils/MM_AIX.pm blib/lib/ExtUtils/MM_AIX.pm
cp lib/ExtUtils/Mksymlists.pm blib/lib/ExtUtils/Mksymlists.pm
cp lib/ExtUtils/MM_QNX.pm blib/lib/ExtUtils/MM_QNX.pm
cp lib/ExtUtils/MM_DOS.pm blib/lib/ExtUtils/MM_DOS.pm
cp lib/ExtUtils/MM_VOS.pm blib/lib/ExtUtils/MM_VOS.pm
cp lib/ExtUtils/Liblist/Kid.pm blib/lib/ExtUtils/Liblist/Kid.pm
cp lib/ExtUtils/MM_Unix.pm blib/lib/ExtUtils/MM_Unix.pm
cp lib/ExtUtils/Liblist.pm blib/lib/ExtUtils/Liblist.pm
cp lib/ExtUtils/MakeMaker/Config.pm blib/lib/ExtUtils/MakeMaker/Config.pm
cp lib/ExtUtils/MakeMaker/version.pm blib/lib/ExtUtils/MakeMaker/version.pm
cp lib/ExtUtils/MM_Win95.pm blib/lib/ExtUtils/MM_Win95.pm
cp lib/ExtUtils/MY.pm blib/lib/ExtUtils/MY.pm
cp lib/ExtUtils/MM_BeOS.pm blib/lib/ExtUtils/MM_BeOS.pm
cp lib/ExtUtils/MM_UWIN.pm blib/lib/ExtUtils/MM_UWIN.pm
cp lib/ExtUtils/Mkbootstrap.pm blib/lib/ExtUtils/Mkbootstrap.pm
cp lib/ExtUtils/MM_MacOS.pm blib/lib/ExtUtils/MM_MacOS.pm
cp lib/ExtUtils/MM_VMS.pm blib/lib/ExtUtils/MM_VMS.pm
cp lib/ExtUtils/MM_OS390.pm blib/lib/ExtUtils/MM_OS390.pm
cp lib/ExtUtils/MakeMaker/Locale.pm blib/lib/ExtUtils/MakeMaker/Locale.pm
cp lib/ExtUtils/MM_Win32.pm blib/lib/ExtUtils/MM_Win32.pm
cp lib/ExtUtils/MM_OS2.pm blib/lib/ExtUtils/MM_OS2.pm
cp lib/ExtUtils/MM_NW5.pm blib/lib/ExtUtils/MM_NW5.pm
cp lib/ExtUtils/testlib.pm blib/lib/ExtUtils/testlib.pm
cp lib/ExtUtils/MM_Any.pm blib/lib/ExtUtils/MM_Any.pm
cp lib/ExtUtils/MakeMaker/Tutorial.pod blib/lib/ExtUtils/MakeMaker/Tutorial.pod
cp lib/ExtUtils/Command.pm blib/lib/ExtUtils/Command.pm
cp lib/ExtUtils/MakeMaker/version/vpp.pm blib/lib/ExtUtils/MakeMaker/version/vpp.pm
cp lib/ExtUtils/Command/MM.pm blib/lib/ExtUtils/Command/MM.pm
cp lib/ExtUtils/MakeMaker.pm blib/lib/ExtUtils/MakeMaker.pm
cp lib/ExtUtils/MM.pm blib/lib/ExtUtils/MM.pm
cp lib/ExtUtils/MakeMaker/FAQ.pod blib/lib/ExtUtils/MakeMaker/FAQ.pod
cp lib/ExtUtils/MM_Darwin.pm blib/lib/ExtUtils/MM_Darwin.pm
cp lib/ExtUtils/MakeMaker/version/regex.pm blib/lib/ExtUtils/MakeMaker/version/regex.pm
cp bin/instmodsh blib/script/instmodsh
"/Users/stan/perl5/perlbrew/perls/perl-5.22.4/bin/perl" "-Iblib/arch" "-Iblib/lib" -MExtUtils::MY -e 'MY->fixin(shift)' -- blib/script/instmodsh
Manifying 1 pod document
Manifying 30 pod documents
PERL_DL_NONLAZY=1 "/Users/stan/perl5/perlbrew/perls/perl-5.22.4/bin/perl" "-Iblib/arch" "-Iblib/lib" "-MExtUtils::Command::MM" "-MTest::Harness" "-e" "undef *Test::Harness::Switches; test_harness(0, 'blib/lib', 'blib/arch')" t/*.t
t/00compile.t ............. ok
t/01perl_bugs.t ........... ok
t/02-xsdynamic.t .......... ok
t/03-xsstatic.t ........... skipped: darwin
Warning: -L./mylib changed to -L/Users/stan/.cpanm/work/1744528237.27500/ExtUtils-MakeMaker-7.74/t/VGBfco_UEB/./mylib
In file included from Module.xs:2:
In file included from /Users/stan/perl5/perlbrew/perls/perl-5.22.4/lib/5.22.4/darwin-2level/CORE/perl.h:3740:
In file included from /Users/stan/perl5/perlbrew/perls/perl-5.22.4/lib/5.22.4/darwin-2level/CORE/hv.h:629:
/Users/stan/perl5/perlbrew/perls/perl-5.22.4/lib/5.22.4/darwin-2level/CORE/hv_func.h:405:7: warning: '(' and '{' tokens introducing statement expression appear in different macro expansion contexts [-Wcompound-token-split-by-macro]
MURMUR_DOBYTES((int)i, h1, carry, bytes_in_carry, ptr, len);
^~~~~~~~~~~~~~~~~~~~~~~~~~~~~~~~~~~~~~~~~~~~~~~~~~~~~~~~~~~
/Users/stan/perl5/perlbrew/perls/perl-5.22.4/lib/5.22.4/darwin-2level/CORE/hv_func.h:360:49: note: expanded from macro 'MURMUR_DOBYTES'
#define MURMUR_DOBYTES(cnt, h1, c, n, ptr, len) STMT_START { \
^~~~~~~~~~
/Users/stan/perl5/perlbrew/perls/perl-5.22.4/lib/5.22.4/darwin-2level/CORE/perl.h:534:29: note: expanded from macro 'STMT_START'
# define STMT_START (void)( /* gcc supports "({ STATEMENTS; })" */
^
/Users/stan/perl5/perlbrew/perls/perl-5.22.4/lib/5.22.4/darwin-2level/CORE/hv_func.h:405:7: note: '{' token is here
MURMUR_DOBYTES((int)i, h1, carry, bytes_in_carry, ptr, len);
^~~~~~~~~~~~~~~~~~~~~~~~~~~~~~~~~~~~~~~~~~~~~~~~~~~~~~~~~~~
/Users/stan/perl5/perlbrew/perls/perl-5.22.4/lib/5.22.4/darwin-2level/CORE/hv_func.h:360:60: note: expanded from macro 'MURMUR_DOBYTES'
#define MURMUR_DOBYTES(cnt, h1, c, n, ptr, len) STMT_START { \
^
/Users/stan/perl5/perlbrew/perls/perl-5.22.4/lib/5.22.4/darwin-2level/CORE/hv_func.h:405:7: warning: '(' and '{' tokens introducing statement expression appear in different macro expansion contexts [-Wcompound-token-split-by-macro]
MURMUR_DOBYTES((int)i, h1, carry, bytes_in_carry, ptr, len);
^~~~~~~~~~~~~~~~~~~~~~~~~~~~~~~~~~~~~~~~~~~~~~~~~~~~~~~~~~~
/Users/stan/perl5/perlbrew/perls/perl-5.22.4/lib/5.22.4/darwin-2level/CORE/hv_func.h:366:13: note: expanded from macro 'MURMUR_DOBYTES'
MURMUR_DOBLOCK(h1, c); \
^~~~~~~~~~~~~~~~~~~~~
/Users/stan/perl5/perlbrew/perls/perl-5.22.4/lib/5.22.4/darwin-2level/CORE/hv_func.h:347:32: note: expanded from macro 'MURMUR_DOBLOCK'
#define MURMUR_DOBLOCK(h1, k1) STMT_START { \
^~~~~~~~~~
/Users/stan/perl5/perlbrew/perls/perl-5.22.4/lib/5.22.4/darwin-2level/CORE/perl.h:534:29: note: expanded from macro 'STMT_START'
# define STMT_START (void)( /* gcc supports "({ STATEMENTS; })" */
^
/Users/stan/perl5/perlbrew/perls/perl-5.22.4/lib/5.22.4/darwin-2level/CORE/hv_func.h:405:7: note: '{' token is here
MURMUR_DOBYTES((int)i, h1, carry, bytes_in_carry, ptr, len);
^~~~~~~~~~~~~~~~~~~~~~~~~~~~~~~~~~~~~~~~~~~~~~~~~~~~~~~~~~~
/Users/stan/perl5/perlbrew/perls/perl-5.22.4/lib/5.22.4/darwin-2level/CORE/hv_func.h:366:13: note: expanded from macro 'MURMUR_DOBYTES'
MURMUR_DOBLOCK(h1, c); \
^~~~~~~~~~~~~~~~~~~~~
/Users/stan/perl5/perlbrew/perls/perl-5.22.4/lib/5.22.4/darwin-2level/CORE/hv_func.h:347:43: note: expanded from macro 'MURMUR_DOBLOCK'
#define MURMUR_DOBLOCK(h1, k1) STMT_START { \
^
/Users/stan/perl5/perlbrew/perls/perl-5.22.4/lib/5.22.4/darwin-2level/CORE/hv_func.h:405:7: warning: '}' and ')' tokens terminating statement expression appear in different macro expansion contexts [-Wcompound-token-split-by-macro]
MURMUR_DOBYTES((int)i, h1, carry, bytes_in_carry, ptr, len);
^~~~~~~~~~~~~~~~~~~~~~~~~~~~~~~~~~~~~~~~~~~~~~~~~~~~~~~~~~~
/Users/stan/perl5/perlbrew/perls/perl-5.22.4/lib/5.22.4/darwin-2level/CORE/hv_func.h:366:13: note: expanded from macro 'MURMUR_DOBYTES'
MURMUR_DOBLOCK(h1, c); \
^~~~~~~~~~~~~~~~~~~~~
/Users/stan/perl5/perlbrew/perls/perl-5.22.4/lib/5.22.4/darwin-2level/CORE/hv_func.h:354:30: note: expanded from macro 'MURMUR_DOBLOCK'
h1 = h1 * 5 + MURMUR_C3; \
^
/Users/stan/perl5/perlbrew/perls/perl-5.22.4/lib/5.22.4/darwin-2level/CORE/hv_func.h:405:7: note: ')' token is here
MURMUR_DOBYTES((int)i, h1, carry, bytes_in_carry, ptr, len);
^~~~~~~~~~~~~~~~~~~~~~~~~~~~~~~~~~~~~~~~~~~~~~~~~~~~~~~~~~~
/Users/stan/perl5/perlbrew/perls/perl-5.22.4/lib/5.22.4/darwin-2level/CORE/hv_func.h:366:13: note: expanded from macro 'MURMUR_DOBYTES'
MURMUR_DOBLOCK(h1, c); \
^~~~~~~~~~~~~~~~~~~~~
/Users/stan/perl5/perlbrew/perls/perl-5.22.4/lib/5.22.4/darwin-2level/CORE/hv_func.h:355:3: note: expanded from macro 'MURMUR_DOBLOCK'
} STMT_END
^~~~~~~~
/Users/stan/perl5/perlbrew/perls/perl-5.22.4/lib/5.22.4/darwin-2level/CORE/perl.h:535:21: note: expanded from macro 'STMT_END'
# define STMT_END )
^
In file included from Module.xs:2:
In file included from /Users/stan/perl5/perlbrew/perls/perl-5.22.4/lib/5.22.4/darwin-2level/CORE/perl.h:3740:
In file included from /Users/stan/perl5/perlbrew/perls/perl-5.22.4/lib/5.22.4/darwin-2level/CORE/hv.h:629:
/Users/stan/perl5/perlbrew/perls/perl-5.22.4/lib/5.22.4/darwin-2level/CORE/hv_func.h:405:7: warning: '}' and ')' tokens terminating statement expression appear in different macro expansion contexts [-Wcompound-token-split-by-macro]
MURMUR_DOBYTES((int)i, h1, carry, bytes_in_carry, ptr, len);
^~~~~~~~~~~~~~~~~~~~~~~~~~~~~~~~~~~~~~~~~~~~~~~~~~~~~~~~~~~
/Users/stan/perl5/perlbrew/perls/perl-5.22.4/lib/5.22.4/darwin-2level/CORE/hv_func.h:369:7: note: expanded from macro 'MURMUR_DOBYTES'
} \
^
/Users/stan/perl5/perlbrew/perls/perl-5.22.4/lib/5.22.4/darwin-2level/CORE/hv_func.h:405:7: note: ')' token is here
MURMUR_DOBYTES((int)i, h1, carry, bytes_in_carry, ptr, len);
^~~~~~~~~~~~~~~~~~~~~~~~~~~~~~~~~~~~~~~~~~~~~~~~~~~~~~~~~~~
/Users/stan/perl5/perlbrew/perls/perl-5.22.4/lib/5.22.4/darwin-2level/CORE/hv_func.h:370:3: note: expanded from macro 'MURMUR_DOBYTES'
} STMT_END
^~~~~~~~
/Users/stan/perl5/perlbrew/perls/perl-5.22.4/lib/5.22.4/darwin-2level/CORE/perl.h:535:21: note: expanded from macro 'STMT_END'
# define STMT_END )
^
In file included from Module.xs:2:
In file included from /Users/stan/perl5/perlbrew/perls/perl-5.22.4/lib/5.22.4/darwin-2level/CORE/perl.h:3740:
In file included from /Users/stan/perl5/perlbrew/perls/perl-5.22.4/lib/5.22.4/darwin-2level/CORE/hv.h:629:
/Users/stan/perl5/perlbrew/perls/perl-5.22.4/lib/5.22.4/darwin-2level/CORE/hv_func.h:414:13: warning: '(' and '{' tokens introducing statement expression appear in different macro expansion contexts [-Wcompound-token-split-by-macro]
MURMUR_DOBLOCK(h1, k1);
^~~~~~~~~~~~~~~~~~~~~~
/Users/stan/perl5/perlbrew/perls/perl-5.22.4/lib/5.22.4/darwin-2level/CORE/hv_func.h:347:32: note: expanded from macro 'MURMUR_DOBLOCK'
#define MURMUR_DOBLOCK(h1, k1) STMT_START { \
^~~~~~~~~~
/Users/stan/perl5/perlbrew/perls/perl-5.22.4/lib/5.22.4/darwin-2level/CORE/perl.h:534:29: note: expanded from macro 'STMT_START'
# define STMT_START (void)( /* gcc supports "({ STATEMENTS; })" */
^
/Users/stan/perl5/perlbrew/perls/perl-5.22.4/lib/5.22.4/darwin-2level/CORE/hv_func.h:414:13: note: '{' token is here
MURMUR_DOBLOCK(h1, k1);
^~~~~~~~~~~~~~~~~~~~~~
/Users/stan/perl5/perlbrew/perls/perl-5.22.4/lib/5.22.4/darwin-2level/CORE/hv_func.h:347:43: note: expanded from macro 'MURMUR_DOBLOCK'
#define MURMUR_DOBLOCK(h1, k1) STMT_START { \
^
/Users/stan/perl5/perlbrew/perls/perl-5.22.4/lib/5.22.4/darwin-2level/CORE/hv_func.h:414:13: warning: '}' and ')' tokens terminating statement expression appear in different macro expansion contexts [-Wcompound-token-split-by-macro]
MURMUR_DOBLOCK(h1, k1);
^~~~~~~~~~~~~~~~~~~~~~
/Users/stan/perl5/perlbrew/perls/perl-5.22.4/lib/5.22.4/darwin-2level/CORE/hv_func.h:354:30: note: expanded from macro 'MURMUR_DOBLOCK'
h1 = h1 * 5 + MURMUR_C3; \
^
/Users/stan/perl5/perlbrew/perls/perl-5.22.4/lib/5.22.4/darwin-2level/CORE/hv_func.h:414:13: note: ')' token is here
MURMUR_DOBLOCK(h1, k1);
^~~~~~~~~~~~~~~~~~~~~~
/Users/stan/perl5/perlbrew/perls/perl-5.22.4/lib/5.22.4/darwin-2level/CORE/hv_func.h:355:3: note: expanded from macro 'MURMUR_DOBLOCK'
} STMT_END
^~~~~~~~
/Users/stan/perl5/perlbrew/perls/perl-5.22.4/lib/5.22.4/darwin-2level/CORE/perl.h:535:21: note: expanded from macro 'STMT_END'
# define STMT_END )
^
In file included from Module.xs:2:
In file included from /Users/stan/perl5/perlbrew/perls/perl-5.22.4/lib/5.22.4/darwin-2level/CORE/perl.h:3740:
In file included from /Users/stan/perl5/perlbrew/perls/perl-5.22.4/lib/5.22.4/darwin-2level/CORE/hv.h:629:
/Users/stan/perl5/perlbrew/perls/perl-5.22.4/lib/5.22.4/darwin-2level/CORE/hv_func.h:422:13: warning: '(' and '{' tokens introducing statement expression appear in different macro expansion contexts [-Wcompound-token-split-by-macro]
MURMUR_DOBLOCK(h1, k1);
^~~~~~~~~~~~~~~~~~~~~~
/Users/stan/perl5/perlbrew/perls/perl-5.22.4/lib/5.22.4/darwin-2level/CORE/hv_func.h:347:32: note: expanded from macro 'MURMUR_DOBLOCK'
#define MURMUR_DOBLOCK(h1, k1) STMT_START { \
^~~~~~~~~~
/Users/stan/perl5/perlbrew/perls/perl-5.22.4/lib/5.22.4/darwin-2level/CORE/perl.h:534:29: note: expanded from macro 'STMT_START'
# define STMT_START (void)( /* gcc supports "({ STATEMENTS; })" */
^
/Users/stan/perl5/perlbrew/perls/perl-5.22.4/lib/5.22.4/darwin-2level/CORE/hv_func.h:422:13: note: '{' token is here
MURMUR_DOBLOCK(h1, k1);
^~~~~~~~~~~~~~~~~~~~~~
/Users/stan/perl5/perlbrew/perls/perl-5.22.4/lib/5.22.4/darwin-2level/CORE/hv_func.h:347:43: note: expanded from macro 'MURMUR_DOBLOCK'
#define MURMUR_DOBLOCK(h1, k1) STMT_START { \
^
/Users/stan/perl5/perlbrew/perls/perl-5.22.4/lib/5.22.4/darwin-2level/CORE/hv_func.h:422:13: warning: '}' and ')' tokens terminating statement expression appear in different macro expansion contexts [-Wcompound-token-split-by-macro]
MURMUR_DOBLOCK(h1, k1);
^~~~~~~~~~~~~~~~~~~~~~
/Users/stan/perl5/perlbrew/perls/perl-5.22.4/lib/5.22.4/darwin-2level/CORE/hv_func.h:354:30: note: expanded from macro 'MURMUR_DOBLOCK'
h1 = h1 * 5 + MURMUR_C3; \
^
/Users/stan/perl5/perlbrew/perls/perl-5.22.4/lib/5.22.4/darwin-2level/CORE/hv_func.h:422:13: note: ')' token is here
MURMUR_DOBLOCK(h1, k1);
^~~~~~~~~~~~~~~~~~~~~~
/Users/stan/perl5/perlbrew/perls/perl-5.22.4/lib/5.22.4/darwin-2level/CORE/hv_func.h:355:3: note: expanded from macro 'MURMUR_DOBLOCK'
} STMT_END
^~~~~~~~
/Users/stan/perl5/perlbrew/perls/perl-5.22.4/lib/5.22.4/darwin-2level/CORE/perl.h:535:21: note: expanded from macro 'STMT_END'
# define STMT_END )
^
In file included from Module.xs:2:
In file included from /Users/stan/perl5/perlbrew/perls/perl-5.22.4/lib/5.22.4/darwin-2level/CORE/perl.h:3740:
In file included from /Users/stan/perl5/perlbrew/perls/perl-5.22.4/lib/5.22.4/darwin-2level/CORE/hv.h:629:
/Users/stan/perl5/perlbrew/perls/perl-5.22.4/lib/5.22.4/darwin-2level/CORE/hv_func.h:430:13: warning: '(' and '{' tokens introducing statement expression appear in different macro expansion contexts [-Wcompound-token-split-by-macro]
MURMUR_DOBLOCK(h1, k1);
^~~~~~~~~~~~~~~~~~~~~~
/Users/stan/perl5/perlbrew/perls/perl-5.22.4/lib/5.22.4/darwin-2level/CORE/hv_func.h:347:32: note: expanded from macro 'MURMUR_DOBLOCK'
#define MURMUR_DOBLOCK(h1, k1) STMT_START { \
^~~~~~~~~~
/Users/stan/perl5/perlbrew/perls/perl-5.22.4/lib/5.22.4/darwin-2level/CORE/perl.h:534:29: note: expanded from macro 'STMT_START'
# define STMT_START (void)( /* gcc supports "({ STATEMENTS; })" */
^
/Users/stan/perl5/perlbrew/perls/perl-5.22.4/lib/5.22.4/darwin-2level/CORE/hv_func.h:430:13: note: '{' token is here
MURMUR_DOBLOCK(h1, k1);
^~~~~~~~~~~~~~~~~~~~~~
/Users/stan/perl5/perlbrew/perls/perl-5.22.4/lib/5.22.4/darwin-2level/CORE/hv_func.h:347:43: note: expanded from macro 'MURMUR_DOBLOCK'
#define MURMUR_DOBLOCK(h1, k1) STMT_START { \
^
/Users/stan/perl5/perlbrew/perls/perl-5.22.4/lib/5.22.4/darwin-2level/CORE/hv_func.h:430:13: warning: '}' and ')' tokens terminating statement expression appear in different macro expansion contexts [-Wcompound-token-split-by-macro]
MURMUR_DOBLOCK(h1, k1);
^~~~~~~~~~~~~~~~~~~~~~
/Users/stan/perl5/perlbrew/perls/perl-5.22.4/lib/5.22.4/darwin-2level/CORE/hv_func.h:354:30: note: expanded from macro 'MURMUR_DOBLOCK'
h1 = h1 * 5 + MURMUR_C3; \
^
/Users/stan/perl5/perlbrew/perls/perl-5.22.4/lib/5.22.4/darwin-2level/CORE/hv_func.h:430:13: note: ')' token is here
MURMUR_DOBLOCK(h1, k1);
^~~~~~~~~~~~~~~~~~~~~~
/Users/stan/perl5/perlbrew/perls/perl-5.22.4/lib/5.22.4/darwin-2level/CORE/hv_func.h:355:3: note: expanded from macro 'MURMUR_DOBLOCK'
} STMT_END
^~~~~~~~
/Users/stan/perl5/perlbrew/perls/perl-5.22.4/lib/5.22.4/darwin-2level/CORE/perl.h:535:21: note: expanded from macro 'STMT_END'
# define STMT_END )
^
In file included from Module.xs:2:
In file included from /Users/stan/perl5/perlbrew/perls/perl-5.22.4/lib/5.22.4/darwin-2level/CORE/perl.h:3740:
In file included from /Users/stan/perl5/perlbrew/perls/perl-5.22.4/lib/5.22.4/darwin-2level/CORE/hv.h:629:
/Users/stan/perl5/perlbrew/perls/perl-5.22.4/lib/5.22.4/darwin-2level/CORE/hv_func.h:438:13: warning: '(' and '{' tokens introducing statement expression appear in different macro expansion contexts [-Wcompound-token-split-by-macro]
MURMUR_DOBLOCK(h1, k1);
^~~~~~~~~~~~~~~~~~~~~~
/Users/stan/perl5/perlbrew/perls/perl-5.22.4/lib/5.22.4/darwin-2level/CORE/hv_func.h:347:32: note: expanded from macro 'MURMUR_DOBLOCK'
#define MURMUR_DOBLOCK(h1, k1) STMT_START { \
^~~~~~~~~~
/Users/stan/perl5/perlbrew/perls/perl-5.22.4/lib/5.22.4/darwin-2level/CORE/perl.h:534:29: note: expanded from macro 'STMT_START'
# define STMT_START (void)( /* gcc supports "({ STATEMENTS; })" */
^
/Users/stan/perl5/perlbrew/perls/perl-5.22.4/lib/5.22.4/darwin-2level/CORE/hv_func.h:438:13: note: '{' token is here
MURMUR_DOBLOCK(h1, k1);
^~~~~~~~~~~~~~~~~~~~~~
/Users/stan/perl5/perlbrew/perls/perl-5.22.4/lib/5.22.4/darwin-2level/CORE/hv_func.h:347:43: note: expanded from macro 'MURMUR_DOBLOCK'
#define MURMUR_DOBLOCK(h1, k1) STMT_START { \
^
/Users/stan/perl5/perlbrew/perls/perl-5.22.4/lib/5.22.4/darwin-2level/CORE/hv_func.h:438:13: warning: '}' and ')' tokens terminating statement expression appear in different macro expansion contexts [-Wcompound-token-split-by-macro]
MURMUR_DOBLOCK(h1, k1);
^~~~~~~~~~~~~~~~~~~~~~
/Users/stan/perl5/perlbrew/perls/perl-5.22.4/lib/5.22.4/darwin-2level/CORE/hv_func.h:354:30: note: expanded from macro 'MURMUR_DOBLOCK'
h1 = h1 * 5 + MURMUR_C3; \
^
/Users/stan/perl5/perlbrew/perls/perl-5.22.4/lib/5.22.4/darwin-2level/CORE/hv_func.h:438:13: note: ')' token is here
MURMUR_DOBLOCK(h1, k1);
^~~~~~~~~~~~~~~~~~~~~~
/Users/stan/perl5/perlbrew/perls/perl-5.22.4/lib/5.22.4/darwin-2level/CORE/hv_func.h:355:3: note: expanded from macro 'MURMUR_DOBLOCK'
} STMT_END
^~~~~~~~
/Users/stan/perl5/perlbrew/perls/perl-5.22.4/lib/5.22.4/darwin-2level/CORE/perl.h:535:21: note: expanded from macro 'STMT_END'
# define STMT_END )
^
In file included from Module.xs:2:
In file included from /Users/stan/perl5/perlbrew/perls/perl-5.22.4/lib/5.22.4/darwin-2level/CORE/perl.h:3740:
In file included from /Users/stan/perl5/perlbrew/perls/perl-5.22.4/lib/5.22.4/darwin-2level/CORE/hv.h:629:
/Users/stan/perl5/perlbrew/perls/perl-5.22.4/lib/5.22.4/darwin-2level/CORE/hv_func.h:446:5: warning: '(' and '{' tokens introducing statement expression appear in different macro expansion contexts [-Wcompound-token-split-by-macro]
MURMUR_DOBYTES((int)len, h1, carry, bytes_in_carry, ptr, len);
^~~~~~~~~~~~~~~~~~~~~~~~~~~~~~~~~~~~~~~~~~~~~~~~~~~~~~~~~~~~~
/Users/stan/perl5/perlbrew/perls/perl-5.22.4/lib/5.22.4/darwin-2level/CORE/hv_func.h:360:49: note: expanded from macro 'MURMUR_DOBYTES'
#define MURMUR_DOBYTES(cnt, h1, c, n, ptr, len) STMT_START { \
^~~~~~~~~~
/Users/stan/perl5/perlbrew/perls/perl-5.22.4/lib/5.22.4/darwin-2level/CORE/perl.h:534:29: note: expanded from macro 'STMT_START'
# define STMT_START (void)( /* gcc supports "({ STATEMENTS; })" */
^
/Users/stan/perl5/perlbrew/perls/perl-5.22.4/lib/5.22.4/darwin-2level/CORE/hv_func.h:446:5: note: '{' token is here
MURMUR_DOBYTES((int)len, h1, carry, bytes_in_carry, ptr, len);
^~~~~~~~~~~~~~~~~~~~~~~~~~~~~~~~~~~~~~~~~~~~~~~~~~~~~~~~~~~~~
/Users/stan/perl5/perlbrew/perls/perl-5.22.4/lib/5.22.4/darwin-2level/CORE/hv_func.h:360:60: note: expanded from macro 'MURMUR_DOBYTES'
#define MURMUR_DOBYTES(cnt, h1, c, n, ptr, len) STMT_START { \
^
/Users/stan/perl5/perlbrew/perls/perl-5.22.4/lib/5.22.4/darwin-2level/CORE/hv_func.h:446:5: warning: '(' and '{' tokens introducing statement expression appear in different macro expansion contexts [-Wcompound-token-split-by-macro]
MURMUR_DOBYTES((int)len, h1, carry, bytes_in_carry, ptr, len);
^~~~~~~~~~~~~~~~~~~~~~~~~~~~~~~~~~~~~~~~~~~~~~~~~~~~~~~~~~~~~
/Users/stan/perl5/perlbrew/perls/perl-5.22.4/lib/5.22.4/darwin-2level/CORE/hv_func.h:366:13: note: expanded from macro 'MURMUR_DOBYTES'
MURMUR_DOBLOCK(h1, c); \
^~~~~~~~~~~~~~~~~~~~~
/Users/stan/perl5/perlbrew/perls/perl-5.22.4/lib/5.22.4/darwin-2level/CORE/hv_func.h:347:32: note: expanded from macro 'MURMUR_DOBLOCK'
#define MURMUR_DOBLOCK(h1, k1) STMT_START { \
^~~~~~~~~~
/Users/stan/perl5/perlbrew/perls/perl-5.22.4/lib/5.22.4/darwin-2level/CORE/perl.h:534:29: note: expanded from macro 'STMT_START'
# define STMT_START (void)( /* gcc supports "({ STATEMENTS; })" */
^
/Users/stan/perl5/perlbrew/perls/perl-5.22.4/lib/5.22.4/darwin-2level/CORE/hv_func.h:446:5: note: '{' token is here
MURMUR_DOBYTES((int)len, h1, carry, bytes_in_carry, ptr, len);
^~~~~~~~~~~~~~~~~~~~~~~~~~~~~~~~~~~~~~~~~~~~~~~~~~~~~~~~~~~~~
/Users/stan/perl5/perlbrew/perls/perl-5.22.4/lib/5.22.4/darwin-2level/CORE/hv_func.h:366:13: note: expanded from macro 'MURMUR_DOBYTES'
MURMUR_DOBLOCK(h1, c); \
^~~~~~~~~~~~~~~~~~~~~
/Users/stan/perl5/perlbrew/perls/perl-5.22.4/lib/5.22.4/darwin-2level/CORE/hv_func.h:347:43: note: expanded from macro 'MURMUR_DOBLOCK'
#define MURMUR_DOBLOCK(h1, k1) STMT_START { \
^
/Users/stan/perl5/perlbrew/perls/perl-5.22.4/lib/5.22.4/darwin-2level/CORE/hv_func.h:446:5: warning: '}' and ')' tokens terminating statement expression appear in different macro expansion contexts [-Wcompound-token-split-by-macro]
MURMUR_DOBYTES((int)len, h1, carry, bytes_in_carry, ptr, len);
^~~~~~~~~~~~~~~~~~~~~~~~~~~~~~~~~~~~~~~~~~~~~~~~~~~~~~~~~~~~~
/Users/stan/perl5/perlbrew/perls/perl-5.22.4/lib/5.22.4/darwin-2level/CORE/hv_func.h:366:13: note: expanded from macro 'MURMUR_DOBYTES'
MURMUR_DOBLOCK(h1, c); \
^~~~~~~~~~~~~~~~~~~~~
/Users/stan/perl5/perlbrew/perls/perl-5.22.4/lib/5.22.4/darwin-2level/CORE/hv_func.h:354:30: note: expanded from macro 'MURMUR_DOBLOCK'
h1 = h1 * 5 + MURMUR_C3; \
^
/Users/stan/perl5/perlbrew/perls/perl-5.22.4/lib/5.22.4/darwin-2level/CORE/hv_func.h:446:5: note: ')' token is here
MURMUR_DOBYTES((int)len, h1, carry, bytes_in_carry, ptr, len);
^~~~~~~~~~~~~~~~~~~~~~~~~~~~~~~~~~~~~~~~~~~~~~~~~~~~~~~~~~~~~
/Users/stan/perl5/perlbrew/perls/perl-5.22.4/lib/5.22.4/darwin-2level/CORE/hv_func.h:366:13: note: expanded from macro 'MURMUR_DOBYTES'
MURMUR_DOBLOCK(h1, c); \
^~~~~~~~~~~~~~~~~~~~~
/Users/stan/perl5/perlbrew/perls/perl-5.22.4/lib/5.22.4/darwin-2level/CORE/hv_func.h:355:3: note: expanded from macro 'MURMUR_DOBLOCK'
} STMT_END
^~~~~~~~
/Users/stan/perl5/perlbrew/perls/perl-5.22.4/lib/5.22.4/darwin-2level/CORE/perl.h:535:21: note: expanded from macro 'STMT_END'
# define STMT_END )
^
In file included from Module.xs:2:
In file included from /Users/stan/perl5/perlbrew/perls/perl-5.22.4/lib/5.22.4/darwin-2level/CORE/perl.h:3740:
In file included from /Users/stan/perl5/perlbrew/perls/perl-5.22.4/lib/5.22.4/darwin-2level/CORE/hv.h:629:
/Users/stan/perl5/perlbrew/perls/perl-5.22.4/lib/5.22.4/darwin-2level/CORE/hv_func.h:446:5: warning: '}' and ')' tokens terminating statement expression appear in different macro expansion contexts [-Wcompound-token-split-by-macro]
MURMUR_DOBYTES((int)len, h1, carry, bytes_in_carry, ptr, len);
^~~~~~~~~~~~~~~~~~~~~~~~~~~~~~~~~~~~~~~~~~~~~~~~~~~~~~~~~~~~~
/Users/stan/perl5/perlbrew/perls/perl-5.22.4/lib/5.22.4/darwin-2level/CORE/hv_func.h:369:7: note: expanded from macro 'MURMUR_DOBYTES'
} \
^
/Users/stan/perl5/perlbrew/perls/perl-5.22.4/lib/5.22.4/darwin-2level/CORE/hv_func.h:446:5: note: ')' token is here
MURMUR_DOBYTES((int)len, h1, carry, bytes_in_carry, ptr, len);
^~~~~~~~~~~~~~~~~~~~~~~~~~~~~~~~~~~~~~~~~~~~~~~~~~~~~~~~~~~~~
/Users/stan/perl5/perlbrew/perls/perl-5.22.4/lib/5.22.4/darwin-2level/CORE/hv_func.h:370:3: note: expanded from macro 'MURMUR_DOBYTES'
} STMT_END
^~~~~~~~
/Users/stan/perl5/perlbrew/perls/perl-5.22.4/lib/5.22.4/darwin-2level/CORE/perl.h:535:21: note: expanded from macro 'STMT_END'
# define STMT_END )
^
Module.c:173:5: warning: '(' and '{' tokens introducing statement expression appear in different macro expansion contexts [-Wcompound-token-split-by-macro]
XSRETURN_EMPTY;
^~~~~~~~~~~~~~
/Users/stan/perl5/perlbrew/perls/perl-5.22.4/lib/5.22.4/darwin-2level/CORE/XSUB.h:340:24: note: expanded from macro 'XSRETURN_EMPTY'
#define XSRETURN_EMPTY STMT_START { XSRETURN(0); } STMT_END
^~~~~~~~~~
/Users/stan/perl5/perlbrew/perls/perl-5.22.4/lib/5.22.4/darwin-2level/CORE/perl.h:534:29: note: expanded from macro 'STMT_START'
# define STMT_START (void)( /* gcc supports "({ STATEMENTS; })" */
^
Module.c:173:5: note: '{' token is here
XSRETURN_EMPTY;
^~~~~~~~~~~~~~
/Users/stan/perl5/perlbrew/perls/perl-5.22.4/lib/5.22.4/darwin-2level/CORE/XSUB.h:340:35: note: expanded from macro 'XSRETURN_EMPTY'
#define XSRETURN_EMPTY STMT_START { XSRETURN(0); } STMT_END
^
Module.c:173:5: warning: '(' and '{' tokens introducing statement expression appear in different macro expansion contexts [-Wcompound-token-split-by-macro]
XSRETURN_EMPTY;
^~~~~~~~~~~~~~
/Users/stan/perl5/perlbrew/perls/perl-5.22.4/lib/5.22.4/darwin-2level/CORE/XSUB.h:340:52: note: expanded from macro 'XSRETURN_EMPTY'
#define XSRETURN_EMPTY STMT_START { XSRETURN(0); } STMT_END
^~~~~~~~~~~
/Users/stan/perl5/perlbrew/perls/perl-5.22.4/lib/5.22.4/darwin-2level/CORE/XSUB.h:326:5: note: expanded from macro 'XSRETURN'
STMT_START { \
^~~~~~~~~~
/Users/stan/perl5/perlbrew/perls/perl-5.22.4/lib/5.22.4/darwin-2level/CORE/perl.h:534:29: note: expanded from macro 'STMT_START'
# define STMT_START (void)( /* gcc supports "({ STATEMENTS; })" */
^
Module.c:173:5: note: '{' token is here
XSRETURN_EMPTY;
^~~~~~~~~~~~~~
/Users/stan/perl5/perlbrew/perls/perl-5.22.4/lib/5.22.4/darwin-2level/CORE/XSUB.h:340:52: note: expanded from macro 'XSRETURN_EMPTY'
#define XSRETURN_EMPTY STMT_START { XSRETURN(0); } STMT_END
^~~~~~~~~~~
/Users/stan/perl5/perlbrew/perls/perl-5.22.4/lib/5.22.4/darwin-2level/CORE/XSUB.h:326:16: note: expanded from macro 'XSRETURN'
STMT_START { \
^
Module.c:173:5: warning: '}' and ')' tokens terminating statement expression appear in different macro expansion contexts [-Wcompound-token-split-by-macro]
XSRETURN_EMPTY;
^~~~~~~~~~~~~~
/Users/stan/perl5/perlbrew/perls/perl-5.22.4/lib/5.22.4/darwin-2level/CORE/XSUB.h:340:52: note: expanded from macro 'XSRETURN_EMPTY'
#define XSRETURN_EMPTY STMT_START { XSRETURN(0); } STMT_END
^~~~~~~~~~~
/Users/stan/perl5/perlbrew/perls/perl-5.22.4/lib/5.22.4/darwin-2level/CORE/XSUB.h:330:5: note: expanded from macro 'XSRETURN'
} STMT_END
^
Module.c:173:5: note: ')' token is here
XSRETURN_EMPTY;
^~~~~~~~~~~~~~
/Users/stan/perl5/perlbrew/perls/perl-5.22.4/lib/5.22.4/darwin-2level/CORE/XSUB.h:340:52: note: expanded from macro 'XSRETURN_EMPTY'
#define XSRETURN_EMPTY STMT_START { XSRETURN(0); } STMT_END
^~~~~~~~~~~
/Users/stan/perl5/perlbrew/perls/perl-5.22.4/lib/5.22.4/darwin-2level/CORE/XSUB.h:330:7: note: expanded from macro 'XSRETURN'
} STMT_END
^~~~~~~~
/Users/stan/perl5/perlbrew/perls/perl-5.22.4/lib/5.22.4/darwin-2level/CORE/perl.h:535:21: note: expanded from macro 'STMT_END'
# define STMT_END )
^
Module.c:173:5: warning: '}' and ')' tokens terminating statement expression appear in different macro expansion contexts [-Wcompound-token-split-by-macro]
XSRETURN_EMPTY;
^~~~~~~~~~~~~~
/Users/stan/perl5/perlbrew/perls/perl-5.22.4/lib/5.22.4/darwin-2level/CORE/XSUB.h:340:65: note: expanded from macro 'XSRETURN_EMPTY'
#define XSRETURN_EMPTY STMT_START { XSRETURN(0); } STMT_END
^
Module.c:173:5: note: ')' token is here
XSRETURN_EMPTY;
^~~~~~~~~~~~~~
/Users/stan/perl5/perlbrew/perls/perl-5.22.4/lib/5.22.4/darwin-2level/CORE/XSUB.h:340:67: note: expanded from macro 'XSRETURN_EMPTY'
#define XSRETURN_EMPTY STMT_START { XSRETURN(0); } STMT_END
^~~~~~~~
/Users/stan/perl5/perlbrew/perls/perl-5.22.4/lib/5.22.4/darwin-2level/CORE/perl.h:535:21: note: expanded from macro 'STMT_END'
# define STMT_END )
^
20 warnings generated.
t/04-xs-rpath-darwin.t .... ok
t/arch_check.t ............ ok
t/backwards.t ............. ok
t/basic.t ................. ok
t/build_man.t ............. ok
t/cd.t .................... ok
t/config.t ................ ok
t/cp.t .................... ok
t/dir_target.t ............ ok
t/echo.t .................. ok
t/eu_command.t ............ ok
t/FIRST_MAKEFILE.t ........ ok
t/fix_libs.t .............. ok
t/fixin.t ................. ok
t/hints.t ................. ok
t/INST.t .................. ok
t/INST_PREFIX.t ........... ok
t/INSTALL_BASE.t .......... ok
t/installed_file.t ........ ok
t/is_of_type.t ............ ok
t/Liblist.t ............... ok
t/Liblist_Kid.t ........... ok
t/make.t .................. ok
t/MakeMaker_Parameters.t .. ok
t/maketext_filter.t ....... ok
t/meta_convert.t .......... ok
t/metafile_data.t ......... ok
t/metafile_file.t ......... ok
t/min_perl_version.t ...... ok
t/miniperl.t .............. skipped: miniperl test only necessary for the perl core
t/Mkbootstrap.t ........... ok
t/MM_Any.t ................ ok
t/MM_BeOS.t ............... skipped: This is not BeOS
t/MM_Cygwin.t ............. skipped: This is not cygwin
t/MM_NW5.t ................ skipped: This is not NW5
t/MM_OS2.t ................ skipped: This is not OS/2
t/MM_Unix.t ............... ok
t/MM_VMS.t ................ skipped: This is not VMS
t/MM_Win32.t .............. skipped: This is not Win32
t/oneliner.t .............. ok
t/os_unsupported.t ........ ok
t/parse_abstract.t ........ ok
t/parse_version.t ......... ok
t/PL_FILES.t .............. ok
t/pm.t .................... ok
t/pm_to_blib.t ............ ok
t/pod2man.t ............... ok
t/postamble.t ............. ok
t/prefixify.t ............. ok
t/prereq.t ................ ok
t/prereq_print.t .......... ok
t/problems.t .............. ok
t/prompt.t ................ ok
t/rec_att_keys.t .......... ok
t/recurs.t ................ ok
t/revision.t .............. ok
t/several_authors.t ....... ok
t/split_command.t ......... ok
t/test_boilerplate.t ...... ok
t/testlib.t ............... ok
t/unicode.t ............... ok
t/VERSION_FROM.t .......... ok
t/vstrings.t .............. ok
t/WriteEmptyMakefile.t .... ok
t/writemakefile_args.t .... ok
All tests successful.
Files=69, Tests=1442, 55 wallclock secs ( 0.22 usr 0.11 sys + 30.15 cusr 15.58 csys = 46.06 CPU)
Result: PASS
------------------------------
PREREQUISITES
------------------------------
Prerequisite modules loaded:
runtime:
Module Need Have
-------------- ----- --------
Data::Dumper 0 2.183
Encode 0 3.21
File::Basename 0 2.85
File::Spec 0.8 3.75
perl 5.006 5.022004
Pod::Man 0 v6.0.2
------------------------------
ENVIRONMENT AND OTHER CONTEXT
------------------------------
Environment variables:
LANG = en_US.UTF-8
LC_ALL = en_US.UTF-8
LDFLAGS = -L/usr/local/opt/curl/lib
PATH = /Users/stan/perl5/perlbrew/bin:/Users/stan/perl5/perlbrew/perls/perl-5.22.4/bin:/Users/stan/perl5/perlbrew/bin:/Users/stan/perl5/perlbrew/perls/perl-5.40.1/bin:/usr/local/opt/mysql-client/bin:/usr/local/opt/curl/bin:/usr/local/bin:/usr/local/sbin:/usr/local/bin:/System/Cryptexes/App/usr/bin:/usr/bin:/bin:/usr/sbin:/sbin:/Applications/Little Snitch.app/Contents/Components:/opt/X11/bin:/Applications/Wireshark.app/Contents/MacOS:/var/run/com.apple.security.cryptexd/codex.system/bootstrap/usr/local/bin:/var/run/com.apple.security.cryptexd/codex.system/bootstrap/usr/bin:/var/run/com.apple.security.cryptexd/codex.system/bootstrap/usr/appleinternal/bin:/Users/stan/.vim/bin:/Users/stan/bin:/Users/stan/.local/bin:/Users/stan/node_modules/.bin:/usr/local/sbin:/usr/local/opt/mysql-client/bin:/usr/local/opt/curl/bin:/Applications/kitty.app/Contents/MacOS
PERL5LIB =
PERLBREW_HOME = /Users/stan/.perlbrew
PERLBREW_LIB =
PERLBREW_MANPATH = /Users/stan/perl5/perlbrew/perls/perl-5.22.4/man
PERLBREW_PATH = /Users/stan/perl5/perlbrew/bin:/Users/stan/perl5/perlbrew/perls/perl-5.22.4/bin
PERLBREW_PERL = perl-5.22.4
PERLBREW_ROOT = /Users/stan/perl5/perlbrew
PERLBREW_SHELLRC_VERSION = 0.99
PERLBREW_VERSION = 0.99
PERL_LOCAL_LIB_ROOT =
PERL_MM_USE_DEFAULT = 1
SHELL = /usr/local/bin/zsh
TERM = screen-256color
TMPDIR = /var/folders/tk/hx6fvpsj3yzbyd1k1br945mc0000gn/T/
Perl special variables (and OS-specific diagnostics, for MSWin32):
EGID = 20 20 103 12 61 79 80 81 98 701 33 100 204 250 395 398 101
EUID = 501
EXECUTABLE_NAME = /Users/stan/perl5/perlbrew/perls/perl-5.22.4/bin/perl
GID = 20 20 103 12 61 79 80 81 98 701 33 100 204 250 395 398 101
UID = 501
Perl module toolchain versions installed:
Module Have
------------------- --------
CPAN 2.38
CPAN::Meta 2.150010
Cwd 3.75
ExtUtils::CBuilder 0.280236
ExtUtils::Command 7.74
ExtUtils::Install 2.22
ExtUtils::MakeMaker 7.74
ExtUtils::Manifest 1.75
ExtUtils::ParseXS 3.51
File::Spec 3.75
JSON 4.10
JSON::PP 4.16
Module::Build 0.4234
Module::Signature n/a
Parse::CPAN::Meta 2.150010
Test::Harness 3.50
Test::More 1.302210
YAML 1.31
YAML::Syck n/a
version 0.9933
--
Summary of my perl5 (revision 5 version 22 subversion 4) configuration:
Platform:
osname=darwin, osvers=21.3.0, archname=darwin-2level
uname='darwin imac.fritz.box 21.3.0 darwin kernel version 21.3.0: wed jan 5 21:37:58 pst 2022; root:xnu-8019.80.24~20release_x86_64 x86_64 '
config_args='-de -Dprefix=/Users/stan/perl5/perlbrew/perls/perl-5.22.4 -Aeval:scriptdir=/Users/stan/perl5/perlbrew/perls/perl-5.22.4/bin'
hint=recommended, useposix=true, d_sigaction=define
useithreads=undef, usemultiplicity=undef
use64bitint=define, use64bitall=define, uselongdouble=undef
usemymalloc=n, bincompat5005=undef
Compiler:
cc='cc', ccflags ='-fno-common -DPERL_DARWIN -mmacosx-version-min=12.2 -fno-strict-aliasing -pipe -fstack-protector-strong -I/usr/local/include -DPERL_USE_SAFE_PUTENV',
optimize='-O3',
cppflags='-fno-common -DPERL_DARWIN -mmacosx-version-min=12.2 -fno-strict-aliasing -pipe -fstack-protector-strong -I/usr/local/include'
ccversion='', gccversion='Apple LLVM 13.0.0 (clang-1300.0.29.30)', gccosandvers=''
intsize=4, longsize=8, ptrsize=8, doublesize=8, byteorder=12345678, doublekind=3
d_longlong=define, longlongsize=8, d_longdbl=define, longdblsize=16, longdblkind=3
ivtype='long', ivsize=8, nvtype='double', nvsize=8, Off_t='off_t', lseeksize=8
alignbytes=8, prototype=define
Linker and Libraries:
ld='cc', ldflags =' -mmacosx-version-min=12.2 -fstack-protector-strong -L/usr/local/lib'
libpth=/usr/local/lib /Library/Developer/CommandLineTools/usr/lib/clang/13.0.0/lib /Library/Developer/CommandLineTools/SDKs/MacOSX.sdk/usr/lib /Library/Developer/CommandLineTools/usr/lib /usr/lib
libs=-lgdbm -ldb
perllibs=
libc=, so=dylib, useshrplib=false, libperl=libperl.a
gnulibc_version=''
Dynamic Linking:
dlsrc=dl_dlopen.xs, dlext=bundle, d_dlsymun=undef, ccdlflags=' '
cccdlflags=' ', lddlflags=' -mmacosx-version-min=12.2 -bundle -undefined dynamic_lookup -L/usr/local/lib -fstack-protector-strong'
Characteristics of this binary (from libperl):
Compile-time options: HAS_TIMES PERLIO_LAYERS PERL_DONT_CREATE_GVSV
PERL_HASH_FUNC_ONE_AT_A_TIME_HARD PERL_MALLOC_WRAP
PERL_NEW_COPY_ON_WRITE PERL_PRESERVE_IVUV
PERL_USE_SAFE_PUTENV USE_64_BIT_ALL USE_64_BIT_INT
USE_LARGE_FILES USE_LOCALE USE_LOCALE_COLLATE
USE_LOCALE_CTYPE USE_LOCALE_NUMERIC USE_LOCALE_TIME
USE_PERLIO USE_PERL_ATOF
Locally applied patches:
Devel::PatchPerl 2.08
Built under darwin
Compiled at Feb 10 2022 22:46:49
%ENV:
PERL5LIB=""
PERLBREW_HOME="/Users/stan/.perlbrew"
PERLBREW_LIB=""
PERLBREW_MANPATH="/Users/stan/perl5/perlbrew/perls/perl-5.22.4/man"
PERLBREW_PATH="/Users/stan/perl5/perlbrew/bin:/Users/stan/perl5/perlbrew/perls/perl-5.22.4/bin"
PERLBREW_PERL="perl-5.22.4"
PERLBREW_ROOT="/Users/stan/perl5/perlbrew"
PERLBREW_SHELLRC_VERSION="0.99"
PERLBREW_VERSION="0.99"
PERL_LOCAL_LIB_ROOT=""
PERL_MM_USE_DEFAULT="1"
@INC:
/Users/stan/perl5/perlbrew/perls/perl-5.22.4/lib/site_perl/5.22.4/darwin-2level
/Users/stan/perl5/perlbrew/perls/perl-5.22.4/lib/site_perl/5.22.4
/Users/stan/perl5/perlbrew/perls/perl-5.22.4/lib/5.22.4/darwin-2level
/Users/stan/perl5/perlbrew/perls/perl-5.22.4/lib/5.22.4
.