Back
From: metabase:user:314402c4-2aae-11df-837a-5e0a49663a4f
Subject: PASS Array-Columnize-v0.3.8 v5.12.4 RC2 FreeBSD
Date: 2011-10-30T20:05:40Z
This distribution has been tested as part of the CPAN Testers
project, supporting the Perl programming language. See
http://wiki.cpantesters.org/ for more information or email
questions to cpan-testers-discuss@perl.org
--
Dear Rocky Bernstein,
This is a computer-generated report for Array-Columnize-v0.3.8
on perl 5.12.4, created by CPAN-Reporter-1.1902.
Thank you for uploading your work to CPAN. Congratulations!
All tests were successful.
Sections of this report:
* Tester comments
* Program output
* Prerequisites
* Environment and other context
------------------------------
TESTER COMMENTS
------------------------------
Additional comments from tester:
none provided
------------------------------
PROGRAM OUTPUT
------------------------------
Output from '/usr/bin/make test':
/usr/home/cpansand/var/ctps/5124RC2/install/perl-v5.12.4-RC2/bin/perl5.12.4 Build --makefile_env_macros 1 test
t/01.version.t .... ok
t/02.options.t .... ok
t/03.cell_size.t .. ok
t/04.columnize.t .. ok
All tests successful.
Files=4, Tests=28, 1 wallclock secs ( 0.04 usr 0.02 sys + 0.16 cusr 0.02 csys = 0.25 CPU)
Result: PASS
------------------------------
PREREQUISITES
------------------------------
Prerequisite modules loaded:
requires:
Module Need Have
------------------- ---- ------
ExtUtils::PkgConfig 1.03 1.12
Test::More 0 0.98
version 0 0.91
configure_requires:
Module Need Have
------------------- ---- ------
Module::Build 0.38 0.3800
------------------------------
ENVIRONMENT AND OTHER CONTEXT
------------------------------
Environment variables:
LC_ALL = de_DE.ISO8859-1
LC_CTYPE = de_DE.ISO8859-1
PATH = /usr/local/bin:/usr/bin:/bin:/usr/gnu/bin:/usr/TeX/bin:/usr/local/sbin:/usr/sbin:/sbin:/usr/local/pilot/bin:/home/e/eserte/bin/FreeBSD:/home/e/eserte/bin/sh:/home/e/eserte/bin:/usr/X11R6/bin:/usr/X11/bin:/usr/X386/bin:/usr/games:/home/e/eserte/devel
PERL5LIB =
PERL5OPT =
PERL5_CPANPLUS_IS_RUNNING = 36741
PERL5_CPAN_IS_RUNNING = 36741
PERLDOC = -MPod::Perldoc::ToTextOverstrike
PERL_HTML_DISPLAY_CLASS = HTML::Display::Mozilla
SHELL = /bin/tcsh
STDPERL = perl
TERM = screen
Perl special variables (and OS-specific diagnostics, for MSWin32):
$^X = /usr/home/cpansand/var/ctps/5124RC2/install/perl-v5.12.4-RC2/bin/perl5.12.4
$UID/$EUID = 1000 / 1000
$GID = 1000 1000 0 1023 1024
$EGID = 1000 1000 0 1023 1024
Perl module toolchain versions installed:
Module Have
------------------- --------
CPAN 1.9600
Cwd 3.33
ExtUtils::CBuilder 0.280202
ExtUtils::Command 1.17
ExtUtils::Install 1.55
ExtUtils::MakeMaker 6.56
ExtUtils::Manifest 1.58
ExtUtils::ParseXS 2.2206
File::Spec 3.33
Module::Build 0.3800
Module::Signature 0.68
Test::Harness 3.23
Test::More 0.98
YAML 0.73
YAML::Syck 1.17
version 0.91
--
Summary of my perl5 (revision 5 version 12 subversion 4) configuration:
Commit id: 5c26f8f6953ad4f9517732ac321914c726d7ec9d
Platform:
osname=freebsd, osvers=8.0-release-p4, archname=i386-freebsd
uname='freebsd biokovo.herceg.de 8.0-release-p4 freebsd 8.0-release-p4 #0: mon jul 12 20:22:27 utc 2010 root@i386-builder.daemonology.net:usrobjusrsrcsysgeneric i386 '
config_args='-ds -e -Uversiononly -Dinstallusrbinperl=n -Dusedevel -Dprefix=/home/cpansand/var/ctps/5124RC2/install/perl-v5.12.4-RC2'
hint=recommended, useposix=true, d_sigaction=define
useithreads=undef, usemultiplicity=undef
useperlio=define, d_sfio=undef, uselargefiles=define, usesocks=undef
use64bitint=undef, use64bitall=undef, uselongdouble=undef
usemymalloc=n, bincompat5005=undef
Compiler:
cc='cc', ccflags ='-DHAS_FPSETMASK -DHAS_FLOATINGPOINT_H -fno-strict-aliasing -pipe -fstack-protector -I/usr/local/include',
optimize='-O',
cppflags='-DHAS_FPSETMASK -DHAS_FLOATINGPOINT_H -fno-strict-aliasing -pipe -fstack-protector -I/usr/local/include'
ccversion='', gccversion='4.2.1 20070719 [FreeBSD]', gccosandvers=''
intsize=4, longsize=4, ptrsize=4, doublesize=8, byteorder=1234
d_longlong=define, longlongsize=8, d_longdbl=define, longdblsize=12
ivtype='long', ivsize=4, nvtype='double', nvsize=8, Off_t='off_t', lseeksize=8
alignbytes=4, prototype=define
Linker and Libraries:
ld='cc', ldflags ='-Wl,-E -fstack-protector -L/usr/local/lib'
libpth=/usr/lib /usr/local/lib
libs=-lgdbm -lm -lcrypt -lutil -lc
perllibs=-lm -lcrypt -lutil -lc
libc=, so=so, useshrplib=false, libperl=libperl.a
gnulibc_version=''
Dynamic Linking:
dlsrc=dl_dlopen.xs, dlext=so, d_dlsymun=undef, ccdlflags=' '
cccdlflags='-DPIC -fPIC', lddlflags='-shared -L/usr/local/lib -fstack-protector'
Characteristics of this binary (from libperl):
Compile-time options: PERL_DONT_CREATE_GVSV PERL_MALLOC_WRAP PERL_USE_DEVEL
USE_LARGE_FILES USE_PERLIO USE_PERL_ATOF
Locally applied patches:
RC2
Built under freebsd
Compiled at Jun 18 2011 12:17:44
%ENV:
PERL5LIB=""
PERL5OPT=""
PERL5_CPANPLUS_IS_RUNNING="36741"
PERL5_CPAN_IS_RUNNING="36741"
PERLDOC="-MPod::Perldoc::ToTextOverstrike"
PERL_HTML_DISPLAY_CLASS="HTML::Display::Mozilla"
@INC:
/home/cpansand/var/ctps/5124RC2/install/perl-v5.12.4-RC2/lib/site_perl/5.12.4/i386-freebsd
/home/cpansand/var/ctps/5124RC2/install/perl-v5.12.4-RC2/lib/site_perl/5.12.4
/home/cpansand/var/ctps/5124RC2/install/perl-v5.12.4-RC2/lib/5.12.4/i386-freebsd
/home/cpansand/var/ctps/5124RC2/install/perl-v5.12.4-RC2/lib/5.12.4
.