PerlIO-via-EscStatus v11 Perl 5 v5.27.7 x86_64-linux-ld
- Status
- Pass
- From
- Andreas J. König (ANDK)
- Dist
-
PerlIO-via-EscStatus v11
- Platform
- Perl 5 v5.27.7 x86_64-linux-ld
- Date
- 2017-12-04 18:18:35
- ID
- 8aad5b6c-d91f-11e7-a50a-3052b5d65ef4
This distribution has been tested as part of the CPAN Testers
project, supporting the Perl programming language. See
http://wiki.cpantesters.org/ for more information or email
questions to cpan-testers-discuss@perl.org
--
Dear Kevin Ryde,
This is a computer-generated report for PerlIO-via-EscStatus-11
on perl 5.27.7, created by CPAN-Reporter-1.2018.
Thank you for uploading your work to CPAN. Congratulations!
All tests were successful.
Sections of this report:
* Tester comments
* Program output
* Prerequisites
* Environment and other context
------------------------------
TESTER COMMENTS
------------------------------
Additional comments from tester:
this report is from an automated smoke testing program
and was not reviewed by a human for accuracy
------------------------------
PROGRAM OUTPUT
------------------------------
Output from '/usr/bin/make test':
PERL_DL_NONLAZY=1 "/tmp/basesmoker-reloperl-lQGZ/bin/perl" "-MExtUtils::Command::MM" "-MTest::Harness" "-e" "undef *Test::Harness::Switches; test_harness(0, 'blib/lib', 'blib/arch')" t/*.t
t/EscStatus-load.t ...... ok
t/EscStatus-Renaming.t .. skipped: due to Exporter::Renaming not available -- Can't locate Exporter/Renaming.pm in @INC (you may need to install the Exporter::Renaming module) (@INC contains: t /tmp/loop_over_bdir-10704-YWSJJN/PerlIO-via-EscStatus-11-0/blib/lib /tmp/loop_over_bdir-10704-YWSJJN/PerlIO-via-EscStatus-11-0/blib/arch /tmp/loop_over_bdir-10704-YWSJJN/Net-DNS-1.13-0/blib/arch /tmp/loop_over_bdir-10704-YWSJJN/Net-DNS-1.13-0/blib/lib /home/sand/src/perl/repoperls/installed-perls/host/k93msid/v5.27.6-115-g0649b6e4b9/af11/lib/site_perl/5.27.7/x86_64-linux-ld /home/sand/src/perl/repoperls/installed-perls/host/k93msid/v5.27.6-115-g0649b6e4b9/af11/lib/site_perl/5.27.7 /home/sand/src/perl/repoperls/installed-perls/host/k93msid/v5.27.6-115-g0649b6e4b9/af11/lib/5.27.7/x86_64-linux-ld /home/sand/src/perl/repoperls/installed-perls/host/k93msid/v5.27.6-115-g0649b6e4b9/af11/lib/5.27.7 .) at (eval 7) line 1.
# IsZero
# IsDouble
# IsOther
# _truncate
# flush
# with encoding
# with ttystatus
# _term_width
# close clearing
# done
t/EscStatus.t ........... ok
t/Parser.t .............. ok
# on a binary file
# temp file /tmp/PerlIO-via-EscStatus-ShowAll-test-rADr1p
# on a utf8 file
# temp file /tmp/PerlIO-via-EscStatus-ShowAll-test-gTYHEp
t/ShowAll.t ............. ok
# on a binary file
# temp file /tmp/PerlIO-via-EscStatus-ShowNone-test-JFkN4z
# on a utf8 file
# temp file /tmp/PerlIO-via-EscStatus-ShowNone-test-kTTnPd
t/ShowNone.t ............ ok
t/ToEscStatus.t ......... skipped: ProgressMonitor package not available: Can't locate ProgressMonitor.pm in @INC (you may need to install the ProgressMonitor module) (@INC contains: t /tmp/loop_over_bdir-10704-YWSJJN/PerlIO-via-EscStatus-11-0/blib/lib /tmp/loop_over_bdir-10704-YWSJJN/PerlIO-via-EscStatus-11-0/blib/arch /tmp/loop_over_bdir-10704-YWSJJN/Net-DNS-1.13-0/blib/arch /tmp/loop_over_bdir-10704-YWSJJN/Net-DNS-1.13-0/blib/lib /home/sand/src/perl/repoperls/installed-perls/host/k93msid/v5.27.6-115-g0649b6e4b9/af11/lib/site_perl/5.27.7/x86_64-linux-ld /home/sand/src/perl/repoperls/installed-perls/host/k93msid/v5.27.6-115-g0649b6e4b9/af11/lib/site_perl/5.27.7 /home/sand/src/perl/repoperls/installed-perls/host/k93msid/v5.27.6-115-g0649b6e4b9/af11/lib/5.27.7/x86_64-linux-ld /home/sand/src/perl/repoperls/installed-perls/host/k93msid/v5.27.6-115-g0649b6e4b9/af11/lib/5.27.7 .) at t/ToEscStatus.t line 29.
All tests successful.
Files=7, Tests=913, 1 wallclock secs ( 0.10 usr 0.05 sys + 0.67 cusr 0.18 csys = 1.00 CPU)
Result: PASS
------------------------------
PREREQUISITES
------------------------------
Prerequisite modules loaded:
requires:
Module Need Have
-------------------------- -------- ----------
Encode 0 2.93
perl 5.008005 5.027007
PerlIO::via 0 0.17
Regexp::Common 0 2017060201
Regexp::Common::ANSIescape 11 14
Term::Size 0 0.207
build_requires:
Module Need Have
-------------------------- -------- ----------
ExtUtils::MakeMaker 0 7.30
configure_requires:
Module Need Have
-------------------------- -------- ----------
ExtUtils::MakeMaker 0 7.30
------------------------------
ENVIRONMENT AND OTHER CONTEXT
------------------------------
Environment variables:
AUTOMATED_TESTING = 1
LANG = en_US.UTF-8
PATH = /home/sand/bin:/usr/local/bin:/usr/bin:/bin:/usr/games:/usr/local/perl/bin:/usr/X11/bin:/sbin:/usr/sbin
PERL5LIB = /tmp/loop_over_bdir-10704-YWSJJN/Net-DNS-1.13-0/blib/arch:/tmp/loop_over_bdir-10704-YWSJJN/Net-DNS-1.13-0/blib/lib
PERL5OPT =
PERL5_CPANPLUS_IS_RUNNING = 22588
PERL5_CPAN_IS_RUNNING = 22588
PERL_CANARY_STABILITY_NOPROMPT = 1
PERL_MM_USE_DEFAULT = 1
PERL_USE_UNSAFE_INC = 1
SHELL = /usr/bin/zsh
TERM = screen
Perl special variables (and OS-specific diagnostics, for MSWin32):
$^X = /tmp/basesmoker-reloperl-lQGZ/bin/perl
$UID/$EUID = 1005 / 1005
$GID = 1005 1005
$EGID = 1005 1005
Perl module toolchain versions installed:
Module Have
------------------- --------
CPAN 2.20
CPAN::Meta 2.150010
Cwd 3.70
ExtUtils::CBuilder 0.280230
ExtUtils::Command 7.30
ExtUtils::Install 2.14
ExtUtils::MakeMaker 7.30
ExtUtils::Manifest 1.70
ExtUtils::ParseXS 3.36
File::Spec 3.69
JSON 2.97000
JSON::PP 2.97000
Module::Build 0.4224
Module::Signature 0.81
Parse::CPAN::Meta 2.150010
Test::Harness 3.39
Test::More 1.302120
YAML 1.24
YAML::Syck 1.30
version 0.9918
--
Summary of my perl5 (revision 5 version 27 subversion 7) configuration:
Commit id: 0649b6e4b934675951c7e1419db9284578a54496
Platform:
osname=linux
osvers=4.12.0-2-amd64
archname=x86_64-linux-ld
uname='linux k93msid 4.12.0-2-amd64 #1 smp debian 4.12.13-1 (2017-09-19) x86_64 gnulinux '
config_args='-Dprefix=/home/sand/src/perl/repoperls/installed-perls/host/k93msid/v5.27.6-115-g0649b6e4b9/af11 -Dmyhostname=k93msid -Dinstallusrbinperl=n -Uversiononly -Dusedevel -des -Ui_db -Dlibswanted=cl pthread socket inet nsl gdbm dbm malloc dl ld sun m crypt sec util c cposix posix ucb BSD gdbm_compat -Uuseithreads -Duselongdouble -DEBUGGING=-g'
hint=recommended
useposix=true
d_sigaction=define
useithreads=undef
usemultiplicity=undef
use64bitint=define
use64bitall=define
uselongdouble=define
usemymalloc=n
default_inc_excludes_dot=define
bincompat5005=undef
Compiler:
cc='cc'
ccflags ='-fwrapv -fno-strict-aliasing -pipe -fstack-protector-strong -I/usr/local/include -D_LARGEFILE_SOURCE -D_FILE_OFFSET_BITS=64 -D_FORTIFY_SOURCE=2'
optimize='-O2 -g'
cppflags='-fwrapv -fno-strict-aliasing -pipe -fstack-protector-strong -I/usr/local/include'
ccversion=''
gccversion='7.2.0'
gccosandvers=''
intsize=4
longsize=8
ptrsize=8
doublesize=8
byteorder=12345678
doublekind=3
d_longlong=define
longlongsize=8
d_longdbl=define
longdblsize=16
longdblkind=3
ivtype='long'
ivsize=8
nvtype='long double'
nvsize=16
Off_t='off_t'
lseeksize=8
alignbytes=16
prototype=define
Linker and Libraries:
ld='cc'
ldflags =' -fstack-protector-strong -L/usr/local/lib'
libpth=/usr/local/lib /usr/lib/gcc/x86_64-linux-gnu/7/include-fixed /usr/include/x86_64-linux-gnu /usr/lib /lib/x86_64-linux-gnu /lib/../lib /usr/lib/x86_64-linux-gnu /usr/lib/../lib /lib
libs=-lpthread -lnsl -ldl -lm -lcrypt -lutil -lc
perllibs=-lpthread -lnsl -ldl -lm -lcrypt -lutil -lc
libc=libc-2.24.so
so=so
useshrplib=false
libperl=libperl.a
gnulibc_version='2.24'
Dynamic Linking:
dlsrc=dl_dlopen.xs
dlext=so
d_dlsymun=undef
ccdlflags='-Wl,-E'
cccdlflags='-fPIC'
lddlflags='-shared -O2 -g -L/usr/local/lib -fstack-protector-strong'
Characteristics of this binary (from libperl):
Compile-time options:
HAS_TIMES
PERLIO_LAYERS
PERL_COPY_ON_WRITE
PERL_DONT_CREATE_GVSV
PERL_MALLOC_WRAP
PERL_OP_PARENT
PERL_PRESERVE_IVUV
PERL_USE_DEVEL
USE_64_BIT_ALL
USE_64_BIT_INT
USE_LARGE_FILES
USE_LOCALE
USE_LOCALE_COLLATE
USE_LOCALE_CTYPE
USE_LOCALE_NUMERIC
USE_LOCALE_TIME
USE_LONG_DOUBLE
USE_PERLIO
USE_PERL_ATOF
Built under linux
Compiled at Dec 2 2017 15:55:42
%ENV:
PERL5LIB="/tmp/loop_over_bdir-10704-YWSJJN/Net-DNS-1.13-0/blib/arch:/tmp/loop_over_bdir-10704-YWSJJN/Net-DNS-1.13-0/blib/lib"
PERL5OPT=""
PERL5_CPANPLUS_IS_RUNNING="22588"
PERL5_CPAN_IS_RUNNING="22588"
PERL_CANARY_STABILITY_NOPROMPT="1"
PERL_MM_USE_DEFAULT="1"
PERL_USE_UNSAFE_INC="1"
@INC:
/tmp/loop_over_bdir-10704-YWSJJN/Net-DNS-1.13-0/blib/arch
/tmp/loop_over_bdir-10704-YWSJJN/Net-DNS-1.13-0/blib/lib
/home/sand/src/perl/repoperls/installed-perls/host/k93msid/v5.27.6-115-g0649b6e4b9/af11/lib/site_perl/5.27.7/x86_64-linux-ld
/home/sand/src/perl/repoperls/installed-perls/host/k93msid/v5.27.6-115-g0649b6e4b9/af11/lib/site_perl/5.27.7
/home/sand/src/perl/repoperls/installed-perls/host/k93msid/v5.27.6-115-g0649b6e4b9/af11/lib/5.27.7/x86_64-linux-ld
/home/sand/src/perl/repoperls/installed-perls/host/k93msid/v5.27.6-115-g0649b6e4b9/af11/lib/5.27.7
.