Win32-SharedFileOpen v4.06 Perl 5 v5.18.4 MSWin32-x64-multi-thread
- Status
- Pass
- From
- twata
- Dist
-
Win32-SharedFileOpen v4.06
- Platform
- Perl 5 v5.18.4 MSWin32-x64-multi-thread
- Date
- 2023-08-13 22:26:29
- ID
- 8ae3b1ba-6c17-1014-a2d9-bdf6efaa1848
This distribution has been tested as part of the CPAN Testers
project, supporting the Perl programming language. See
http://wiki.cpantesters.org/ for more information or email
questions to cpan-testers-discuss@perl.org
--
Dear Steve Hay,
This is a computer-generated report for Win32-SharedFileOpen-4.06
on perl 5.18.4, created by CPAN-Reporter-1.2019.
Thank you for uploading your work to CPAN. Congratulations!
All tests were successful.
Sections of this report:
* Tester comments
* Program output
* Prerequisites
* Environment and other context
------------------------------
TESTER COMMENTS
------------------------------
Additional comments from tester:
none provided
------------------------------
PROGRAM OUTPUT
------------------------------
Output from 'C:\Strawberry\c\bin\dmake.exe test':
C:\"Strawberry\perl\bin\perl.exe" -MExtUtils::Command::MM -e cp_nonempty -- SharedFileOpen.bs blib\arch\auto\Win32\SharedFileOpen\SharedFileOpen.bs 644
C:\"Strawberry\perl\bin\perl.exe" "-MExtUtils::Command::MM" "-MTest::Harness" "-e" "undef *Test::Harness::Switches; test_harness(0, 'blib\lib', 'blib\arch')" t/*.t
t/01_imports_01.t ...... ok
t/01_imports_02.t ...... ok
t/01_imports_03.t ...... ok
t/01_imports_04.t ...... ok
t/01_imports_05.t ...... ok
t/01_imports_06.t ...... ok
t/01_imports_07.t ...... ok
t/01_imports_08.t ...... ok
t/01_imports_09.t ...... ok
t/01_imports_10.t ...... ok
t/01_imports_11.t ...... ok
t/01_imports_12.t ...... ok
t/01_imports_13.t ...... ok
t/01_imports_14.t ...... ok
t/02_gensym.t .......... ok
t/03_new_fh.t .......... ok
t/04_fsopen_fh_arg.t ... ok
t/05_sopen_fh_arg.t .... ok
t/06_fsopen_access.t ... ok
t/07_sopen_access.t .... ok
t/08_fsopen_share.t .... ok
t/09_sopen_share.t ..... ok
t/10_fsopen_fh_leak.t .. ok
t/11_sopen_fh_leak.t ... ok
t/12_variables.t ....... ok
t/13_changes.t ......... skipped: Author testing only
t/14_critic.t .......... skipped: Author testing only
t/15_pod.t ............. skipped: Author testing only
t/16_pod_coverage.t .... skipped: Author testing only
All tests successful.
Files=29, Tests=1469, 32 wallclock secs ( 0.28 usr + 0.14 sys = 0.42 CPU)
Result: PASS
------------------------------
PREREQUISITES
------------------------------
Prerequisite modules loaded:
requires:
Module Need Have
--------------------- -------- ---------
Carp 0 1.50
Config 0 5.018004
Errno 0 1.18
Exporter 0 5.77
perl 5.008001 5.018004
strict 0 1.07
Symbol 0 1.07
Time::HiRes 0 1.9764_02
warnings 0 1.18
Win32::WinError 0 0.04
XSLoader 0 0.24
build_requires:
Module Need Have
--------------------- -------- ---------
ExtUtils::MakeMaker 0 7.70
FileHandle 0 2.02
IO::File 0 1.51
IO::Handle 0 1.51
Test::More 0 1.302195
configure_requires:
Module Need Have
--------------------- -------- ---------
Config 0 5.018004
ExtUtils::MakeMaker 6.66 7.70
File::Copy 0 2.26
File::Spec::Functions 0 3.75
perl 5.008001 5.018004
strict 0 1.07
warnings 0 1.18
------------------------------
ENVIRONMENT AND OTHER CONTEXT
------------------------------
Environment variables:
COMSPEC = C:\WINDOWS\system32\cmd.exe
NONINTERACTIVE_TESTING = 1
NUMBER_OF_PROCESSORS = 4
PATH = C:\home\golfball\perl5\bin;C:\WINDOWS\system32;C:\WINDOWS;C:\WINDOWS\System32\Wbem;C:\WINDOWS\System32\WindowsPowerShell\v1.0\;C:\Strawberry\c\bin;C:\Strawberry\perl\site\bin;C:\Strawberry\perl\bin
PERL5LIB = C:\home\golfball\perl5\lib\perl5
PERL5OPT =
PERL5_CPANPLUS_IS_RUNNING = 5312
PERL5_CPAN_IS_RUNNING = 5312
PERL_LOCAL_LIB_ROOT = C:\home\golfball\perl5
PERL_MB_OPT = --install_base "C:\\home\\golfball\\perl5"
PERL_MM_OPT = INSTALL_BASE=C:\\home\\golfball\\perl5
PERL_MM_USE_DEFAULT = 1
PERL_USE_UNSAFE_INC = 1
PROCESSOR_IDENTIFIER = Intel64 Family 6 Model 58 Stepping 9, GenuineIntel
TEMP = C:\Users\USER\AppData\Local\Temp
TERM = dumb
Perl special variables (and OS-specific diagnostics, for MSWin32):
$^X = C:\Strawberry\perl\bin\perl.exe
$UID/$EUID = 0 / 0
$GID = 0
$EGID = 0
Win32::GetOSName = Win8
Win32::GetOSVersion = , 6, 2, 9200, 2, 0, 0, 256, 1
Win32::FsType = NTFS
Win32::IsAdminUser = 0
Perl module toolchain versions installed:
Module Have
------------------- --------
CPAN 2.34
CPAN::Meta 2.150010
Cwd 3.75
ExtUtils::CBuilder 0.280236
ExtUtils::Command 7.70
ExtUtils::Install 2.22
ExtUtils::MakeMaker 7.70
ExtUtils::Manifest 1.75
ExtUtils::ParseXS 3.44
File::Spec 3.75
JSON 4.10
JSON::PP 4.17_01
Module::Build 0.42_35
Module::Signature 0.88
Parse::CPAN::Meta 2.150010
Test2 1.302195
Test::Harness 3.47
Test::More 1.302195
YAML 1.30
YAML::Syck 1.34
version 0.9929
--
Summary of my perl5 (revision 5 version 18 subversion 4) configuration:
Platform:
osname=MSWin32, osvers=6.3, archname=MSWin32-x64-multi-thread
uname='Win32 strawberry-perl 5.18.4.1 #1 Thu Oct 2 07:49:26 2014 x64'
config_args='undef'
hint=recommended, useposix=true, d_sigaction=undef
useithreads=define, usemultiplicity=define
useperlio=define, d_sfio=undef, uselargefiles=define, usesocks=undef
use64bitint=define, use64bitall=undef, uselongdouble=undef
usemymalloc=n, bincompat5005=undef
Compiler:
cc='gcc', ccflags =' -s -O2 -DWIN32 -DWIN64 -DCONSERVATIVE -DPERL_TEXTMODE_SCRIPTS -DPERL_IMPLICIT_CONTEXT -DPERL_IMPLICIT_SYS -DUSE_PERLIO -fno-strict-aliasing -mms-bitfields',
optimize='-s -O2',
cppflags='-DWIN32'
ccversion='', gccversion='4.7.3', gccosandvers=''
intsize=4, longsize=4, ptrsize=8, doublesize=8, byteorder=12345678
d_longlong=define, longlongsize=8, d_longdbl=define, longdblsize=12
ivtype='long long', ivsize=8, nvtype='double', nvsize=8, Off_t='long long', lseeksize=8
alignbytes=8, prototype=define
Linker and Libraries:
ld='g++', ldflags ='-s -L"C:\Strawberry\perl\lib\CORE" -L"C:\Strawberry\c\lib"'
libpth=C:\Strawberry\c\lib C:\Strawberry\c\x86_64-w64-mingw32\lib C:\Strawberry\c\lib\gcc\x86_64-w64-mingw32\4.7.3
libs=-lmoldname -lkernel32 -luser32 -lgdi32 -lwinspool -lcomdlg32 -ladvapi32 -lshell32 -lole32 -loleaut32 -lnetapi32 -luuid -lws2_32 -lmpr -lwinmm -lversion -lodbc32 -lodbccp32 -lcomctl32
perllibs=-lmoldname -lkernel32 -luser32 -lgdi32 -lwinspool -lcomdlg32 -ladvapi32 -lshell32 -lole32 -loleaut32 -lnetapi32 -luuid -lws2_32 -lmpr -lwinmm -lversion -lodbc32 -lodbccp32 -lcomctl32
libc=, so=dll, useshrplib=true, libperl=libperl518.a
gnulibc_version=''
Dynamic Linking:
dlsrc=dl_win32.xs, dlext=dll, d_dlsymun=undef, ccdlflags=' '
cccdlflags=' ', lddlflags='-mdll -s -L"C:\Strawberry\perl\lib\CORE" -L"C:\Strawberry\c\lib"'
Characteristics of this binary (from libperl):
Compile-time options: HAS_TIMES HAVE_INTERP_INTERN MULTIPLICITY
PERLIO_LAYERS PERL_DONT_CREATE_GVSV
PERL_HASH_FUNC_ONE_AT_A_TIME_HARD
PERL_IMPLICIT_CONTEXT PERL_IMPLICIT_SYS
PERL_MALLOC_WRAP PERL_PRESERVE_IVUV PERL_SAWAMPERSAND
USE_64_BIT_INT USE_ITHREADS USE_LARGE_FILES
USE_LOCALE USE_LOCALE_COLLATE USE_LOCALE_CTYPE
USE_LOCALE_NUMERIC USE_PERLIO USE_PERL_ATOF
Built under MSWin32
Compiled at Oct 2 2014 07:58:36
%ENV:
PERL5LIB="C:\home\golfball\perl5\lib\perl5"
PERL5_CPANPLUS_IS_RUNNING="5312"
PERL5_CPAN_IS_RUNNING="5312"
PERL_LOCAL_LIB_ROOT="C:\home\golfball\perl5"
PERL_MB_OPT="--install_base "C:\\home\\golfball\\perl5""
PERL_MM_OPT="INSTALL_BASE=C:\\home\\golfball\\perl5"
PERL_MM_USE_DEFAULT="1"
PERL_USE_UNSAFE_INC="1"
@INC:
C:\home\golfball\perl5\lib\perl5/MSWin32-x64-multi-thread
C:\home\golfball\perl5\lib\perl5
C:/Strawberry/perl/site/lib
C:/Strawberry/perl/vendor/lib
C:/Strawberry/perl/lib
.