Search-Elasticsearch-Cxn-NetCurl v7.715 Perl 5 v5.30.0 x86_64-linux
- Status
- Pass
- From
- Slaven Rezić
- Dist
-
Search-Elasticsearch-Cxn-NetCurl v7.715
- Platform
- Perl 5 v5.30.0 x86_64-linux
- Date
- 2021-10-21 01:09:30
- ID
- 8b095cde-320b-11ec-af6e-f9571f24ea8f
This distribution has been tested as part of the CPAN Testers
project, supporting the Perl programming language. See
http://wiki.cpantesters.org/ for more information or email
questions to cpan-testers-discuss@perl.org
--
Dear Enrico Zimuel,
This is a computer-generated report for Search-Elasticsearch-Cxn-NetCurl-7.715
on perl 5.30.0, created by CPAN-Reporter-1.2018.
Thank you for uploading your work to CPAN. Congratulations!
All tests were successful.
Sections of this report:
* Tester comments
* Program output
* Prerequisites
* Environment and other context
------------------------------
TESTER COMMENTS
------------------------------
Additional comments from tester:
none provided
------------------------------
PROGRAM OUTPUT
------------------------------
Output from '/usr/bin/make test':
PERL_DL_NONLAZY=1 "/opt/perl-5.30.0/bin/perl" "-MExtUtils::Command::MM" "-MTest::Harness" "-e" "undef *Test::Harness::Switches; test_harness(0, 'blib/lib', 'blib/arch')" t/*.t t/10_Basic/*.t t/20_Serializer/*.t t/30_Logger/*.t t/40_Transport/*.t t/50_Cxn_Pool/*.t t/60_Cxn/*.t t/95_TestServer/*.t t/Client_6_0/*.t t/Client_7_0/*.t
t/10_Basic/10_load.t .......................... ok
t/20_Serializer/10_load_cpanel.t .............. ok
t/20_Serializer/11_load_xs.t .................. ok
t/20_Serializer/12_load_pp.t .................. ok
t/20_Serializer/13_preload_cpanel.t ........... ok
t/20_Serializer/14_preload_xs.t ............... ok
t/20_Serializer/20_xs_encode_decode.t ......... ok
t/20_Serializer/21_xs_encode_bulk.t ........... ok
t/20_Serializer/22_xs_encode_pretty.t ......... ok
t/20_Serializer/30_cpanel_encode_decode.t ..... ok
t/20_Serializer/31_cpanel_encode_bulk.t ....... ok
t/20_Serializer/32_cpanel_encode_pretty.t ..... ok
t/20_Serializer/40_pp_encode_decode.t ......... ok
t/20_Serializer/41_pp_encode_bulk.t ........... ok
t/20_Serializer/42_pp_encode_pretty.t ......... ok
Current cxns: ["http://localhost:9200"]
Forcing ping before next use on all live cxns
Ping [http://localhost:9200] before next request
t/30_Logger/10_explicit.t ..................... ok
Current cxns: ["http://localhost:9200"]
Forcing ping before next use on all live cxns
Ping [http://localhost:9200] before next request
t/30_Logger/20_implicit.t ..................... ok
t/30_Logger/30_log_methods.t .................. ok
t/30_Logger/40_trace_request.t ................ ok
t/30_Logger/50_trace_response.t ............... ok
t/30_Logger/60_trace_error.t .................. ok
t/30_Logger/70_trace_comment.t ................ ok
t/30_Logger/80_deprecation_methods.t .......... ok
t/30_Logger/90_error_json.t ................... ok
t/40_Transport/10_tidy_request.t .............. ok
t/40_Transport/20_send_body_as.t .............. ok
t/40_Transport/30_perform_request.t ........... ok
t/50_Cxn_Pool/10_static_normal.t .............. ok
t/50_Cxn_Pool/11_static_node_missing.t ........ ok
t/50_Cxn_Pool/12_static_node_fails.t .......... ok
t/50_Cxn_Pool/13_static_node_timesout.t ....... ok
t/50_Cxn_Pool/14_static_both_nodes_timeout.t .. ok
t/50_Cxn_Pool/15_static_both_nodes_fail.t ..... ok
t/50_Cxn_Pool/16_static_nodes_starting.t ...... ok
t/50_Cxn_Pool/17_static_runaway_nodes.t ....... ok
t/50_Cxn_Pool/30_sniff_normal.t ............... ok
t/50_Cxn_Pool/31_sniff_new_nodes.t ............ ok
t/50_Cxn_Pool/32_sniff_node_fails.t ........... ok
t/50_Cxn_Pool/33_sniff_both_nodes_fail.t ...... ok
t/50_Cxn_Pool/34_sniff_node_timeout.t ......... ok
t/50_Cxn_Pool/35_sniff_both_nodes_timeout.t ... ok
t/50_Cxn_Pool/36_sniff_nodes_starting.t ....... ok
t/50_Cxn_Pool/37_sniff_runaway_nodes.t ........ ok
t/50_Cxn_Pool/38_bad_sniff.t .................. ok
t/50_Cxn_Pool/39_sniff_max_content.t .......... ok
t/50_Cxn_Pool/40_sniff_extract_host.t ......... ok
t/50_Cxn_Pool/50_noping_normal.t .............. ok
t/50_Cxn_Pool/51_noping_node_fails.t .......... ok
t/50_Cxn_Pool/52_noping_node_timesout.t ....... ok
t/50_Cxn_Pool/53_noping_all_nodes_fail.t ...... ok
t/50_Cxn_Pool/54_noping_nodes_starting.t ...... ok
t/50_Cxn_Pool/55_noping_runaway_nodes.t ....... ok
t/50_Cxn_Pool/56_max_retries.t ................ ok
t/60_Cxn/10_basic.t ........................... ok
t/60_Cxn/20_process_response.t ................ ok
t/60_Cxn/30_http.t ............................ ok
t/95_TestServer/00_test_server.t .............. ok
t/95_TestServer/10_test_server_fork.t ......... ok
t/author-eol.t ................................ skipped: these tests are for testing by the author
t/author-no-tabs.t ............................ skipped: these tests are for testing by the author
t/author-pod-syntax.t ......................... skipped: these tests are for testing by the author
t/Client_6_0/00_print_version.t ............... skipped: No $ENV{CLIENT_VER} specified
t/Client_6_0/10_live.t ........................ skipped: No $ENV{CLIENT_VER} specified
t/Client_6_0/15_conflict.t .................... skipped: No $ENV{CLIENT_VER} specified
t/Client_6_0/23_fork_netcurl.t ................ skipped: No $ENV{CLIENT_VER} specified
t/Client_6_0/30_bulk_add_action.t ............. skipped: No $ENV{CLIENT_VER} specified
t/Client_6_0/31_bulk_helpers.t ................ skipped: No $ENV{CLIENT_VER} specified
t/Client_6_0/32_bulk_flush.t .................. skipped: No $ENV{CLIENT_VER} specified
t/Client_6_0/33_bulk_errors.t ................. skipped: No $ENV{CLIENT_VER} specified
t/Client_6_0/34_bulk_cxn_errors.t ............. skipped: No $ENV{CLIENT_VER} specified
t/Client_6_0/40_scroll.t ...................... skipped: No $ENV{CLIENT_VER} specified
t/Client_6_0/62_auth_netcurl.t ................ skipped: NetCurl - No https server specified in ES_SSL
t/Client_7_0/00_print_version.t ............... skipped: No $ENV{CLIENT_VER} specified
t/Client_7_0/10_live.t ........................ skipped: No $ENV{CLIENT_VER} specified
t/Client_7_0/23_fork_netcurl.t ................ skipped: No $ENV{CLIENT_VER} specified
t/Client_7_0/30_bulk_add_action.t ............. skipped: No $ENV{CLIENT_VER} specified
t/Client_7_0/31_bulk_helpers.t ................ skipped: No $ENV{CLIENT_VER} specified
t/Client_7_0/32_bulk_flush.t .................. skipped: No $ENV{CLIENT_VER} specified
t/Client_7_0/33_bulk_errors.t ................. skipped: No $ENV{CLIENT_VER} specified
t/Client_7_0/34_bulk_cxn_errors.t ............. skipped: No $ENV{CLIENT_VER} specified
t/Client_7_0/40_scroll.t ...................... skipped: No $ENV{CLIENT_VER} specified
t/Client_7_0/62_auth_netcurl.t ................ skipped: NetCurl - No https server specified in ES_SSL
All tests successful.
Files=82, Tests=573, 19 wallclock secs ( 0.40 usr 0.21 sys + 15.52 cusr 2.43 csys = 18.56 CPU)
Result: PASS
------------------------------
PREREQUISITES
------------------------------
Prerequisite modules loaded:
requires:
Module Need Have
--------------------------- ---- --------
HTTP::Parser::XS 0 0.17
Moo 0 2.003004
namespace::clean 0 0.27
Net::Curl::Easy 0 0.39
Search::Elasticsearch 7.00 7.715
Try::Tiny 0 0.30
build_requires:
Module Need Have
--------------------------- ---- --------
Cpanel::JSON::XS 0 4.11
Data::Dumper 0 2.174
File::Temp 0 0.2309
JSON::PP 0 4.02
JSON::XS 0 4.02
lib 0 0.65
Log::Any::Adapter 0 1.707
Log::Any::Adapter::Callback 0.09 0.09
MIME::Base64 0 3.15
POSIX 0 1.88
strict 0 1.11
Sub::Exporter 0 0.987
Test::Deep 0 1.128
Test::Exception 0 0.43
Test::More 0.98 1.302164
Test::SharedFork 0 0.35
warnings 0 1.44
------------------------------
ENVIRONMENT AND OTHER CONTEXT
------------------------------
Environment variables:
LANG = en_US.UTF-8
PATH = /usr/local/bin:/usr/bin:/bin:/usr/local/sbin:/usr/sbin:/sbin:/home/cpansand/bin/linux-gnu:/home/cpansand/bin/sh:/home/cpansand/bin:/usr/games:/home/cpansand/devel:/home/eserte/src/srezic-misc/scripts
PERL5LIB = /home/cpansand/.cpan/build/2021102103/Search-Elasticsearch-7.715-6/blib/arch:/home/cpansand/.cpan/build/2021102103/Search-Elasticsearch-7.715-6/blib/lib
PERL5OPT =
PERL5_CPANPLUS_IS_RUNNING = 2859035
PERL5_CPAN_IS_RUNNING = 2859035
PERL5_CPAN_IS_RUNNING_IN_RECURSION = 2784918,2859035
PERLDOC = -MPod::Perldoc::ToTextOverstrike
PERL_BATCH = yes
PERL_CANARY_STABILITY_NOPROMPT = 1
PERL_CPAN_REPORTER_CONFIG = /var/tmp/cpansmoker-1023/2021102023/cpanreporter_000_config.ini
PERL_EXTUTILS_AUTOINSTALL = --defaultdeps
PERL_USE_UNSAFE_INC = 1
SHELL = /usr/bin/zsh
TERM = screen
TMPDIR = /var/tmp/cpansmoker-1023/2021102023
Perl special variables (and OS-specific diagnostics, for MSWin32):
$^X = /opt/perl-5.30.0/bin/perl
$UID/$EUID = 1023 / 1023
$GID = 1023 1023
$EGID = 1023 1023
Perl module toolchain versions installed:
Module Have
------------------- --------
CPAN 2.26
CPAN::Meta 2.150010
Cwd 3.78
ExtUtils::CBuilder 0.280231
ExtUtils::Command 7.36
ExtUtils::Install 2.14
ExtUtils::MakeMaker 7.36
ExtUtils::Manifest 1.72
ExtUtils::ParseXS 3.40
File::Spec 3.78
JSON 4.02
JSON::PP 4.02
Module::Build 0.4229
Module::Signature 0.83
Parse::CPAN::Meta 2.150010
Test::Harness 3.42
Test::More 1.302164
YAML 1.29
YAML::Syck 1.31
version 0.9924
--
Summary of my perl5 (revision 5 version 30 subversion 0) configuration:
Platform:
osname=linux
osvers=5.0.16-100.fc28.x86_64
archname=x86_64-linux
uname='linux fedora-4gb-hel1-1 5.0.16-100.fc28.x86_64 #1 smp tue may 14 18:22:28 utc 2019 x86_64 x86_64 x86_64 gnulinux '
config_args='-ds -e -Dprefix=/opt/perl-5.30.0 -Dcf_email=srezic@cpan.org'
hint=recommended
useposix=true
d_sigaction=define
useithreads=undef
usemultiplicity=undef
use64bitint=define
use64bitall=define
uselongdouble=undef
usemymalloc=n
default_inc_excludes_dot=define
bincompat5005=undef
Compiler:
cc='cc'
ccflags ='-fwrapv -fno-strict-aliasing -pipe -fstack-protector-strong -I/usr/local/include -D_LARGEFILE_SOURCE -D_FILE_OFFSET_BITS=64 -D_FORTIFY_SOURCE=2'
optimize='-O2'
cppflags='-fwrapv -fno-strict-aliasing -pipe -fstack-protector-strong -I/usr/local/include'
ccversion=''
gccversion='8.3.1 20190223 (Red Hat 8.3.1-2)'
gccosandvers=''
intsize=4
longsize=8
ptrsize=8
doublesize=8
byteorder=12345678
doublekind=3
d_longlong=define
longlongsize=8
d_longdbl=define
longdblsize=16
longdblkind=3
ivtype='long'
ivsize=8
nvtype='double'
nvsize=8
Off_t='off_t'
lseeksize=8
alignbytes=8
prototype=define
Linker and Libraries:
ld='cc'
ldflags =' -fstack-protector-strong -L/usr/local/lib'
libpth=/usr/local/lib /usr/lib /lib/../lib64 /usr/lib/../lib64 /lib /lib64 /usr/lib64 /usr/local/lib64
libs=-lpthread -ldb -ldl -lm -lcrypt -lutil -lc
perllibs=-lpthread -ldl -lm -lcrypt -lutil -lc
libc=libc-2.27.so
so=so
useshrplib=false
libperl=libperl.a
gnulibc_version='2.27'
Dynamic Linking:
dlsrc=dl_dlopen.xs
dlext=so
d_dlsymun=undef
ccdlflags='-Wl,-E'
cccdlflags='-fPIC'
lddlflags='-shared -O2 -L/usr/local/lib -fstack-protector-strong'
Characteristics of this binary (from libperl):
Compile-time options:
HAS_TIMES
PERLIO_LAYERS
PERL_COPY_ON_WRITE
PERL_DONT_CREATE_GVSV
PERL_MALLOC_WRAP
PERL_OP_PARENT
PERL_PRESERVE_IVUV
USE_64_BIT_ALL
USE_64_BIT_INT
USE_LARGE_FILES
USE_LOCALE
USE_LOCALE_COLLATE
USE_LOCALE_CTYPE
USE_LOCALE_NUMERIC
USE_LOCALE_TIME
USE_PERLIO
USE_PERL_ATOF
Built under linux
Compiled at May 22 2019 22:13:24
%ENV:
PERL5LIB="/home/cpansand/.cpan/build/2021102103/Search-Elasticsearch-7.715-6/blib/arch:/home/cpansand/.cpan/build/2021102103/Search-Elasticsearch-7.715-6/blib/lib"
PERL5OPT=""
PERL5_CPANPLUS_IS_RUNNING="2859035"
PERL5_CPAN_IS_RUNNING="2859035"
PERL5_CPAN_IS_RUNNING_IN_RECURSION="2784918,2859035"
PERLDOC="-MPod::Perldoc::ToTextOverstrike"
PERL_BATCH="yes"
PERL_CANARY_STABILITY_NOPROMPT="1"
PERL_CPAN_REPORTER_CONFIG="/var/tmp/cpansmoker-1023/2021102023/cpanreporter_000_config.ini"
PERL_EXTUTILS_AUTOINSTALL="--defaultdeps"
PERL_USE_UNSAFE_INC="1"
@INC:
/home/cpansand/.cpan/build/2021102103/Search-Elasticsearch-7.715-6/blib/arch
/home/cpansand/.cpan/build/2021102103/Search-Elasticsearch-7.715-6/blib/lib
/opt/perl-5.30.0/lib/site_perl/5.30.0/x86_64-linux
/opt/perl-5.30.0/lib/site_perl/5.30.0
/opt/perl-5.30.0/lib/5.30.0/x86_64-linux
/opt/perl-5.30.0/lib/5.30.0
.