Report for GitStore-0.09

Back
From: metabase:user:30f4dfbe-2aae-11df-837a-5e0a49663a4f
Subject: PASS GitStore-0.09 v5.15.8 GNU/Linux
Date: 2012-06-08T04:00:54Z

This distribution has been tested as part of the CPAN Testers
project, supporting the Perl programming language.  See
http://wiki.cpantesters.org/ for more information or email
questions to cpan-testers-discuss@perl.org


--
Dear Yanick Champoux,

This is a computer-generated report for GitStore-0.09
on perl 5.15.8, created by CPAN-Reporter-1.2006.

Thank you for uploading your work to CPAN.  Congratulations!
All tests were successful.

Sections of this report:

    * Tester comments
    * Program output
    * Prerequisites
    * Environment and other context

------------------------------
TESTER COMMENTS
------------------------------

Additional comments from tester:

this report is from an automated smoke testing program
and was not reviewed by a human for accuracy

------------------------------
PROGRAM OUTPUT
------------------------------

Output from './Build test':

defined(@array) is deprecated at /home/njh/.cpan/build/PerlIO-via-dynamic-0.13-ztKJPy/blib/lib/PerlIO/via/dynamic.pm line 149.
	(Maybe you should just omit the defined()?)
defined(@array) is deprecated at /home/njh/.cpan/build/PerlIO-via-dynamic-0.13-ztKJPy/blib/lib/PerlIO/via/dynamic.pm line 149.
	(Maybe you should just omit the defined()?)
t/00-compile.t ........... ok
defined(@array) is deprecated at /home/njh/.cpan/build/PerlIO-via-dynamic-0.13-ztKJPy/blib/lib/PerlIO/via/dynamic.pm line 149.
	(Maybe you should just omit the defined()?)
# Testing GitStore 0.07, Perl 5.015008, /usr/local/bin/perl5.15.8
t/00-load.t .............. ok
# Testing with Perl 5.015008, /usr/local/bin/perl5.15.8
#     Carp version is 1.25
#     DateTime version is 0.73
#     File::Find version is 1.20
#     File::Temp version is 0.22
#     FindBin version is 1.51
#     Git::PurePerl version is 0.48
#     List::Util version is 1.23
#     Module::Build version is 0.4
#     Moose version is 2.0402
#     Moose::Util::TypeConstraints version is 2.0402
#     Path::Class version is 0.25
#     Scalar::Util version is 1.23
#     Storable version is 2.34
#     Test::More version is 0.98
#     strict version is 1.06
#     warnings version is 1.13
t/000-report-versions.t .. ok
defined(@array) is deprecated at /home/njh/.cpan/build/PerlIO-via-dynamic-0.13-ztKJPy/blib/lib/PerlIO/via/dynamic.pm line 149.
	(Maybe you should just omit the defined()?)
t/01-basic.t ............. ok
defined(@array) is deprecated at /home/njh/.cpan/build/PerlIO-via-dynamic-0.13-ztKJPy/blib/lib/PerlIO/via/dynamic.pm line 149.
	(Maybe you should just omit the defined()?)
t/02-next.t .............. ok
defined(@array) is deprecated at /home/njh/.cpan/build/PerlIO-via-dynamic-0.13-ztKJPy/blib/lib/PerlIO/via/dynamic.pm line 149.
	(Maybe you should just omit the defined()?)
t/03-next-next.t ......... ok
defined(@array) is deprecated at /home/njh/.cpan/build/PerlIO-via-dynamic-0.13-ztKJPy/blib/lib/PerlIO/via/dynamic.pm line 149.
	(Maybe you should just omit the defined()?)
t/history.t .............. ok
defined(@array) is deprecated at /home/njh/.cpan/build/PerlIO-via-dynamic-0.13-ztKJPy/blib/lib/PerlIO/via/dynamic.pm line 149.
	(Maybe you should just omit the defined()?)
t/many-commits.t ......... ok
t/pod.t .................. ok
All tests successful.
Files=9, Tests=62,  6 wallclock secs ( 0.04 usr  0.02 sys +  5.91 cusr  0.35 csys =  6.32 CPU)
Result: PASS

------------------------------
PREREQUISITES
------------------------------

Prerequisite modules loaded:

requires:

    Module                       Need   Have    
    ---------------------------- ------ --------
    DateTime                     0      0.73    
    Git::PurePerl                0      0.48    
    List::Util                   0      1.23    
    Moose                        0      2.0402  
    Moose::Util::TypeConstraints 0      2.0402  
    Storable                     0      2.34    
    strict                       0      1.06    
    warnings                     0      1.13    

build_requires:

    Module                       Need   Have    
    ---------------------------- ------ --------
    Carp                         0      1.25    
    File::Find                   0      1.20    
    File::Temp                   0      0.22    
    FindBin                      0      1.51    
    Module::Build                0.3601 0.40    
    Path::Class                  0      0.25    
    perl                         5.004  5.015008
    Scalar::Util                 0      1.23    
    Test::More                   0.94   0.98    

configure_requires:

    Module                       Need   Have    
    ---------------------------- ------ --------
    Module::Build                0.3601 0.40    


------------------------------
ENVIRONMENT AND OTHER CONTEXT
------------------------------

Environment variables:

    AUTOMATED_TESTING = 1
    LANG = en_GB.UTF-8
    LANGUAGE = en_GB:en
    PATH = /usr/bin:/bin
    PERL5LIB = /home/njh/.cpan/build/Git-PurePerl-0.48-pmxnRc/blib/arch:/home/njh/.cpan/build/Git-PurePerl-0.48-pmxnRc/blib/lib:/home/njh/.cpan/build/Data-Stream-Bulk-0.11-ijVZQi/blib/arch:/home/njh/.cpan/build/Data-Stream-Bulk-0.11-ijVZQi/blib/lib:/home/njh/.cpan/build/MooseX-StrictConstructor-0.19-SMt2js/blib/arch:/home/njh/.cpan/build/MooseX-StrictConstructor-0.19-SMt2js/blib/lib:/home/njh/.cpan/build/Config-GitLike-1.08-3VXQ5q/blib/arch:/home/njh/.cpan/build/Config-GitLike-1.08-3VXQ5q/blib/lib:/home/njh/.cpan/build/IO-Digest-0.10-z5GKdV/blib/arch:/home/njh/.cpan/build/IO-Digest-0.10-z5GKdV/blib/lib:/home/njh/.cpan/build/PerlIO-via-dynamic-0.13-ztKJPy/blib/arch:/home/njh/.cpan/build/PerlIO-via-dynamic-0.13-ztKJPy/blib/lib:/home/njh/.cpan/build/namespace-autoclean-0.13-0xSawp/blib/arch:/home/njh/.cpan/build/namespace-autoclean-0.13-0xSawp/blib/lib:/home/njh/.cpan/build/Test-utf8-1.00-44klqO/blib/arch:/home/njh/.cpan/build/Test-utf8-1.00-44klqO/blib/lib
    PERL5OPT = 
    PERL5_CPANPLUS_IS_RUNNING = 14204
    PERL5_CPAN_IS_RUNNING = 14204
    PERL5_MINISMOKEBOX = 0.54
    PERL_EXTUTILS_AUTOINSTALL = --defaultdeps
    PERL_MM_USE_DEFAULT = 1
    SHELL = /bin/sh

Perl special variables (and OS-specific diagnostics, for MSWin32):

    $^X = /usr/local/bin/perl5.15.8
    $UID/$EUID = 1000 / 1000
    $GID = 1000 24 25 29 30 44 46 108 112 1000
    $EGID = 1000 24 25 29 30 44 46 108 112 1000

Perl module toolchain versions installed:

    Module              Have    
    ------------------- --------
    CPAN                1.9800  
    CPAN::Meta          2.120630
    Cwd                 3.39_02 
    ExtUtils::CBuilder  0.280206
    ExtUtils::Command   1.17    
    ExtUtils::Install   1.58    
    ExtUtils::MakeMaker 6.63_02 
    ExtUtils::Manifest  1.61    
    ExtUtils::ParseXS   3.16    
    File::Spec          3.39_02 
    JSON                2.53    
    JSON::PP            2.27200 
    Module::Build       0.40    
    Module::Signature   0.68    
    Parse::CPAN::Meta   1.4404  
    Test::Harness       3.23    
    Test::More          0.98    
    YAML                0.81    
    YAML::Syck          1.20    
    version             0.96    


--

Summary of my perl5 (revision 5 version 15 subversion 8) configuration:
  Snapshot of: 95670bde8957add23fdad6b1c9da76ef317f788f
  Platform:
    osname=linux, osvers=3.2.0-1-amd64, archname=x86_64-linux-thread-multi
    uname='linux hp 3.2.0-1-amd64 #1 smp sun feb 5 15:17:15 utc 2012 x86_64 gnulinux '
    config_args='-des -Dusedevel -Accflags=-O2 -W -Wformat=2 -Wall -Wextra -pipe -mtune=native -march=native -fomit-frame-pointer -msse3 -msse2 -msse -mmmx -mfpmath=sse -D_FORTIFY_SOURCE=2 -fstack-protector -Wstack-protector -Wfloat-equal -Duseithreads'
    hint=recommended, useposix=true, d_sigaction=define
    useithreads=define, usemultiplicity=define
    useperlio=define, d_sfio=undef, uselargefiles=define, usesocks=undef
    use64bitint=define, use64bitall=define, uselongdouble=undef
    usemymalloc=n, bincompat5005=undef
  Compiler:
    cc='cc', ccflags ='-D_REENTRANT -D_GNU_SOURCE -DDEBUGGING -O2 -W -Wformat=2 -Wall -Wextra -pipe -mtune=native -march=native -fomit-frame-pointer -msse3 -msse2 -msse -mmmx -mfpmath=sse -D_FORTIFY_SOURCE=2 -fstack-protector -Wstack-protector -Wfloat-equal -fno-strict-aliasing -I/usr/local/include -D_LARGEFILE_SOURCE -D_FILE_OFFSET_BITS=64',
    optimize='-O2',
    cppflags='-D_REENTRANT -D_GNU_SOURCE -DDEBUGGING -O2 -W -Wformat=2 -Wall -Wextra -pipe -mtune=native -march=native -fomit-frame-pointer -msse3 -msse2 -msse -mmmx -mfpmath=sse -D_FORTIFY_SOURCE=2 -fstack-protector -Wstack-protector -Wfloat-equal -fno-strict-aliasing -I/usr/local/include'
    ccversion='', gccversion='4.6.3', gccosandvers=''
    intsize=4, longsize=8, ptrsize=8, doublesize=8, byteorder=12345678
    d_longlong=define, longlongsize=8, d_longdbl=define, longdblsize=16
    ivtype='long', ivsize=8, nvtype='double', nvsize=8, Off_t='off_t', lseeksize=8
    alignbytes=8, prototype=define
  Linker and Libraries:
    ld='cc', ldflags =' -fstack-protector -L/usr/local/lib'
    libpth=/usr/local/lib /lib/x86_64-linux-gnu /lib/../lib /usr/lib/x86_64-linux-gnu /usr/lib/../lib /lib /usr/lib
    libs=-lnsl -lgdbm -ldb -ldl -lm -lcrypt -lutil -lpthread -lc -lgdbm_compat
    perllibs=-lnsl -ldl -lm -lcrypt -lutil -lpthread -lc
    libc=, so=so, useshrplib=false, libperl=libperl.a
    gnulibc_version='2.13'
  Dynamic Linking:
    dlsrc=dl_dlopen.xs, dlext=so, d_dlsymun=undef, ccdlflags='-Wl,-E'
    cccdlflags='-fPIC', lddlflags='-shared -O2 -L/usr/local/lib -fstack-protector'


Characteristics of this binary (from libperl): 
  Compile-time options: DEBUGGING HAS_TIMES MULTIPLICITY PERLIO_LAYERS
                        PERL_DONT_CREATE_GVSV PERL_IMPLICIT_CONTEXT
                        PERL_MALLOC_WRAP PERL_PRESERVE_IVUV
                        PERL_TRACK_MEMPOOL PERL_USE_DEVEL USE_64_BIT_ALL
                        USE_64_BIT_INT USE_ITHREADS USE_LARGE_FILES
                        USE_LOCALE USE_LOCALE_COLLATE USE_LOCALE_CTYPE
                        USE_LOCALE_NUMERIC USE_PERLIO USE_PERL_ATOF
                        USE_REENTRANT_API
  Locally applied patches:
	SMOKE95670bde8957add23fdad6b1c9da76ef317f788f
  Built under linux
  Compiled at Mar 18 2012 00:14:58
  %ENV:
    PERL5LIB="/home/njh/.cpan/build/Git-PurePerl-0.48-pmxnRc/blib/arch:/home/njh/.cpan/build/Git-PurePerl-0.48-pmxnRc/blib/lib:/home/njh/.cpan/build/Data-Stream-Bulk-0.11-ijVZQi/blib/arch:/home/njh/.cpan/build/Data-Stream-Bulk-0.11-ijVZQi/blib/lib:/home/njh/.cpan/build/MooseX-StrictConstructor-0.19-SMt2js/blib/arch:/home/njh/.cpan/build/MooseX-StrictConstructor-0.19-SMt2js/blib/lib:/home/njh/.cpan/build/Config-GitLike-1.08-3VXQ5q/blib/arch:/home/njh/.cpan/build/Config-GitLike-1.08-3VXQ5q/blib/lib:/home/njh/.cpan/build/IO-Digest-0.10-z5GKdV/blib/arch:/home/njh/.cpan/build/IO-Digest-0.10-z5GKdV/blib/lib:/home/njh/.cpan/build/PerlIO-via-dynamic-0.13-ztKJPy/blib/arch:/home/njh/.cpan/build/PerlIO-via-dynamic-0.13-ztKJPy/blib/lib:/home/njh/.cpan/build/namespace-autoclean-0.13-0xSawp/blib/arch:/home/njh/.cpan/build/namespace-autoclean-0.13-0xSawp/blib/lib:/home/njh/.cpan/build/Test-utf8-1.00-44klqO/blib/arch:/home/njh/.cpan/build/Test-utf8-1.00-44klqO/blib/lib"
    PERL5OPT=""
    PERL5_CPANPLUS_IS_RUNNING="14204"
    PERL5_CPAN_IS_RUNNING="14204"
    PERL5_MINISMOKEBOX="0.54"
    PERL_EXTUTILS_AUTOINSTALL="--defaultdeps"
    PERL_MM_USE_DEFAULT="1"
  @INC:
    /home/njh/.cpan/build/Git-PurePerl-0.48-pmxnRc/blib/arch
    /home/njh/.cpan/build/Git-PurePerl-0.48-pmxnRc/blib/lib
    /home/njh/.cpan/build/Data-Stream-Bulk-0.11-ijVZQi/blib/arch
    /home/njh/.cpan/build/Data-Stream-Bulk-0.11-ijVZQi/blib/lib
    /home/njh/.cpan/build/MooseX-StrictConstructor-0.19-SMt2js/blib/arch
    /home/njh/.cpan/build/MooseX-StrictConstructor-0.19-SMt2js/blib/lib
    /home/njh/.cpan/build/Config-GitLike-1.08-3VXQ5q/blib/arch
    /home/njh/.cpan/build/Config-GitLike-1.08-3VXQ5q/blib/lib
    /home/njh/.cpan/build/IO-Digest-0.10-z5GKdV/blib/arch
    /home/njh/.cpan/build/IO-Digest-0.10-z5GKdV/blib/lib
    /home/njh/.cpan/build/PerlIO-via-dynamic-0.13-ztKJPy/blib/arch
    /home/njh/.cpan/build/PerlIO-via-dynamic-0.13-ztKJPy/blib/lib
    /home/njh/.cpan/build/namespace-autoclean-0.13-0xSawp/blib/arch
    /home/njh/.cpan/build/namespace-autoclean-0.13-0xSawp/blib/lib
    /home/njh/.cpan/build/Test-utf8-1.00-44klqO/blib/arch
    /home/njh/.cpan/build/Test-utf8-1.00-44klqO/blib/lib
    /usr/local/lib/perl5/site_perl/5.15.8/x86_64-linux-thread-multi
    /usr/local/lib/perl5/site_perl/5.15.8
    /usr/local/lib/perl5/5.15.8/x86_64-linux-thread-multi
    /usr/local/lib/perl5/5.15.8
    /usr/local/lib/perl5/site_perl
    .