Dist-Zilla-Plugin-DynamicPrereqs v0.040 Perl 5 v5.36.1 RC2 x86_64-linux-thread-multi-ld

Status
Pass
From
Andreas J. König (ANDK)
Dist
Dist-Zilla-Plugin-DynamicPrereqs v0.040
Platform
Perl 5 v5.36.1 RC2 x86_64-linux-thread-multi-ld
Date
2023-04-15 07:24:23
ID
8b712d48-db5e-11ed-8d34-c63e5291020c
This distribution has been tested as part of the CPAN Testers
project, supporting the Perl programming language.  See
http://wiki.cpantesters.org/ for more information or email
questions to cpan-testers-discuss@perl.org


--
Dear Karen Etheridge,

This is a computer-generated report for Dist-Zilla-Plugin-DynamicPrereqs-0.040
on perl 5.36.1, created by CPAN-Reporter-1.2018.

Thank you for uploading your work to CPAN.  Congratulations!
All tests were successful.

Sections of this report:

    * Tester comments
    * Program output
    * Prerequisites
    * Environment and other context

------------------------------
TESTER COMMENTS
------------------------------

Additional comments from tester:

this report is from an automated smoke testing program
and was not reviewed by a human for accuracy

------------------------------
PROGRAM OUTPUT
------------------------------

Output from '/usr/bin/make test':

Skip blib/lib/auto/share/module/Dist-Zilla-Plugin-DynamicPrereqs/include_subs/maybe_command (unchanged)
Skip blib/lib/auto/share/module/Dist-Zilla-Plugin-DynamicPrereqs/include_subs/is_smoker (unchanged)
Skip blib/lib/auto/share/module/Dist-Zilla-Plugin-DynamicPrereqs/include_subs/can_use (unchanged)
Skip blib/lib/auto/share/module/Dist-Zilla-Plugin-DynamicPrereqs/include_subs/is_interactive (unchanged)
Skip blib/lib/auto/share/module/Dist-Zilla-Plugin-DynamicPrereqs/include_subs/is_miniperl (unchanged)
Skip blib/lib/auto/share/module/Dist-Zilla-Plugin-DynamicPrereqs/include_subs/build_requires (unchanged)
Skip blib/lib/auto/share/module/Dist-Zilla-Plugin-DynamicPrereqs/include_subs/has_module (unchanged)
Skip blib/lib/auto/share/module/Dist-Zilla-Plugin-DynamicPrereqs/include_subs/runtime_requires (unchanged)
Skip blib/lib/auto/share/module/Dist-Zilla-Plugin-DynamicPrereqs/include_subs/can_xs (unchanged)
Skip blib/lib/auto/share/module/Dist-Zilla-Plugin-DynamicPrereqs/include_subs/can_cc (unchanged)
Skip blib/lib/auto/share/module/Dist-Zilla-Plugin-DynamicPrereqs/include_subs/prompt_default_yes (unchanged)
Skip blib/lib/auto/share/module/Dist-Zilla-Plugin-DynamicPrereqs/include_subs/requires (unchanged)
Skip blib/lib/auto/share/module/Dist-Zilla-Plugin-DynamicPrereqs/include_subs/isnt_os (unchanged)
Skip blib/lib/auto/share/module/Dist-Zilla-Plugin-DynamicPrereqs/include_subs/is_os (unchanged)
Skip blib/lib/auto/share/module/Dist-Zilla-Plugin-DynamicPrereqs/include_subs/is_trial (unchanged)
Skip blib/lib/auto/share/module/Dist-Zilla-Plugin-DynamicPrereqs/include_subs/parse_args (unchanged)
Skip blib/lib/auto/share/module/Dist-Zilla-Plugin-DynamicPrereqs/include_subs/prompt_default_no (unchanged)
Skip blib/lib/auto/share/module/Dist-Zilla-Plugin-DynamicPrereqs/include_subs/_add_prereq (unchanged)
Skip blib/lib/auto/share/module/Dist-Zilla-Plugin-DynamicPrereqs/include_subs/can_run (unchanged)
Skip blib/lib/auto/share/module/Dist-Zilla-Plugin-DynamicPrereqs/include_subs/want_pp (unchanged)
Skip blib/lib/auto/share/module/Dist-Zilla-Plugin-DynamicPrereqs/include_subs/want_xs (unchanged)
Skip blib/lib/auto/share/module/Dist-Zilla-Plugin-DynamicPrereqs/include_subs/test_requires (unchanged)
PERL_DL_NONLAZY=1 "/tmp/basesmoker-reloperl-pN8H/bin/perl" "-MExtUtils::Command::MM" "-MTest::Harness" "-e" "undef *Test::Harness::Switches; test_harness(0, 'blib/lib', 'blib/arch')" t/*.t
# 
# Versions for all modules listed in MYMETA.json (including optional ones):
# 
# === Configure Requires ===
# 
#     Module                  Want Have
#     ----------------------- ---- ----
#     ExtUtils::MakeMaker      any 7.70
#     File::ShareDir::Install 0.06 0.14
# 
# === Build Requires ===
# 
#     Module              Want Have
#     ------------------- ---- ----
#     ExtUtils::MakeMaker  any 7.70
# 
# === Test Requires ===
# 
#     Module                          Want       Have
#     ------------------------------ ----- ----------
#     Capture::Tiny                    any       0.48
#     Dist::Zilla::Plugin::MakeMaker 5.022      6.030
#     ExtUtils::MakeMaker             6.64       7.70
#     File::Spec                       any       3.84
#     File::pushd                      any      1.016
#     Module::CoreList                3.06 5.20230423
#     PadWalker                        any        2.5
#     Test::DZil                       any      6.030
#     Test::Deep                       any      1.204
#     Test::Deep::JSON                 any       0.05
#     Test::Fatal                      any      0.017
#     Test::File::ShareDir             any   1.001002
#     Test::More                      0.88   1.302194
#     Test::Needs                      any   0.002010
#     if                               any     0.0610
#     lib                              any       0.65
# 
# === Test Recommends ===
# 
#     Module         Want     Have
#     ---------- -------- --------
#     CPAN::Meta 2.120900 2.150010
# 
# === Test Conflicts ===
# 
#     Module      Want Have
#     ----------- ---- ----
#     CPAN::Index 0.01 2.29
# 
# === Runtime Requires ===
# 
#     Module                             Want   Have
#     --------------------------------- ----- ------
#     Dist::Zilla::Plugin::MakeMaker    5.022  6.030
#     Dist::Zilla::Role::AfterBuild       any  6.030
#     Dist::Zilla::Role::FileGatherer     any  6.030
#     Dist::Zilla::Role::FileMunger       any  6.030
#     Dist::Zilla::Role::MetaProvider     any  6.030
#     Dist::Zilla::Role::ModuleMetadata   any  0.006
#     Dist::Zilla::Role::PrereqSource     any  6.030
#     Dist::Zilla::Role::TextTemplate     any  6.030
#     File::ShareDir                      any  1.118
#     List::Util                         1.45   1.63
#     Module::Runtime                     any  0.016
#     Moose                               any 2.2203
#     Path::Tiny                          any  0.144
#     Term::ANSIColor                    3.00   5.01
#     Try::Tiny                           any   0.31
#     namespace::autoclean                any   0.29
#     strict                              any   1.12
#     warnings                            any   1.58
# 
# === Other Modules ===
# 
#     Module                                    Have
#     --------------------------------------- ------
#     Dist::Zilla::Plugin::MakeMaker::Awesome   0.49
#     Encode                                    3.19
#     File::Temp                              0.2311
#     JSON::PP                                  4.16
#     Module::Runtime                          0.016
#     Pod::Coverage                             0.23
#     Sub::Name                                 0.26
#     YAML                                      1.30
#     autodie                                   2.34
# 
t/00-report-prereqs.t ........... ok
t/01-basic.t .................... ok
t/02-no-makefile.t .............. ok
t/03-build_pl.t ................. ok
t/04-two-plugins.t .............. ok
t/05-overshadow-static.t ........ ok
t/06-makemaker-awesome.t ........ ok
t/07-unknown-arguments.t ........ ok
t/08-empty-prereqs.t ............ ok
t/09-delimiter-whitespace.t ..... ok
t/10-raw-from-file.t ............ ok
t/11-include-sub.t .............. ok
t/12-include-sub-definitions.t .. skipped: Need ExtUtils::HasCompiler 0.014
t/13-two-plugins.t .............. ok
t/14-nonexistent-sub.t .......... ok
t/15-conditions-raw.t ........... ok
t/17-sub-prereqs-core.t ......... ok
t/18-subs.t ..................... ok
t/19-include-subs-requires.t .... ok
t/20-include-subs-allraw.t ...... ok
t/21-body-from-file.t ........... ok
t/22-conditions-body.t .......... ok
t/23-inlined-module.t ........... ok
t/zzz-check-breaks.t ............ ok
All tests successful.
Files=24, Tests=174, 27 wallclock secs ( 0.06 usr  0.06 sys + 24.38 cusr  3.07 csys = 27.57 CPU)
Result: PASS

------------------------------
PREREQUISITES
------------------------------

Prerequisite modules loaded:

requires:

    Module                            Need  Have      
    --------------------------------- ----- ----------
    Dist::Zilla::Plugin::MakeMaker    5.022 6.030     
    Dist::Zilla::Role::AfterBuild     0     6.030     
    Dist::Zilla::Role::FileGatherer   0     6.030     
    Dist::Zilla::Role::FileMunger     0     6.030     
    Dist::Zilla::Role::MetaProvider   0     6.030     
    Dist::Zilla::Role::ModuleMetadata 0     0.006     
    Dist::Zilla::Role::PrereqSource   0     6.030     
    Dist::Zilla::Role::TextTemplate   0     6.030     
    File::ShareDir                    0     1.118     
    List::Util                        1.45  1.63      
    Module::Runtime                   0     0.016     
    Moose                             0     2.2203    
    namespace::autoclean              0     0.29      
    Path::Tiny                        0     0.144     
    perl                              5.010 5.036001  
    strict                            0     1.12      
    Term::ANSIColor                   3.00  5.01      
    Try::Tiny                         0     0.31      
    warnings                          0     1.58      

build_requires:

    Module                            Need  Have      
    --------------------------------- ----- ----------
    Capture::Tiny                     0     0.48      
    Dist::Zilla::Plugin::MakeMaker    5.022 6.030     
    ExtUtils::MakeMaker               6.64  7.70      
    File::pushd                       0     1.016     
    File::Spec                        0     3.84      
    if                                0     0.0610    
    lib                               0     0.65      
    Module::CoreList                  3.06  5.20230423
    PadWalker                         0     2.5       
    Test::Deep                        0     1.204     
    Test::Deep::JSON                  0     0.05      
    Test::DZil                        0     6.030     
    Test::Fatal                       0     0.017     
    Test::File::ShareDir              0     1.001002  
    Test::More                        0.88  1.302194  
    Test::Needs                       0     0.002010  

configure_requires:

    Module                            Need  Have      
    --------------------------------- ----- ----------
    ExtUtils::MakeMaker               0     7.70      
    File::ShareDir::Install           0.06  0.14      
    perl                              5.006 5.036001  


------------------------------
ENVIRONMENT AND OTHER CONTEXT
------------------------------

Environment variables:

    AUTOMATED_TESTING = 1
    LANG = en_US.UTF-8
    LC_ADDRESS = de_DE.UTF-8
    LC_IDENTIFICATION = de_DE.UTF-8
    LC_MEASUREMENT = de_DE.UTF-8
    LC_MONETARY = de_DE.UTF-8
    LC_NAME = de_DE.UTF-8
    LC_NUMERIC = de_DE.UTF-8
    LC_PAPER = de_DE.UTF-8
    LC_TELEPHONE = de_DE.UTF-8
    LC_TIME = de_DE.UTF-8
    PATH = /home/sand/bin:/usr/local/bin:/usr/local/sbin:/usr/sbin:/usr/bin:/sbin:/bin:/usr/games:/usr/local/games:/snap/bin:/usr/local/perl/bin:/usr/X11/bin
    PERL = /tmp/basesmoker-reloperl-pN8H/bin/perl
    PERL5LIB = /tmp/loop_over_bdir-2504-Kj9Y4v/Serge-1.4-0/blib/arch:/tmp/loop_over_bdir-2504-Kj9Y4v/Serge-1.4-0/blib/lib:/tmp/loop_over_bdir-2504-Kj9Y4v/RDF-NLP-SPARQLQuery-0.1-0/blib/arch:/tmp/loop_over_bdir-2504-Kj9Y4v/RDF-NLP-SPARQLQuery-0.1-0/blib/lib:/tmp/loop_over_bdir-2504-Kj9Y4v/dta-tokwrap-0.98-0/blib/arch:/tmp/loop_over_bdir-2504-Kj9Y4v/dta-tokwrap-0.98-0/blib/lib:/tmp/loop_over_bdir-2504-Kj9Y4v/Dpkg-1.21.19-0/blib/arch:/tmp/loop_over_bdir-2504-Kj9Y4v/Dpkg-1.21.19-0/blib/lib:/tmp/loop_over_bdir-2504-Kj9Y4v/Captive-Portal-4.10-0/blib/arch:/tmp/loop_over_bdir-2504-Kj9Y4v/Captive-Portal-4.10-0/blib/lib:/tmp/loop_over_bdir-2504-Kj9Y4v/Alien-SNMP-MIBDEV-2.020000-0/blib/arch:/tmp/loop_over_bdir-2504-Kj9Y4v/Alien-SNMP-MIBDEV-2.020000-0/blib/lib
    PERL5OPT = 
    PERL5_CPANPLUS_IS_RUNNING = 2512
    PERL5_CPAN_IS_RUNNING = 2512
    PERL_CANARY_STABILITY_NOPROMPT = 1
    PERL_MM_USE_DEFAULT = 1
    PERL_USE_UNSAFE_INC = 1
    SHELL = /usr/bin/zsh
    TERM = screen

Perl special variables (and OS-specific diagnostics, for MSWin32):

    $^X = /tmp/basesmoker-reloperl-pN8H/bin/perl
    $UID/$EUID = 1005 / 1005
    $GID = 1005 1005
    $EGID = 1005 1005

Perl module toolchain versions installed:

    Module              Have    
    ------------------- --------
    CPAN                2.34    
    CPAN::Meta          2.150010
    Cwd                 3.84    
    ExtUtils::CBuilder  0.280236
    ExtUtils::Command   7.70    
    ExtUtils::Install   2.20    
    ExtUtils::MakeMaker 7.70    
    ExtUtils::Manifest  1.73    
    ExtUtils::ParseXS   3.45    
    File::Spec          3.84    
    JSON                4.10    
    JSON::PP            4.16    
    Module::Build       0.4232  
    Module::Signature   0.88    
    Parse::CPAN::Meta   2.150010
    Test::Harness       3.44    
    Test::More          1.302194
    YAML                1.30    
    YAML::Syck          1.34    
    version             0.9929  


--

Summary of my perl5 (revision 5 version 36 subversion 1) configuration:
  Commit id: 2e60932a0e378da53c04b82e8983d9cef4dcacba
  Platform:
    osname=linux
    osvers=5.19.0-38-generic
    archname=x86_64-linux-thread-multi-ld
    uname='linux k93jammy 5.19.0-38-generic #39~22.04.1-ubuntu smp preempt_dynamic fri mar 17 21:16:15 utc 2 x86_64 x86_64 x86_64 gnulinux '
    config_args='-Dprefix=/home/sand/src/perl/repoperls/installed-perls/host/k93jammy/v5.36.1-RC2/322f -Dmyhostname=k93jammy -Dinstallusrbinperl=n -Uversiononly -Dusedevel -des -Ui_db -Dlibswanted=cl pthread socket inet nsl gdbm dbm malloc dl ld sun m crypt sec util c cposix posix ucb BSD gdbm_compat -Duseithreads -Duselongdouble -DEBUGGING=-g'
    hint=recommended
    useposix=true
    d_sigaction=define
    useithreads=define
    usemultiplicity=define
    use64bitint=define
    use64bitall=define
    uselongdouble=define
    usemymalloc=n
    default_inc_excludes_dot=define
  Compiler:
    cc='cc'
    ccflags ='-D_REENTRANT -D_GNU_SOURCE -fwrapv -fno-strict-aliasing -pipe -fstack-protector-strong -I/usr/local/include -D_LARGEFILE_SOURCE -D_FILE_OFFSET_BITS=64'
    optimize='-O2 -g'
    cppflags='-D_REENTRANT -D_GNU_SOURCE -fwrapv -fno-strict-aliasing -pipe -fstack-protector-strong -I/usr/local/include'
    ccversion=''
    gccversion='11.3.0'
    gccosandvers=''
    intsize=4
    longsize=8
    ptrsize=8
    doublesize=8
    byteorder=12345678
    doublekind=3
    d_longlong=define
    longlongsize=8
    d_longdbl=define
    longdblsize=16
    longdblkind=3
    ivtype='long'
    ivsize=8
    nvtype='long double'
    nvsize=16
    Off_t='off_t'
    lseeksize=8
    alignbytes=16
    prototype=define
  Linker and Libraries:
    ld='cc'
    ldflags =' -fstack-protector-strong -L/usr/local/lib'
    libpth=/usr/local/lib /usr/lib/x86_64-linux-gnu /usr/lib /usr/lib64
    libs=-lpthread -lnsl -ldl -lm -lcrypt -lutil -lc
    perllibs=-lpthread -lnsl -ldl -lm -lcrypt -lutil -lc
    libc=/lib/x86_64-linux-gnu/libc.so.6
    so=so
    useshrplib=false
    libperl=libperl.a
    gnulibc_version='2.35'
  Dynamic Linking:
    dlsrc=dl_dlopen.xs
    dlext=so
    d_dlsymun=undef
    ccdlflags='-Wl,-E'
    cccdlflags='-fPIC'
    lddlflags='-shared -O2 -g -L/usr/local/lib -fstack-protector-strong'


Characteristics of this binary (from libperl): 
  Compile-time options:
    HAS_TIMES
    MULTIPLICITY
    PERLIO_LAYERS
    PERL_COPY_ON_WRITE
    PERL_DONT_CREATE_GVSV
    PERL_MALLOC_WRAP
    PERL_OP_PARENT
    PERL_PRESERVE_IVUV
    PERL_USE_DEVEL
    USE_64_BIT_ALL
    USE_64_BIT_INT
    USE_ITHREADS
    USE_LARGE_FILES
    USE_LOCALE
    USE_LOCALE_COLLATE
    USE_LOCALE_CTYPE
    USE_LOCALE_NUMERIC
    USE_LOCALE_TIME
    USE_LONG_DOUBLE
    USE_PERLIO
    USE_PERL_ATOF
    USE_REENTRANT_API
    USE_THREAD_SAFE_LOCALE
  Locally applied patches:
    RC2
  Built under linux
  Compiled at Apr 12 2023 01:00:28
  %ENV:
    PERL="/tmp/basesmoker-reloperl-pN8H/bin/perl"
    PERL5LIB="/tmp/loop_over_bdir-2504-Kj9Y4v/Serge-1.4-0/blib/arch:/tmp/loop_over_bdir-2504-Kj9Y4v/Serge-1.4-0/blib/lib:/tmp/loop_over_bdir-2504-Kj9Y4v/RDF-NLP-SPARQLQuery-0.1-0/blib/arch:/tmp/loop_over_bdir-2504-Kj9Y4v/RDF-NLP-SPARQLQuery-0.1-0/blib/lib:/tmp/loop_over_bdir-2504-Kj9Y4v/dta-tokwrap-0.98-0/blib/arch:/tmp/loop_over_bdir-2504-Kj9Y4v/dta-tokwrap-0.98-0/blib/lib:/tmp/loop_over_bdir-2504-Kj9Y4v/Dpkg-1.21.19-0/blib/arch:/tmp/loop_over_bdir-2504-Kj9Y4v/Dpkg-1.21.19-0/blib/lib:/tmp/loop_over_bdir-2504-Kj9Y4v/Captive-Portal-4.10-0/blib/arch:/tmp/loop_over_bdir-2504-Kj9Y4v/Captive-Portal-4.10-0/blib/lib:/tmp/loop_over_bdir-2504-Kj9Y4v/Alien-SNMP-MIBDEV-2.020000-0/blib/arch:/tmp/loop_over_bdir-2504-Kj9Y4v/Alien-SNMP-MIBDEV-2.020000-0/blib/lib"
    PERL5OPT=""
    PERL5_CPANPLUS_IS_RUNNING="2512"
    PERL5_CPAN_IS_RUNNING="2512"
    PERL_CANARY_STABILITY_NOPROMPT="1"
    PERL_MM_USE_DEFAULT="1"
    PERL_USE_UNSAFE_INC="1"
  @INC:
    /tmp/loop_over_bdir-2504-Kj9Y4v/Serge-1.4-0/blib/arch
    /tmp/loop_over_bdir-2504-Kj9Y4v/Serge-1.4-0/blib/lib
    /tmp/loop_over_bdir-2504-Kj9Y4v/RDF-NLP-SPARQLQuery-0.1-0/blib/arch
    /tmp/loop_over_bdir-2504-Kj9Y4v/RDF-NLP-SPARQLQuery-0.1-0/blib/lib
    /tmp/loop_over_bdir-2504-Kj9Y4v/dta-tokwrap-0.98-0/blib/arch
    /tmp/loop_over_bdir-2504-Kj9Y4v/dta-tokwrap-0.98-0/blib/lib
    /tmp/loop_over_bdir-2504-Kj9Y4v/Dpkg-1.21.19-0/blib/arch
    /tmp/loop_over_bdir-2504-Kj9Y4v/Dpkg-1.21.19-0/blib/lib
    /tmp/loop_over_bdir-2504-Kj9Y4v/Captive-Portal-4.10-0/blib/arch
    /tmp/loop_over_bdir-2504-Kj9Y4v/Captive-Portal-4.10-0/blib/lib
    /tmp/loop_over_bdir-2504-Kj9Y4v/Alien-SNMP-MIBDEV-2.020000-0/blib/arch
    /tmp/loop_over_bdir-2504-Kj9Y4v/Alien-SNMP-MIBDEV-2.020000-0/blib/lib
    /home/sand/src/perl/repoperls/installed-perls/host/k93jammy/v5.36.1-RC2/322f/lib/site_perl/5.36.1/x86_64-linux-thread-multi-ld
    /home/sand/src/perl/repoperls/installed-perls/host/k93jammy/v5.36.1-RC2/322f/lib/site_perl/5.36.1
    /home/sand/src/perl/repoperls/installed-perls/host/k93jammy/v5.36.1-RC2/322f/lib/5.36.1/x86_64-linux-thread-multi-ld
    /home/sand/src/perl/repoperls/installed-perls/host/k93jammy/v5.36.1-RC2/322f/lib/5.36.1
    .