Report for Tree-Persist-1.13

Back
From: metabase:user:314402c4-2aae-11df-837a-5e0a49663a4f
Subject: PASS Tree-Persist-1.13 v5.20.2 FreeBSD
Date: 2016-05-05T12:40:27Z

This distribution has been tested as part of the CPAN Testers
project, supporting the Perl programming language.  See
http://wiki.cpantesters.org/ for more information or email
questions to cpan-testers-discuss@perl.org


--
Dear Ron Savage,

This is a computer-generated report for Tree-Persist-1.13
on perl 5.20.2, created by CPAN-Reporter-1.2016.

Thank you for uploading your work to CPAN.  Congratulations!
All tests were successful.

Sections of this report:

    * Tester comments
    * Program output
    * Prerequisites
    * Environment and other context

------------------------------
TESTER COMMENTS
------------------------------

Additional comments from tester:

none provided

------------------------------
PROGRAM OUTPUT
------------------------------

Output from '/usr/bin/make test':

PERL_DL_NONLAZY=1 "/usr/perl5.20.2p/bin/perl" "-MExtUtils::Command::MM" "-MTest::Harness" "-e" "undef *Test::Harness::Switches; test_harness(0, 'blib/lib', 'blib/arch')" t/*.t
t/add_from_db.t .......... ok
t/associate_with_db.t .... ok
t/associate_with_file.t .. ok
t/autocommit.t ........... ok
t/interface.t ............ ok
t/load_from_db.t ......... ok
t/load_from_file.t ....... ok
t/save_and_load.t ........ ok
t/save_to_db.t ........... ok
t/save_to_file.t ......... ok
All tests successful.
Files=10, Tests=157,  6 wallclock secs ( 0.20 usr  0.04 sys +  2.89 cusr  0.68 csys =  3.81 CPU)
Result: PASS

------------------------------
PREREQUISITES
------------------------------

Prerequisite modules loaded:

requires:

    Module                Need     Have    
    --------------------- -------- --------
    base                  0        2.22    
    Module::Runtime       0.013    0.014   
    Scalar::Util          1.1      1.45    
    strict                0        1.08    
    warnings              0        1.23    
    XML::Parser           2.41     2.44    

build_requires:

    Module                Need     Have    
    --------------------- -------- --------
    DBD::SQLite           1.39     1.50    
    DBI                   1.627    1.636   
    ExtUtils::MakeMaker   0        7.14    
    File::Slurp           9999.19  9999.19 
    File::Spec            0.01     3.60    
    File::Spec::Functions 0.01     3.60    
    File::Temp            0.01     0.2304  
    Test::File            1.1      1.44    
    Test::File::Contents  0.02     0.23    
    Test::More            1.001014 1.001014
    Test::Pod             1.48     1.51    
    Test::Pod::Coverage   1.1      1.10    
    Tree                  1.05     1.07    

configure_requires:

    Module                Need     Have    
    --------------------- -------- --------
    ExtUtils::MakeMaker   0        7.14    


------------------------------
ENVIRONMENT AND OTHER CONTEXT
------------------------------

Environment variables:

    LC_ALL = de_DE.ISO8859-1
    PATH = /usr/local/bin:/usr/bin:/bin:/usr/local/sbin:/usr/sbin:/sbin:/home/cpansand/bin/freebsd10.1:/home/cpansand/bin/sh:/home/cpansand/bin:/usr/games:/home/cpansand/devel:/home/eserte/src/srezic-misc/scripts
    PERL5LIB = /home/cpansand/.cpan/build/2016050512/Tree-DAG_Node-Persist-1.12-3Bfdwd/blib/arch:/home/cpansand/.cpan/build/2016050512/Tree-DAG_Node-Persist-1.12-3Bfdwd/blib/lib:/home/cpansand/.cpan/build/2016050512/GraphViz2-Marpa-2.07-DzP1sr/blib/arch:/home/cpansand/.cpan/build/2016050512/GraphViz2-Marpa-2.07-DzP1sr/blib/lib:/home/cpansand/.cpan/build/2016050512/Module-Metadata-Changes-2.10-qgVpnZ/blib/arch:/home/cpansand/.cpan/build/2016050512/Module-Metadata-Changes-2.10-qgVpnZ/blib/lib
    PERL5OPT = 
    PERL5_CPANPLUS_IS_RUNNING = 37975
    PERL5_CPAN_IS_RUNNING = 37975
    PERL5_CPAN_IS_RUNNING_IN_RECURSION = 37936,37975
    PERLDOC = -MPod::Perldoc::ToTextOverstrike
    PERL_BATCH = yes
    PERL_CANARY_STABILITY_NOPROMPT = 1
    PERL_CPAN_REPORTER_CONFIG = /var/tmp/cpansmoker-1023/2016050512/cpanreporter_000_config.ini
    PERL_EXTUTILS_AUTOINSTALL = --defaultdeps
    SHELL = /usr/local/bin/zsh
    TERM = screen
    TMPDIR = /var/tmp/cpansmoker-1023/2016050512

Perl special variables (and OS-specific diagnostics, for MSWin32):

    $^X = /usr/perl5.20.2p/bin/perl
    $UID/$EUID = 1023 / 1023
    $GID = 1023 1023
    $EGID = 1023 1023

Perl module toolchain versions installed:

    Module              Have    
    ------------------- --------
    CPAN                2.10    
    CPAN::Meta          2.150005
    Cwd                 3.60    
    ExtUtils::CBuilder  0.280224
    ExtUtils::Command   7.14    
    ExtUtils::Install   1.67    
    ExtUtils::MakeMaker 7.14    
    ExtUtils::Manifest  1.70    
    ExtUtils::ParseXS   3.24    
    File::Spec          3.60    
    JSON                2.90    
    JSON::PP            2.27300 
    Module::Build       0.4218  
    Module::Signature   0.79    
    Parse::CPAN::Meta   1.4417  
    Test::Harness       3.35    
    Test::More          1.001014
    YAML                1.15    
    YAML::Syck          1.29    
    version             0.9916  


--

Summary of my perl5 (revision 5 version 20 subversion 2) configuration:
   
  Platform:
    osname=freebsd, osvers=10.1-release, archname=amd64-freebsd
    uname='freebsd cvrsnica-freebsd-101.herceg.de 10.1-release freebsd 10.1-release #0 r274401: tue nov 11 21:02:49 utc 2014 root@releng1.nyi.freebsd.org:usrobjusrsrcsysgeneric amd64 '
    config_args='-ds -e -Dprefix=/usr/perl5.20.2p'
    hint=recommended, useposix=true, d_sigaction=define
    useithreads=undef, usemultiplicity=undef
    use64bitint=define, use64bitall=define, uselongdouble=undef
    usemymalloc=n, bincompat5005=undef
  Compiler:
    cc='cc', ccflags ='-DHAS_FPSETMASK -DHAS_FLOATINGPOINT_H -fno-strict-aliasing -pipe -fstack-protector -I/usr/local/include',
    optimize='-O',
    cppflags='-DHAS_FPSETMASK -DHAS_FLOATINGPOINT_H -fno-strict-aliasing -pipe -fstack-protector -I/usr/local/include'
    ccversion='', gccversion='4.2.1 Compatible FreeBSD Clang 3.4.1 (tags/RELEASE_34/dot1-final 208032)', gccosandvers=''
    intsize=4, longsize=8, ptrsize=8, doublesize=8, byteorder=12345678
    d_longlong=define, longlongsize=8, d_longdbl=define, longdblsize=16
    ivtype='long', ivsize=8, nvtype='double', nvsize=8, Off_t='off_t', lseeksize=8
    alignbytes=8, prototype=define
  Linker and Libraries:
    ld='cc', ldflags ='-pthread -Wl,-E  -fstack-protector -L/usr/local/lib'
    libpth=/usr/lib /usr/local/lib /usr/include/clang/3.4.1 /usr/lib
    libs=-lgdbm -lm -lcrypt -lutil -lc
    perllibs=-lm -lcrypt -lutil -lc
    libc=, so=so, useshrplib=false, libperl=libperl.a
    gnulibc_version=''
  Dynamic Linking:
    dlsrc=dl_dlopen.xs, dlext=so, d_dlsymun=undef, ccdlflags=' '
    cccdlflags='-DPIC -fPIC', lddlflags='-shared  -L/usr/local/lib -fstack-protector'


Characteristics of this binary (from libperl): 
  Compile-time options: HAS_TIMES PERLIO_LAYERS PERL_DONT_CREATE_GVSV
                        PERL_HASH_FUNC_ONE_AT_A_TIME_HARD PERL_MALLOC_WRAP
                        PERL_NEW_COPY_ON_WRITE PERL_PRESERVE_IVUV
                        USE_64_BIT_ALL USE_64_BIT_INT USE_LARGE_FILES
                        USE_LOCALE USE_LOCALE_COLLATE USE_LOCALE_CTYPE
                        USE_LOCALE_NUMERIC USE_PERLIO USE_PERL_ATOF
  Built under freebsd
  Compiled at Feb 14 2015 20:35:40
  %ENV:
    PERL5LIB="/home/cpansand/.cpan/build/2016050512/Tree-DAG_Node-Persist-1.12-3Bfdwd/blib/arch:/home/cpansand/.cpan/build/2016050512/Tree-DAG_Node-Persist-1.12-3Bfdwd/blib/lib:/home/cpansand/.cpan/build/2016050512/GraphViz2-Marpa-2.07-DzP1sr/blib/arch:/home/cpansand/.cpan/build/2016050512/GraphViz2-Marpa-2.07-DzP1sr/blib/lib:/home/cpansand/.cpan/build/2016050512/Module-Metadata-Changes-2.10-qgVpnZ/blib/arch:/home/cpansand/.cpan/build/2016050512/Module-Metadata-Changes-2.10-qgVpnZ/blib/lib"
    PERL5OPT=""
    PERL5_CPANPLUS_IS_RUNNING="37975"
    PERL5_CPAN_IS_RUNNING="37975"
    PERL5_CPAN_IS_RUNNING_IN_RECURSION="37936,37975"
    PERLDOC="-MPod::Perldoc::ToTextOverstrike"
    PERL_BATCH="yes"
    PERL_CANARY_STABILITY_NOPROMPT="1"
    PERL_CPAN_REPORTER_CONFIG="/var/tmp/cpansmoker-1023/2016050512/cpanreporter_000_config.ini"
    PERL_EXTUTILS_AUTOINSTALL="--defaultdeps"
  @INC:
    /home/cpansand/.cpan/build/2016050512/Tree-DAG_Node-Persist-1.12-3Bfdwd/blib/arch
    /home/cpansand/.cpan/build/2016050512/Tree-DAG_Node-Persist-1.12-3Bfdwd/blib/lib
    /home/cpansand/.cpan/build/2016050512/GraphViz2-Marpa-2.07-DzP1sr/blib/arch
    /home/cpansand/.cpan/build/2016050512/GraphViz2-Marpa-2.07-DzP1sr/blib/lib
    /home/cpansand/.cpan/build/2016050512/Module-Metadata-Changes-2.10-qgVpnZ/blib/arch
    /home/cpansand/.cpan/build/2016050512/Module-Metadata-Changes-2.10-qgVpnZ/blib/lib
    /usr/perl5.20.2p/lib/site_perl/5.20.2/amd64-freebsd
    /usr/perl5.20.2p/lib/site_perl/5.20.2
    /usr/perl5.20.2p/lib/5.20.2/amd64-freebsd
    /usr/perl5.20.2p/lib/5.20.2
    .