Report for SOAP-WSDL-2.00.99_3

Back
From: metabase:user:31dd1d2e-2aae-11df-837a-5e0a49663a4f
Subject: PASS SOAP-WSDL-2.00.99_3 v5.12.2 
Date: 2011-02-14T11:59:20Z

This distribution has been tested as part of the CPAN Testers
project, supporting the Perl programming language.  See
http://wiki.cpantesters.org/ for more information or email
questions to cpan-testers-discuss@perl.org


--
Dear Martin Kutter,

This is a computer-generated report for SOAP-WSDL-2.00.99_3
on perl 5.12.2, created by CPAN-Reporter-1.1901.

Thank you for uploading your work to CPAN.  Congratulations!
All tests were successful.

Sections of this report:

    * Tester comments
    * Program output
    * Prerequisites
    * Environment and other context

------------------------------
TESTER COMMENTS
------------------------------

Additional comments from tester:

this report is from an automated smoke testing program
and was not reviewed by a human for accuracy

------------------------------
PROGRAM OUTPUT
------------------------------

Output from 'C:\Perl-12\bin\perl.exe ./Build test':

t/002_parse_wsdl.t ....................................... ok
t/003_wsdl_based_serializer.t ............................ ok
t/011_simpleType.t ....................................... ok
t/012_element.t .......................................... ok
t/013_complexType.t ...................................... ok
t/016_client_object.t .................................... ok
t/094_cpan_meta.t ........................................ skipped: Author test.  Set $ENV{RELEASE_TESTING} to a true value to run.
t/095_copying.t .......................................... skipped: Author test.  Set $ENV{RELEASE_TESTING} to a true value to run.
t/096_characters.t ....................................... skipped: Author test.  Set $ENV{RELEASE_TESTING} to a true value to run.
t/097_kwalitee.t ......................................... skipped: Author test.  Set $ENV{RELEASE_TESTING} to a true value to run.
t/098_pod.t .............................................. skipped: Test::Pod 1.00 required for testing POD
t/099_pod_coverage.t ..................................... skipped: Author test.  Set $ENV{RELEASE_TESTING} to a true value to run.
t/SOAP/WSDL/Base.t ....................................... ok
t/SOAP/WSDL/Client.t ..................................... ok
t/SOAP/WSDL/Client/Base.t ................................ ok
t/SOAP/WSDL/Definitions.t ................................ ok
t/SOAP/WSDL/Deserializer/Hash.t .......................... ok
t/SOAP/WSDL/Deserializer/SOM.t ........................... skipped: SOAP::Lite not available
t/SOAP/WSDL/Deserializer/XSD.t ........................... ok
t/SOAP/WSDL/Expat/Base.t ................................. ok
t/SOAP/WSDL/Expat/MessageParser.t ........................ ok
file://C:/Perl-12/cpan/build/SOAP-WSDL-2.00.99_3-eAjRN1/t/acceptance/wsdl/WSDLParser-imported.wsdl already imported; ignoring it.
t/SOAP/WSDL/Expat/WSDLParser.t ........................... ok
t/SOAP/WSDL/Factory/Deserializer.t ....................... ok
t/SOAP/WSDL/Factory/Serializer.t ......................... ok
t/SOAP/WSDL/Factory/Transport.t .......................... ok
t/SOAP/WSDL/Generator/Template.t ......................... ok
t/SOAP/WSDL/Generator/Template/XSD/Import.t .............. ok
t/SOAP/WSDL/Generator/Template/XSD/MultipleNamespaces.t .. ok
t/SOAP/WSDL/Generator/Template/XSD/Unqualified.t ......... ok
t/SOAP/WSDL/Generator/Visitor.t .......................... ok
t/SOAP/WSDL/Generator/Visitor/Typemap.t .................. ok
found unrecognised attribute {http://foo.bar}Action (ignored) at C:\Perl-12\cpan\build\SOAP-WSDL-2.00.99_3-eAjRN1\blib\lib/SOAP/WSDL/Base.pm line 135.
Multiple parts detected in message testMultiPartWarning.
WS-I BP demands 0 to 1 parts in message body
Multiple parts detected in message testMultiPartWarning.
WS-I BP demands 0 to 1 parts in message body
Multiple parts detected in message testMultiPartWarning.
WS-I BP demands 0 to 1 parts in message body
Multiple parts detected in message testMultiPartWarning.
WS-I BP demands 0 to 1 parts in message body
t/SOAP/WSDL/Generator/XSD.t .............................. ok
Multiple parts detected in message testMultiPartWarning.
WS-I BP demands 0 to 1 parts in message body
Multiple parts detected in message testMultiPartWarning.
WS-I BP demands 0 to 1 parts in message body
Multiple parts detected in message testMultiPartWarning.
WS-I BP demands 0 to 1 parts in message body
Multiple parts detected in message testMultiPartWarning.
WS-I BP demands 0 to 1 parts in message body
t/SOAP/WSDL/Generator/XSD_custom_resolver.t .............. ok
Multiple parts detected in message testMultiPartWarning.
WS-I BP demands 0 to 1 parts in message body
Multiple parts detected in message testMultiPartWarning.
WS-I BP demands 0 to 1 parts in message body
Multiple parts detected in message testMultiPartWarning.
WS-I BP demands 0 to 1 parts in message body
Multiple parts detected in message testMultiPartWarning.
WS-I BP demands 0 to 1 parts in message body
t/SOAP/WSDL/Generator/XSD_dot_names.t .................... ok
t/SOAP/WSDL/Generator/XSD_nested_complextype.t ........... ok
Creating complexType class SCALAR(0x37e9804) 
Creating element class SCALAR(0x37e9804) 
Creating element class SCALAR(0x37e9804) 
Creating element class SCALAR(0x37e9804) 
Creating element class SCALAR(0x37e9804) 
t/SOAP/WSDL/Generator/XSD_recursive.t .................... ok
t/SOAP/WSDL/Generator/XSD_unsupported.t .................. ok
t/SOAP/WSDL/Part.t ....................................... ok
t/SOAP/WSDL/PortType.t ................................... ok
t/SOAP/WSDL/SOAP/Typelib/Fault11.t ....................... ok
t/SOAP/WSDL/Serializer/XSD.t ............................. ok
t/SOAP/WSDL/Server.t ..................................... ok
t/SOAP/WSDL/Server/CGI.t ................................. skipped: IO::Scalar required for testing...
t/SOAP/WSDL/Server/Mod_Perl2.t ........................... skipped: Test::MockObject required for faking mod_perl
Subroutine SOAP::WSDL::Server::Simple::_output redefined at t/SOAP/WSDL/Server/Simple.t line 52.
Subroutine SOAP::WSDL::Server::Simple::_output redefined at t/SOAP/WSDL/Server/Simple.t line 80.
Subroutine SOAP::WSDL::Server::handle redefined at t/SOAP/WSDL/Server/Simple.t line 85.
Subroutine SOAP::WSDL::Server::Simple::_output redefined at t/SOAP/WSDL/Server/Simple.t line 108.
Subroutine SOAP::WSDL::Server::handle redefined at t/SOAP/WSDL/Server/Simple.t line 113.
t/SOAP/WSDL/Server/Simple.t .............................. ok
t/SOAP/WSDL/Transport/01_Test.t .......................... ok
t/SOAP/WSDL/Transport/HTTP.t ............................. ok
t/SOAP/WSDL/Typelib/Fault11.t ............................ ok
t/SOAP/WSDL/Types.t ...................................... ok
t/SOAP/WSDL/XSD/Attribute.t .............................. ok
t/SOAP/WSDL/XSD/AttributeGroup.t ......................... ok
t/SOAP/WSDL/XSD/Builtin.t ................................ ok
t/SOAP/WSDL/XSD/ComplexType.t ............................ ok
t/SOAP/WSDL/XSD/Element.t ................................ ok
t/SOAP/WSDL/XSD/Enumeration.t ............................ ok
t/SOAP/WSDL/XSD/Schema.t ................................. ok
t/SOAP/WSDL/XSD/SimpleType.t ............................. ok
t/SOAP/WSDL/XSD/Typelib/Attribute.t ...................... ok
t/SOAP/WSDL/XSD/Typelib/Builtin/ENTITY.t ................. ok
t/SOAP/WSDL/XSD/Typelib/Builtin/ID.t ..................... ok
t/SOAP/WSDL/XSD/Typelib/Builtin/IDREF.t .................. ok
t/SOAP/WSDL/XSD/Typelib/Builtin/IDREFS.t ................. ok
t/SOAP/WSDL/XSD/Typelib/Builtin/NCName.t ................. ok
t/SOAP/WSDL/XSD/Typelib/Builtin/NMTOKEN.t ................ ok
t/SOAP/WSDL/XSD/Typelib/Builtin/NMTOKENS.t ............... ok
t/SOAP/WSDL/XSD/Typelib/Builtin/NOTATION.t ............... ok
t/SOAP/WSDL/XSD/Typelib/Builtin/Name.t ................... ok
t/SOAP/WSDL/XSD/Typelib/Builtin/QName.t .................. ok
t/SOAP/WSDL/XSD/Typelib/Builtin/anySimpleType.t .......... ok
t/SOAP/WSDL/XSD/Typelib/Builtin/anyType.t ................ ok
t/SOAP/WSDL/XSD/Typelib/Builtin/anyURI.t ................. ok
t/SOAP/WSDL/XSD/Typelib/Builtin/base64Binary.t ........... ok
t/SOAP/WSDL/XSD/Typelib/Builtin/boolean.t ................ ok
t/SOAP/WSDL/XSD/Typelib/Builtin/byte.t ................... ok
t/SOAP/WSDL/XSD/Typelib/Builtin/date.t ................... ok
t/SOAP/WSDL/XSD/Typelib/Builtin/dateTime.t ............... ok
t/SOAP/WSDL/XSD/Typelib/Builtin/decimal.t ................ ok
t/SOAP/WSDL/XSD/Typelib/Builtin/double.t ................. ok
t/SOAP/WSDL/XSD/Typelib/Builtin/duration.t ............... ok
t/SOAP/WSDL/XSD/Typelib/Builtin/float.t .................. ok
t/SOAP/WSDL/XSD/Typelib/Builtin/gDay.t ................... ok
t/SOAP/WSDL/XSD/Typelib/Builtin/gMonth.t ................. ok
t/SOAP/WSDL/XSD/Typelib/Builtin/gMonthDay.t .............. ok
t/SOAP/WSDL/XSD/Typelib/Builtin/gYear.t .................. ok
t/SOAP/WSDL/XSD/Typelib/Builtin/gYearMonth.t ............. ok
t/SOAP/WSDL/XSD/Typelib/Builtin/hexBinary.t .............. ok
t/SOAP/WSDL/XSD/Typelib/Builtin/int.t .................... ok
t/SOAP/WSDL/XSD/Typelib/Builtin/integer.t ................ ok
t/SOAP/WSDL/XSD/Typelib/Builtin/language.t ............... ok
t/SOAP/WSDL/XSD/Typelib/Builtin/list.t ................... ok
t/SOAP/WSDL/XSD/Typelib/Builtin/long.t ................... ok
t/SOAP/WSDL/XSD/Typelib/Builtin/negativeInteger.t ........ ok
t/SOAP/WSDL/XSD/Typelib/Builtin/nonNegativeInteger.t ..... ok
t/SOAP/WSDL/XSD/Typelib/Builtin/nonPositiveInteger.t ..... ok
t/SOAP/WSDL/XSD/Typelib/Builtin/normalizedString.t ....... ok
t/SOAP/WSDL/XSD/Typelib/Builtin/positiveInteger.t ........ ok
t/SOAP/WSDL/XSD/Typelib/Builtin/short.t .................. ok
t/SOAP/WSDL/XSD/Typelib/Builtin/string.t ................. ok
t/SOAP/WSDL/XSD/Typelib/Builtin/time.t ................... ok
t/SOAP/WSDL/XSD/Typelib/Builtin/token.t .................. ok
t/SOAP/WSDL/XSD/Typelib/Builtin/unsignedByte.t ........... ok
t/SOAP/WSDL/XSD/Typelib/Builtin/unsignedInt.t ............ ok
t/SOAP/WSDL/XSD/Typelib/Builtin/unsignedLong.t ........... ok
t/SOAP/WSDL/XSD/Typelib/Builtin/unsignedShort.t .......... ok
t/SOAP/WSDL/XSD/Typelib/ComplexType.t .................... ok
t/SOAP/WSDL/XSD/Typelib/Element.t ........................ ok
All tests successful.
Files=106, Tests=945, 40 wallclock secs ( 0.40 usr +  0.16 sys =  0.56 CPU)
Result: PASS

------------------------------
PREREQUISITES
------------------------------

Prerequisite modules loaded:

requires:

    Module             Need   Have    
    ------------------ ------ --------
    Class::Std::Fast   v0.0.5 0.0.8   
    Data::Dumper       0      2.128   
    Date::Format       0      2.24    
    Date::Parse        0      2.30    
    File::Basename     0      2.78    
    File::Path         0      2.08_01 
    Getopt::Long       0      2.38    
    List::Util         0      1.23    
    LWP::UserAgent     0      5.835   
    perl               v5.8.0 5.012002
    Template           2.18   2.22    
    Term::ReadKey      0      2.30    
    URI                0      1.56    
    XML::Parser::Expat 0      2.40    

build_requires:

    Module             Need   Have    
    ------------------ ------ --------
    Class::Std::Fast   v0.0.5 0.0.8   
    Cwd                0      3.33    
    Date::Format       0      2.24    
    Date::Parse        0      2.30    
    File::Basename     0      2.78    
    File::Path         0      2.08_01 
    File::Spec         0      3.33    
    Getopt::Long       0      2.38    
    List::Util         0      1.23    
    LWP::UserAgent     0      5.835   
    Module::Build      0      0.3607  
    Storable           0      2.22    
    Template           2.18   2.22    
    Test::More         0      0.96    
    XML::Parser::Expat 0      2.40    

configure_requires:

    Module             Need   Have    
    ------------------ ------ --------
    Module::Build      0.36   0.3607  


------------------------------
ENVIRONMENT AND OTHER CONTEXT
------------------------------

Environment variables:

    ACTIVEPERL_CONFIG_SILENT = 1
    AUTOMATED_TESTING = 1
    COMSPEC = C:\Windows\system32\cmd.exe
    NUMBER_OF_PROCESSORS = 2
    PATH = C:\Perl-12\site\bin;C:\Perl-12\bin;C:\Program Files (x86)\PC Connectivity Solution\;c:\Program Files (x86)\NVIDIA Corporation\PhysX\Common;C:\Program Files (x86)\ActiveState Komodo IDE 5\;C:\Windows\system32;C:\Windows;C:\Windows\System32\Wbem;C:\Windows\System32\WindowsPowerShell\v1.0\;C:\Program Files (x86)\TortoiseSVN\bin
    PERL5LIB = C:\Perl-12\cpan\build\Template-Toolkit-2.22-_nJaJl/blib/arch;C:\Perl-12\cpan\build\Template-Toolkit-2.22-_nJaJl/blib/lib;C:\Perl-12\cpan\build\AppConfig-1.66-gamvNe/blib/arch;C:\Perl-12\cpan\build\AppConfig-1.66-gamvNe/blib/lib;C:\Perl-12\cpan\build\Class-Std-Fast-v0.0.8-Vucghr/blib/arch;C:\Perl-12\cpan\build\Class-Std-Fast-v0.0.8-Vucghr/blib/lib;C:\Perl-12\cpan\build\Class-Std-0.011-gByseT/blib/arch;C:\Perl-12\cpan\build\Class-Std-0.011-gByseT/blib/lib;C:\Perl-12\cpan\build\TimeDate-1.20-jd2Fnh/blib/arch;C:\Perl-12\cpan\build\TimeDate-1.20-jd2Fnh/blib/lib
    PERL5OPT = 
    PERL5_CPANPLUS_IS_RUNNING = 9668
    PERL5_CPAN_IS_RUNNING = 9668
    PERL5_CPAN_IS_RUNNING_IN_RECURSION = 6776,9668
    PERL_CR_SMOKER_CURRENT = SOAP-WSDL-2.00.99_3
    PERL_EXTUTILS_AUTOINSTALL = --defaultdeps
    PERL_MM_USE_DEFAULT = 1
    PROCESSOR_IDENTIFIER = AMD64 Family 16 Model 4 Stepping 2, AuthenticAMD
    TEMP = C:\Users\Mithaldu\AppData\Local\Temp
    TERM = dumb

Perl special variables (and OS-specific diagnostics, for MSWin32):

    $^X = C:\Perl-12\bin\perl.exe
    $UID/$EUID = 0 / 0
    $GID = 0
    $EGID = 0
    Win32::GetOSName = Win7
    Win32::GetOSVersion = , 6, 1, 7600, 2, 0, 0, 256, 1
    Win32::FsType = NTFS
    Win32::IsAdminUser = 0

Perl module toolchain versions installed:

    Module              Have   
    ------------------- -------
    CPAN                1.94_56
    Cwd                 3.33   
    ExtUtils::CBuilder  0.2703 
    ExtUtils::Command   1.16   
    ExtUtils::Install   1.55   
    ExtUtils::MakeMaker 6.56   
    ExtUtils::Manifest  1.58   
    ExtUtils::ParseXS   2.2206 
    File::Spec          3.33   
    Module::Build       0.3607 
    Module::Signature   n/a    
    Test::Harness       3.22   
    Test::More          0.96   
    YAML                n/a    
    YAML::Syck          n/a    
    version             0.82   


--

Summary of my perl5 (revision 5 version 12 subversion 2) configuration:
   
  Platform:
    osname=MSWin32, osvers=5.2, archname=MSWin32-x86-multi-thread
    uname=''
    config_args='undef'
    hint=recommended, useposix=true, d_sigaction=undef
    useithreads=define, usemultiplicity=define
    useperlio=define, d_sfio=undef, uselargefiles=define, usesocks=undef
    use64bitint=undef, use64bitall=undef, uselongdouble=undef
    usemymalloc=n, bincompat5005=undef
  Compiler:
    cc='C:/Perl-12/site/bin/gcc.exe', ccflags ='-DNDEBUG -DWIN32 -D_CONSOLE -DNO_STRICT -DHAVE_DES_FCRYPT -DUSE_SITECUSTOMIZE -DPERL_IMPLICIT_CONTEXT -DPERL_IMPLICIT_SYS -DUSE_PERLIO -D_USE_32BIT_TIME_T -DPERL_MSVCRT_READFIX -DHASATTRIBUTE -fno-strict-aliasing -mms-bitfields',
    optimize='-O2',
    cppflags='-DWIN32'
    ccversion='', gccversion='3.4.5 (mingw-vista special r3)', gccosandvers=''
    intsize=4, longsize=4, ptrsize=4, doublesize=8, byteorder=1234
    d_longlong=undef, longlongsize=8, d_longdbl=define, longdblsize=8
    ivtype='long', ivsize=4, nvtype='double', nvsize=8, Off_t='__int64', lseeksize=8
    alignbytes=8, prototype=define
  Linker and Libraries:
    ld='C:\Perl-12\site\bin\g++.exe', ldflags ='-L"C:\Perl-12\lib\CORE"'
    libpth=\lib
    libs=-lkernel32 -luser32 -lgdi32 -lwinspool -lcomdlg32 -ladvapi32 -lshell32 -lole32 -loleaut32 -lnetapi32 -luuid -lws2_32 -lmpr -lwinmm -lversion -lodbc32 -lodbccp32 -lcomctl32 -lmsvcrt
    perllibs=-lkernel32 -luser32 -lgdi32 -lwinspool -lcomdlg32 -ladvapi32 -lshell32 -lole32 -loleaut32 -lnetapi32 -luuid -lws2_32 -lmpr -lwinmm -lversion -lodbc32 -lodbccp32 -lcomctl32 -lmsvcrt
    libc=msvcrt.lib, so=dll, useshrplib=true, libperl=perl512.lib
    gnulibc_version=''
  Dynamic Linking:
    dlsrc=dl_win32.xs, dlext=dll, d_dlsymun=undef, ccdlflags=' '
    cccdlflags=' ', lddlflags='-mdll -L"C:\Perl-12\lib\CORE"'


Characteristics of this binary (from libperl): 
  Compile-time options: MULTIPLICITY PERL_DONT_CREATE_GVSV
                        PERL_IMPLICIT_CONTEXT PERL_IMPLICIT_SYS
                        PERL_MALLOC_WRAP PL_OP_SLAB_ALLOC USE_ITHREADS
                        USE_LARGE_FILES USE_PERLIO USE_PERL_ATOF
                        USE_SITECUSTOMIZE
  Locally applied patches:
	ActivePerl Build 1203 [294165]
	1fd8fa4 Add Wolfram Humann to AUTHORS
	f120055 make string-append on win32 100 times faster
	a2a8d15 Define _USE_32BIT_TIME_T for VC6 and VC7
	007cfe1 Don't pretend to support really old VC++ compilers
	6d8f7c9 Get rid of obsolete PerlCRT.dll support
	d956618 Make Term::ReadLine::findConsole fall back to STDIN if /dev/tty can't be opened
	321e50c Escape patch strings before embedding them in patchlevel.h
  Built under MSWin32
  Compiled at Dec  9 2010 04:03:28
  %ENV:
    PERL5LIB="C:\Perl-12\cpan\build\Template-Toolkit-2.22-_nJaJl/blib/arch;C:\Perl-12\cpan\build\Template-Toolkit-2.22-_nJaJl/blib/lib;C:\Perl-12\cpan\build\AppConfig-1.66-gamvNe/blib/arch;C:\Perl-12\cpan\build\AppConfig-1.66-gamvNe/blib/lib;C:\Perl-12\cpan\build\Class-Std-Fast-v0.0.8-Vucghr/blib/arch;C:\Perl-12\cpan\build\Class-Std-Fast-v0.0.8-Vucghr/blib/lib;C:\Perl-12\cpan\build\Class-Std-0.011-gByseT/blib/arch;C:\Perl-12\cpan\build\Class-Std-0.011-gByseT/blib/lib;C:\Perl-12\cpan\build\TimeDate-1.20-jd2Fnh/blib/arch;C:\Perl-12\cpan\build\TimeDate-1.20-jd2Fnh/blib/lib"
    PERL5_CPANPLUS_IS_RUNNING="9668"
    PERL5_CPAN_IS_RUNNING="9668"
    PERL5_CPAN_IS_RUNNING_IN_RECURSION="6776,9668"
    PERL_CR_SMOKER_CURRENT="SOAP-WSDL-2.00.99_3"
    PERL_EXTUTILS_AUTOINSTALL="--defaultdeps"
    PERL_MM_USE_DEFAULT="1"
  @INC:
    C:\Perl-12\cpan\build\Template-Toolkit-2.22-_nJaJl/blib/arch
    C:\Perl-12\cpan\build\Template-Toolkit-2.22-_nJaJl/blib/lib
    C:\Perl-12\cpan\build\AppConfig-1.66-gamvNe/blib/arch
    C:\Perl-12\cpan\build\AppConfig-1.66-gamvNe/blib/lib
    C:\Perl-12\cpan\build\Class-Std-Fast-v0.0.8-Vucghr/blib/arch
    C:\Perl-12\cpan\build\Class-Std-Fast-v0.0.8-Vucghr/blib/lib
    C:\Perl-12\cpan\build\Class-Std-0.011-gByseT/blib/arch
    C:\Perl-12\cpan\build\Class-Std-0.011-gByseT/blib/lib
    C:\Perl-12\cpan\build\TimeDate-1.20-jd2Fnh/blib/arch
    C:\Perl-12\cpan\build\TimeDate-1.20-jd2Fnh/blib/lib
    C:/Perl-12/site/lib
    C:/Perl-12/lib
    .