Test-Script v1.23 Perl 5 v5.24.3 darwin-2level

Status
Pass
From
Karen Etheridge
Dist
Test-Script v1.23
Platform
Perl 5 v5.24.3 darwin-2level
Date
2017-09-24 17:26:48
ID
8bac6b7a-a14d-11e7-a62c-ed62820768ab
This distribution has been tested as part of the CPAN Testers
project, supporting the Perl programming language.  See
http://wiki.cpantesters.org/ for more information or email
questions to cpan-testers-discuss@perl.org


--
Dear PLICEASE,

This is a computer-generated report for Test-Script-1.23
on perl 5.24.3, created by App::cpanminus::reporter 0.17 (1.7043).

Thank you for uploading your work to CPAN.  Congratulations!
All tests were successful.

Sections of this report:

    * Tester comments
    * Program output
    * Prerequisites
    * Environment and other context

------------------------------
TESTER COMMENTS
------------------------------

Additional comments from tester:

none provided

------------------------------
PROGRAM OUTPUT
------------------------------

Output from '':

Building and testing Test-Script-1.23
Manifying 1 pod document
PERL_DL_NONLAZY=1 "/Volumes/amaretto/Users/ether/perl5/perlbrew/perls/24.3/bin/perl" "-MExtUtils::Command::MM" "-MTest::Harness" "-e" "undef *Test::Harness::Switches; test_harness(0, 'blib/lib', 'blib/arch')" t/*.t
# 
# 
# 
# HARNESS_ACTIVE=1
# HARNESS_OPTIONS=
# HARNESS_VERSION=3.36_01
# LANG=en_CA.UTF-8
# PERL5LIB=/Volumes/amaretto/Users/ether/.cpanm/work/1506273843.54123/Test-Script-1.23/blib/lib:/Volumes/amaretto/Users/ether/.cpanm/work/1506273843.54123/Test-Script-1.23/blib/arch:/Volumes/amaretto/Users/ether/.perlbrew/libs/24.3@std/lib/perl5/darwin-2level:/Volumes/amaretto/Users/ether/.perlbrew/libs/24.3@std/lib/perl5:/Volumes/amaretto/Users/ether/.perlbrew/libs/24.3@std/lib/perl5
# PERLBREW_BASHRC_VERSION=0.80
# PERLBREW_HOME=/Volumes/amaretto/Users/ether/.perlbrew
# PERLBREW_LIB=std
# PERLBREW_MANPATH=/Volumes/amaretto/Users/ether/.perlbrew/libs/24.3@std/man:/Volumes/amaretto/Users/ether/perl5/perlbrew/perls/24.3/man
# PERLBREW_PATH=/Volumes/amaretto/Users/ether/.perlbrew/libs/24.3@std/bin:/Volumes/amaretto/Users/ether/perl5/perlbrew/bin:/Volumes/amaretto/Users/ether/perl5/perlbrew/perls/24.3/bin
# PERLBREW_PERL=24.3
# PERLBREW_ROOT=/Volumes/amaretto/Users/ether/perl5/perlbrew
# PERLBREW_VERSION=0.80
# PERLDOC=-oman
# PERLDOC_PAGER=less -sicMr
# PERL_AUTOINSTALL_PREFER_CPAN=1
# PERL_DL_NONLAZY=1
# PERL_INSTALL_QUIET=1
# PERL_LOCAL_LIB_ROOT=/Volumes/amaretto/Users/ether/.perlbrew/libs/24.3@std
# PERL_MB_OPT=--install_base /Volumes/amaretto/Users/ether/.perlbrew/libs/24.3@std
# PERL_MM_OPT=INSTALL_BASE=/Volumes/amaretto/Users/ether/.perlbrew/libs/24.3@std
# PERL_MM_USE_DEFAULT=1
# PERL_USE_UNSAFE_INC=1
# SHELL=/bin/bash
# 
# 
# 
# PERL5LIB path
# /Volumes/amaretto/Users/ether/.cpanm/work/1506273843.54123/Test-Script-1.23/blib/lib
# /Volumes/amaretto/Users/ether/.cpanm/work/1506273843.54123/Test-Script-1.23/blib/arch
# /Volumes/amaretto/Users/ether/.perlbrew/libs/24.3@std/lib/perl5/darwin-2level
# /Volumes/amaretto/Users/ether/.perlbrew/libs/24.3@std/lib/perl5
# /Volumes/amaretto/Users/ether/.perlbrew/libs/24.3@std/lib/perl5
# 
# 
# 
# perl                5.024003
# Capture::Tiny       0.46
# ExtUtils::MakeMaker 7.1002
# File::Spec          3.6301
# IO::Handle          1.36
# Probe::Perl         0.03
# Test2::API          1.302096
# Test2::V0           0.000077
# 
# 
# 
t/01_use.t ........................ ok
t/00_diag.t ....................... ok
t/test_script__import.t ........... ok
t/bug_gh9.t ....................... ok
t/test_script__exports.t .......... ok
t/test_script__script_stderr.t .... ok
t/test_script__script_stdout.t .... ok
t/test_script__script_compiles.t .. ok
t/test_script__script_runs.t ...... ok
All tests successful.
Files=9, Tests=51,  0 wallclock secs ( 0.04 usr  0.02 sys +  1.44 cusr  0.32 csys =  1.82 CPU)
Result: PASS

------------------------------
PREREQUISITES
------------------------------

Prerequisite modules loaded:

    No requirements found

------------------------------
ENVIRONMENT AND OTHER CONTEXT
------------------------------

Environment variables:

    HARNESS_OPTIONS = j5:c
    LANG = en_CA.UTF-8
    NO_NETWORK_TESTING = 1
    PATH = /Volumes/amaretto/Users/ether/.perlbrew/libs/24.3@std/bin:/Volumes/amaretto/Users/ether/perl5/perlbrew/bin:/Volumes/amaretto/Users/ether/perl5/perlbrew/perls/24.3/bin:/Volumes/amaretto/Users/ether/bin:/Volumes/amaretto/Users/ether/git/misc/install/jaeger/bin:/Volumes/amaretto/Users/ether/git/misc/install/generic/bin:/opt/local/bin:/opt/local/sbin:/Volumes/amaretto/Users/ether/git/git-hub/lib:/usr/local/bin:/usr/bin:/bin:/usr/sbin:/sbin:/opt/local/share/git-core/contrib/workdir
    PERL5LIB = /Volumes/amaretto/Users/ether/.perlbrew/libs/24.3@std/lib/perl5
    PERLBREW_BASHRC_VERSION = 0.80
    PERLBREW_HOME = /Volumes/amaretto/Users/ether/.perlbrew
    PERLBREW_LIB = std
    PERLBREW_MANPATH = /Volumes/amaretto/Users/ether/.perlbrew/libs/24.3@std/man:/Volumes/amaretto/Users/ether/perl5/perlbrew/perls/24.3/man
    PERLBREW_PATH = /Volumes/amaretto/Users/ether/.perlbrew/libs/24.3@std/bin:/Volumes/amaretto/Users/ether/perl5/perlbrew/bin:/Volumes/amaretto/Users/ether/perl5/perlbrew/perls/24.3/bin
    PERLBREW_PERL = 24.3
    PERLBREW_ROOT = /Volumes/amaretto/Users/ether/perl5/perlbrew
    PERLBREW_VERSION = 0.80
    PERLDOC = -oman
    PERLDOC_PAGER = less -sicMr
    PERL_AUTOINSTALL_PREFER_CPAN = 1
    PERL_INSTALL_QUIET = 1
    PERL_LOCAL_LIB_ROOT = /Volumes/amaretto/Users/ether/.perlbrew/libs/24.3@std
    PERL_MB_OPT = --install_base /Volumes/amaretto/Users/ether/.perlbrew/libs/24.3@std
    PERL_MM_OPT = INSTALL_BASE=/Volumes/amaretto/Users/ether/.perlbrew/libs/24.3@std
    PERL_USE_UNSAFE_INC = 1
    SHELL = /bin/bash
    TERM = xterm-color

Perl special variables (and OS-specific diagnostics, for MSWin32):

    EGID = 20 20 12 61 79 80 81 98 701 33 100 204 395 398 399
    EUID = 502
    EXECUTABLE_NAME = /Volumes/amaretto/Users/ether/perl5/perlbrew/perls/24.3/bin/perl
    GID = 20 20 12 61 79 80 81 98 701 33 100 204 395 398 399
    UID = 502

Perl module toolchain versions installed:

    Module              Have      
    ------------------- ----------
    CPAN                2.11_01   
    CPAN::Meta          2.150005  
    Cwd                 3.63_01   
    ExtUtils::CBuilder  0.280225  
    ExtUtils::Command   7.10_02   
    ExtUtils::Install   2.04      
    ExtUtils::MakeMaker 7.10_02   
    ExtUtils::Manifest  1.70      
    ExtUtils::ParseXS   3.31      
    File::Spec          3.63_01   
    JSON                n/a       
    JSON::PP            2.27300_01
    Module::Build       n/a       
    Module::Signature   n/a       
    Parse::CPAN::Meta   1.4417_001
    Test::Harness       3.36_01   
    Test::More          1.302096  
    YAML                n/a       
    YAML::Syck          n/a       
    version             0.9916    


--

Summary of my perl5 (revision 5 version 24 subversion 3) configuration:
   
  Platform:
    osname=darwin, osvers=16.7.0, archname=darwin-2level
    uname='darwin jaeger 16.7.0 darwin kernel version 16.7.0: thu jun 15 17:36:27 pdt 2017; root:xnu-3789.70.16~2release_x86_64 x86_64 '
    config_args='-de -Dprefix=/Volumes/amaretto/Users/ether/perl5/perlbrew/perls/24.3 -Dman1dir=none -Dman3dir=none -Aeval:scriptdir=/Volumes/amaretto/Users/ether/perl5/perlbrew/perls/24.3/bin'
    hint=recommended, useposix=true, d_sigaction=define
    useithreads=undef, usemultiplicity=undef
    use64bitint=define, use64bitall=define, uselongdouble=undef
    usemymalloc=n, bincompat5005=undef
  Compiler:
    cc='cc', ccflags ='-fno-common -DPERL_DARWIN -mmacosx-version-min=10.12 -fno-strict-aliasing -pipe -fstack-protector-strong -I/opt/local/include -DPERL_USE_SAFE_PUTENV',
    optimize='-O3',
    cppflags='-fno-common -DPERL_DARWIN -mmacosx-version-min=10.12 -fno-strict-aliasing -pipe -fstack-protector-strong -I/opt/local/include'
    ccversion='', gccversion='4.2.1 Compatible Apple LLVM 9.0.0 (clang-900.0.37)', gccosandvers=''
    intsize=4, longsize=8, ptrsize=8, doublesize=8, byteorder=12345678, doublekind=3
    d_longlong=define, longlongsize=8, d_longdbl=define, longdblsize=16, longdblkind=3
    ivtype='long', ivsize=8, nvtype='double', nvsize=8, Off_t='off_t', lseeksize=8
    alignbytes=8, prototype=define
  Linker and Libraries:
    ld='cc', ldflags =' -mmacosx-version-min=10.12 -fstack-protector-strong -L/opt/local/lib'
    libpth=/Applications/Xcode.app/Contents/Developer/Toolchains/XcodeDefault.xctoolchain/usr/lib/clang/9.0.0/lib /Applications/Xcode.app/Contents/Developer/Toolchains/XcodeDefault.xctoolchain/usr/lib /usr/lib /opt/local/lib
    libs=-lpthread -lgdbm -ldbm -ldl -lm -lutil -lc
    perllibs=-lpthread -ldl -lm -lutil -lc
    libc=, so=dylib, useshrplib=false, libperl=libperl.a
    gnulibc_version=''
  Dynamic Linking:
    dlsrc=dl_dlopen.xs, dlext=bundle, d_dlsymun=undef, ccdlflags=' '
    cccdlflags=' ', lddlflags=' -mmacosx-version-min=10.12 -bundle -undefined dynamic_lookup -L/opt/local/lib -fstack-protector-strong'


Characteristics of this binary (from libperl): 
  Compile-time options: HAS_TIMES PERLIO_LAYERS PERL_COPY_ON_WRITE
                        PERL_DONT_CREATE_GVSV
                        PERL_HASH_FUNC_ONE_AT_A_TIME_HARD PERL_MALLOC_WRAP
                        PERL_PRESERVE_IVUV PERL_USE_SAFE_PUTENV
                        USE_64_BIT_ALL USE_64_BIT_INT USE_LARGE_FILES
                        USE_LOCALE USE_LOCALE_COLLATE USE_LOCALE_CTYPE
                        USE_LOCALE_NUMERIC USE_LOCALE_TIME USE_PERLIO
                        USE_PERL_ATOF
  Locally applied patches:
	Devel::PatchPerl 1.48
  Built under darwin
  Compiled at Sep 24 2017 10:14:42
  %ENV:
    PERL5LIB="/Volumes/amaretto/Users/ether/.perlbrew/libs/24.3@std/lib/perl5"
    PERLBREW_BASHRC_VERSION="0.80"
    PERLBREW_HOME="/Volumes/amaretto/Users/ether/.perlbrew"
    PERLBREW_LIB="std"
    PERLBREW_MANPATH="/Volumes/amaretto/Users/ether/.perlbrew/libs/24.3@std/man:/Volumes/amaretto/Users/ether/perl5/perlbrew/perls/24.3/man"
    PERLBREW_PATH="/Volumes/amaretto/Users/ether/.perlbrew/libs/24.3@std/bin:/Volumes/amaretto/Users/ether/perl5/perlbrew/bin:/Volumes/amaretto/Users/ether/perl5/perlbrew/perls/24.3/bin"
    PERLBREW_PERL="24.3"
    PERLBREW_ROOT="/Volumes/amaretto/Users/ether/perl5/perlbrew"
    PERLBREW_VERSION="0.80"
    PERLDOC="-oman"
    PERLDOC_PAGER="less -sicMr"
    PERL_AUTOINSTALL_PREFER_CPAN="1"
    PERL_INSTALL_QUIET="1"
    PERL_LOCAL_LIB_ROOT="/Volumes/amaretto/Users/ether/.perlbrew/libs/24.3@std"
    PERL_MB_OPT="--install_base /Volumes/amaretto/Users/ether/.perlbrew/libs/24.3@std"
    PERL_MM_OPT="INSTALL_BASE=/Volumes/amaretto/Users/ether/.perlbrew/libs/24.3@std"
    PERL_USE_UNSAFE_INC="1"
  @INC:
    /Volumes/amaretto/Users/ether/.perlbrew/libs/24.3@std/lib/perl5/darwin-2level
    /Volumes/amaretto/Users/ether/.perlbrew/libs/24.3@std/lib/perl5
    /Volumes/amaretto/Users/ether/perl5/perlbrew/perls/24.3/lib/site_perl/5.24.3/darwin-2level
    /Volumes/amaretto/Users/ether/perl5/perlbrew/perls/24.3/lib/site_perl/5.24.3
    /Volumes/amaretto/Users/ether/perl5/perlbrew/perls/24.3/lib/5.24.3/darwin-2level
    /Volumes/amaretto/Users/ether/perl5/perlbrew/perls/24.3/lib/5.24.3
    .