JavaScript-Duktape v2.5.0 Perl 5 v5.30.1 RC1 x86_64-linux-ld

Status
Pass
From
Andreas J. König (ANDK)
Dist
JavaScript-Duktape v2.5.0
Platform
Perl 5 v5.30.1 RC1 x86_64-linux-ld
Date
2019-11-05 19:29:12
ID
8bb2d65c-0002-11ea-ab09-fa6c0b6b758c
This distribution has been tested as part of the CPAN Testers
project, supporting the Perl programming language.  See
http://wiki.cpantesters.org/ for more information or email
questions to cpan-testers-discuss@perl.org


--
Dear Mahmoud A. Mehyar,

This is a computer-generated report for JavaScript-Duktape-2.5.0
on perl 5.30.1, created by CPAN-Reporter-1.2018.

Thank you for uploading your work to CPAN.  Congratulations!
All tests were successful.

Sections of this report:

    * Tester comments
    * Program output
    * Prerequisites
    * Environment and other context

------------------------------
TESTER COMMENTS
------------------------------

Additional comments from tester:

this report is from an automated smoke testing program
and was not reviewed by a human for accuracy

------------------------------
PROGRAM OUTPUT
------------------------------

Output from '/usr/bin/make test':

PERL_DL_NONLAZY=1 "/tmp/basesmoker-reloperl-4bIP/bin/perl" "-MExtUtils::Command::MM" "-MTest::Harness" "-e" "undef *Test::Harness::Switches; test_harness(0, 'blib/lib', 'blib/arch')" t/bool.t t/buffer.t t/circular-push.t t/circular-to-perl.t t/circular.t t/deep-objects.t t/dll.t t/eval-function.t t/json.t t/nested.t t/number-or-string.t t/perl-data.t t/pointer.t t/prop.t t/safe-call.t t/trycatch.t t/typescript.t t/uncaught.t t/undefined.t t/use.t t/utf8.t t/api/base64.t t/api/c-constructor.t t/api/call-prop.t t/api/charcodeat.t t/api/check-type.t t/api/compile.t t/api/dev-cfunc-name.t t/api/dup.t t/api/eval-string.t t/api/hex.t t/api/internal-key-access.t t/api/internal-property-basics.t t/api/multithread.t t/api/pcall-method.t t/api/pcall-perl-function.t t/api/pcall-prop.t t/api/pcall.t t/api/pcompile-nofile.t t/api/push_this.t t/api/require-lstring.t t/api/safe-call.t t/api/safe-to-string.t t/api/symbol-getownpropertysymbols.t t/objects/01.t t/objects/02.t t/objects/03.t t/objects/buffer.t t/objects/string.t t/objects/this.t t/sandbox/00-memory.t t/sandbox/01-memory.t t/sandbox/02-memory.t t/sandbox/bubble-timeout.t t/sandbox/check.t t/sandbox/timeout.t
t/api/base64.t ........................ ok
t/api/c-constructor.t ................. ok
t/api/call-prop.t ..................... ok
t/api/charcodeat.t .................... ok
t/api/check-type.t .................... ok
t/api/compile.t ....................... ok
t/api/dev-cfunc-name.t ................ ok
t/api/dup.t ........................... ok
t/api/eval-string.t ................... ok
t/api/hex.t ........................... ok
t/api/internal-key-access.t ........... ok
t/api/internal-property-basics.t ...... ok
t/api/multithread.t ................... ok
t/api/pcall-method.t .................. ok
t/api/pcall-perl-function.t ........... ok
t/api/pcall-prop.t .................... ok
t/api/pcall.t ......................... ok
t/api/pcompile-nofile.t ............... skipped: duktape v2.0 does not support file/io functions
# skip -- #skip - this binding: type=8, value='DEADBEEF'
t/api/push_this.t ..................... ok
t/api/require-lstring.t ............... ok
t/api/safe-call.t ..................... ok
t/api/safe-to-string.t ................ ok
t/api/symbol-getownpropertysymbols.t .. ok
t/bool.t .............................. ok
t/buffer.t ............................ ok
t/circular-push.t ..................... ok
t/circular-to-perl.t .................. ok
t/circular.t .......................... ok
t/deep-objects.t ...................... ok
t/dll.t ............................... skipped: DEV test
t/eval-function.t ..................... ok
t/json.t .............................. ok
CAUGHT ERR: Error: oh boy! at t/nested.t line 18.
t/nested.t ............................ ok
t/number-or-string.t .................. ok
t/objects/01.t ........................ ok
t/objects/02.t ........................ ok
t/objects/03.t ........................ ok
t/objects/buffer.t .................... ok
t/objects/string.t .................... ok
t/objects/this.t ...................... ok
t/perl-data.t ......................... ok
t/pointer.t ........................... ok
t/prop.t .............................. ok
t/safe-call.t ......................... ok
t/sandbox/00-memory.t ................. ok
t/sandbox/01-memory.t ................. ok
t/sandbox/02-memory.t ................. ok
t/sandbox/bubble-timeout.t ............ ok
t/sandbox/check.t ..................... ok
t/sandbox/timeout.t ................... ok
t/trycatch.t .......................... ok
t/typescript.t ........................ ok
t/uncaught.t .......................... ok
t/undefined.t ......................... ok
t/use.t ............................... ok
t/utf8.t .............................. ok
All tests successful.
Files=56, Tests=773, 41 wallclock secs ( 0.18 usr  0.21 sys + 33.33 cusr  6.46 csys = 40.18 CPU)
Result: PASS

------------------------------
PREREQUISITES
------------------------------

Prerequisite modules loaded:

requires:

    Module              Need  Have 
    ------------------- ----- -----
    Inline              0.80  0.83 
    Inline::C           0.75  0.81 

build_requires:

    Module              Need  Have 
    ------------------- ----- -----
    ExtUtils::MakeMaker 0     7.38 
    Test::Fatal         0.014 0.014
    Try::Tiny           0.24  0.30 

configure_requires:

    Module              Need  Have 
    ------------------- ----- -----
    ExtUtils::MakeMaker 6.63  7.38 
    Inline::MakeMaker   0.51  0.83 


------------------------------
ENVIRONMENT AND OTHER CONTEXT
------------------------------

Environment variables:

    AUTOMATED_TESTING = 1
    LANG = en_US.UTF-8
    PATH = /home/sand/bin:/usr/local/bin:/usr/local/sbin:/usr/sbin:/usr/bin:/sbin:/bin:/usr/games:/usr/local/games:/usr/local/perl/bin:/usr/X11/bin
    PERL = /tmp/basesmoker-reloperl-4bIP/bin/perl
    PERL5LIB = /tmp/loop_over_bdir-31470-FZv_GO/Serge-1.4-0/blib/arch:/tmp/loop_over_bdir-31470-FZv_GO/Serge-1.4-0/blib/lib:/tmp/loop_over_bdir-31470-FZv_GO/shishi-0.0.1-0/blib/arch:/tmp/loop_over_bdir-31470-FZv_GO/shishi-0.0.1-0/blib/lib:/tmp/loop_over_bdir-31470-FZv_GO/Dpkg-1.19.7-0/blib/arch:/tmp/loop_over_bdir-31470-FZv_GO/Dpkg-1.19.7-0/blib/lib:/tmp/loop_over_bdir-31470-FZv_GO/DBIx-Migration-Directories-0.12-0/blib/arch:/tmp/loop_over_bdir-31470-FZv_GO/DBIx-Migration-Directories-0.12-0/blib/lib:/tmp/loop_over_bdir-31470-FZv_GO/Simulation-Automate-1.0.1-0/blib/arch:/tmp/loop_over_bdir-31470-FZv_GO/Simulation-Automate-1.0.1-0/blib/lib:/tmp/loop_over_bdir-31470-FZv_GO/AllKnowingDNS-1.7-0/blib/arch:/tmp/loop_over_bdir-31470-FZv_GO/AllKnowingDNS-1.7-0/blib/lib
    PERL5OPT = 
    PERL5_CPANPLUS_IS_RUNNING = 31478
    PERL5_CPAN_IS_RUNNING = 31478
    PERL_CANARY_STABILITY_NOPROMPT = 1
    PERL_MM_USE_DEFAULT = 1
    PERL_USE_UNSAFE_INC = 1
    SHELL = /usr/bin/zsh
    TERM = screen

Perl special variables (and OS-specific diagnostics, for MSWin32):

    $^X = /tmp/basesmoker-reloperl-4bIP/bin/perl
    $UID/$EUID = 1005 / 1005
    $GID = 1005 1005
    $EGID = 1005 1005

Perl module toolchain versions installed:

    Module              Have    
    ------------------- --------
    CPAN                2.27    
    CPAN::Meta          2.150010
    Cwd                 3.78    
    ExtUtils::CBuilder  0.280231
    ExtUtils::Command   7.38    
    ExtUtils::Install   2.14    
    ExtUtils::MakeMaker 7.38    
    ExtUtils::Manifest  1.72    
    ExtUtils::ParseXS   3.40    
    File::Spec          3.78    
    JSON                4.02    
    JSON::PP            4.04    
    Module::Build       0.4229  
    Module::Signature   0.83    
    Parse::CPAN::Meta   2.150010
    Test::Harness       3.42    
    Test::More          1.302168
    YAML                1.29    
    YAML::Syck          1.31    
    version             0.9924  


--

Summary of my perl5 (revision 5 version 30 subversion 1) configuration:
  Commit id: c7b0f4381d9ba7446b031fd197f0817ead76cc96
  Platform:
    osname=linux
    osvers=4.15.0-66-generic
    archname=x86_64-linux-ld
    uname='linux k93bionic 4.15.0-66-generic #75-ubuntu smp tue oct 1 05:24:09 utc 2019 x86_64 x86_64 x86_64 gnulinux '
    config_args='-Dprefix=/home/sand/src/perl/repoperls/installed-perls/host/k93bionic/v5.30.1-RC1/ca05 -Dmyhostname=k93bionic -Dinstallusrbinperl=n -Uversiononly -Dusedevel -des -Ui_db -Dlibswanted=cl pthread socket inet nsl gdbm dbm malloc dl ld sun m crypt sec util c cposix posix ucb BSD gdbm_compat -Uuseithreads -Duselongdouble -DEBUGGING=-g'
    hint=recommended
    useposix=true
    d_sigaction=define
    useithreads=undef
    usemultiplicity=undef
    use64bitint=define
    use64bitall=define
    uselongdouble=define
    usemymalloc=n
    default_inc_excludes_dot=define
    bincompat5005=undef
  Compiler:
    cc='cc'
    ccflags ='-fwrapv -fno-strict-aliasing -pipe -fstack-protector-strong -I/usr/local/include -D_LARGEFILE_SOURCE -D_FILE_OFFSET_BITS=64'
    optimize='-O2 -g'
    cppflags='-fwrapv -fno-strict-aliasing -pipe -fstack-protector-strong -I/usr/local/include'
    ccversion=''
    gccversion='7.4.0'
    gccosandvers=''
    intsize=4
    longsize=8
    ptrsize=8
    doublesize=8
    byteorder=12345678
    doublekind=3
    d_longlong=define
    longlongsize=8
    d_longdbl=define
    longdblsize=16
    longdblkind=3
    ivtype='long'
    ivsize=8
    nvtype='long double'
    nvsize=16
    Off_t='off_t'
    lseeksize=8
    alignbytes=16
    prototype=define
  Linker and Libraries:
    ld='cc'
    ldflags =' -fstack-protector-strong -L/usr/local/lib'
    libpth=/usr/local/lib /usr/lib/gcc/x86_64-linux-gnu/7/include-fixed /usr/include/x86_64-linux-gnu /usr/lib /lib/x86_64-linux-gnu /lib/../lib /usr/lib/x86_64-linux-gnu /usr/lib/../lib /lib
    libs=-lpthread -lnsl -ldl -lm -lcrypt -lutil -lc
    perllibs=-lpthread -lnsl -ldl -lm -lcrypt -lutil -lc
    libc=libc-2.27.so
    so=so
    useshrplib=false
    libperl=libperl.a
    gnulibc_version='2.27'
  Dynamic Linking:
    dlsrc=dl_dlopen.xs
    dlext=so
    d_dlsymun=undef
    ccdlflags='-Wl,-E'
    cccdlflags='-fPIC'
    lddlflags='-shared -O2 -g -L/usr/local/lib -fstack-protector-strong'


Characteristics of this binary (from libperl): 
  Compile-time options:
    HAS_TIMES
    PERLIO_LAYERS
    PERL_COPY_ON_WRITE
    PERL_DONT_CREATE_GVSV
    PERL_MALLOC_WRAP
    PERL_OP_PARENT
    PERL_PRESERVE_IVUV
    PERL_USE_DEVEL
    USE_64_BIT_ALL
    USE_64_BIT_INT
    USE_LARGE_FILES
    USE_LOCALE
    USE_LOCALE_COLLATE
    USE_LOCALE_CTYPE
    USE_LOCALE_NUMERIC
    USE_LOCALE_TIME
    USE_LONG_DOUBLE
    USE_PERLIO
    USE_PERL_ATOF
  Locally applied patches:
    RC1
  Built under linux
  Compiled at Nov  4 2019 04:04:39
  %ENV:
    PERL="/tmp/basesmoker-reloperl-4bIP/bin/perl"
    PERL5LIB="/tmp/loop_over_bdir-31470-FZv_GO/Serge-1.4-0/blib/arch:/tmp/loop_over_bdir-31470-FZv_GO/Serge-1.4-0/blib/lib:/tmp/loop_over_bdir-31470-FZv_GO/shishi-0.0.1-0/blib/arch:/tmp/loop_over_bdir-31470-FZv_GO/shishi-0.0.1-0/blib/lib:/tmp/loop_over_bdir-31470-FZv_GO/Dpkg-1.19.7-0/blib/arch:/tmp/loop_over_bdir-31470-FZv_GO/Dpkg-1.19.7-0/blib/lib:/tmp/loop_over_bdir-31470-FZv_GO/DBIx-Migration-Directories-0.12-0/blib/arch:/tmp/loop_over_bdir-31470-FZv_GO/DBIx-Migration-Directories-0.12-0/blib/lib:/tmp/loop_over_bdir-31470-FZv_GO/Simulation-Automate-1.0.1-0/blib/arch:/tmp/loop_over_bdir-31470-FZv_GO/Simulation-Automate-1.0.1-0/blib/lib:/tmp/loop_over_bdir-31470-FZv_GO/AllKnowingDNS-1.7-0/blib/arch:/tmp/loop_over_bdir-31470-FZv_GO/AllKnowingDNS-1.7-0/blib/lib"
    PERL5OPT=""
    PERL5_CPANPLUS_IS_RUNNING="31478"
    PERL5_CPAN_IS_RUNNING="31478"
    PERL_CANARY_STABILITY_NOPROMPT="1"
    PERL_MM_USE_DEFAULT="1"
    PERL_USE_UNSAFE_INC="1"
  @INC:
    /tmp/loop_over_bdir-31470-FZv_GO/Serge-1.4-0/blib/arch
    /tmp/loop_over_bdir-31470-FZv_GO/Serge-1.4-0/blib/lib
    /tmp/loop_over_bdir-31470-FZv_GO/shishi-0.0.1-0/blib/arch
    /tmp/loop_over_bdir-31470-FZv_GO/shishi-0.0.1-0/blib/lib
    /tmp/loop_over_bdir-31470-FZv_GO/Dpkg-1.19.7-0/blib/arch
    /tmp/loop_over_bdir-31470-FZv_GO/Dpkg-1.19.7-0/blib/lib
    /tmp/loop_over_bdir-31470-FZv_GO/DBIx-Migration-Directories-0.12-0/blib/arch
    /tmp/loop_over_bdir-31470-FZv_GO/DBIx-Migration-Directories-0.12-0/blib/lib
    /tmp/loop_over_bdir-31470-FZv_GO/Simulation-Automate-1.0.1-0/blib/arch
    /tmp/loop_over_bdir-31470-FZv_GO/Simulation-Automate-1.0.1-0/blib/lib
    /tmp/loop_over_bdir-31470-FZv_GO/AllKnowingDNS-1.7-0/blib/arch
    /tmp/loop_over_bdir-31470-FZv_GO/AllKnowingDNS-1.7-0/blib/lib
    /home/sand/src/perl/repoperls/installed-perls/host/k93bionic/v5.30.1-RC1/ca05/lib/site_perl/5.30.1/x86_64-linux-ld
    /home/sand/src/perl/repoperls/installed-perls/host/k93bionic/v5.30.1-RC1/ca05/lib/site_perl/5.30.1
    /home/sand/src/perl/repoperls/installed-perls/host/k93bionic/v5.30.1-RC1/ca05/lib/5.30.1/x86_64-linux-ld
    /home/sand/src/perl/repoperls/installed-perls/host/k93bionic/v5.30.1-RC1/ca05/lib/5.30.1
    .