Text-WideChar-Util v0.172 Perl 5 v5.32.1 i386-openbsd
- Status
- Pass
- From
- Alceu Rodrigues de Freitas Junior
- Dist
-
Text-WideChar-Util v0.172
- Platform
- Perl 5 v5.32.1 i386-openbsd
- Date
- 2022-06-06 03:48:37
- ID
- 8bc0918a-e54b-11ec-b737-db65ffa5fe2c
This distribution has been tested as part of the CPAN Testers
project, supporting the Perl programming language. See
http://wiki.cpantesters.org/ for more information or email
questions to cpan-testers-discuss@perl.org
--
Dear perlancar,
This is a computer-generated report for Text-WideChar-Util-0.172
on perl 5.32.1, created by CPAN-Reporter-1.2018.
Thank you for uploading your work to CPAN. Congratulations!
All tests were successful.
Sections of this report:
* Tester comments
* Program output
* Prerequisites
* Environment and other context
------------------------------
TESTER COMMENTS
------------------------------
Additional comments from tester:
this report is from an automated smoke testing program
and was not reviewed by a human for accuracy
------------------------------
PROGRAM OUTPUT
------------------------------
Output from '/usr/bin/make test':
PERL_DL_NONLAZY=1 "/usr/bin/perl" "-MExtUtils::Command::MM" "-MTest::Harness" "-e" "undef *Test::Harness::Switches; test_harness(0, 'blib/lib', 'blib/arch')" t/*.t
t/00-compile.t ........... ok
t/01-basics.t ............ skipped: Chinese locale not supported on this system
t/author-critic.t ........ skipped: these tests are for testing by the author
t/author-pod-coverage.t .. skipped: these tests are for testing by the author
t/author-pod-syntax.t .... skipped: these tests are for testing by the author
Wide character (U+5B58) in pattern match (m//) at /mnt/cpan_build_dir/goku/Text-WideChar-Util-0.172-0/blib/lib/Text/WideChar/Util.pm line 167.
Wide character (U+5B58) in pattern match (m//) at /mnt/cpan_build_dir/goku/Text-WideChar-Util-0.172-0/blib/lib/Text/WideChar/Util.pm line 199.
Wide character (U+50A8) in pattern match (m//) at /mnt/cpan_build_dir/goku/Text-WideChar-Util-0.172-0/blib/lib/Text/WideChar/Util.pm line 199.
Wide character (U+548C) in pattern match (m//) at /mnt/cpan_build_dir/goku/Text-WideChar-Util-0.172-0/blib/lib/Text/WideChar/Util.pm line 199.
Wide character (U+4FE1) in pattern match (m//) at /mnt/cpan_build_dir/goku/Text-WideChar-Util-0.172-0/blib/lib/Text/WideChar/Util.pm line 199.
Wide character (U+606F) in pattern match (m//) at /mnt/cpan_build_dir/goku/Text-WideChar-Util-0.172-0/blib/lib/Text/WideChar/Util.pm line 199.
Wide character (U+7BA1) in pattern match (m//) at /mnt/cpan_build_dir/goku/Text-WideChar-Util-0.172-0/blib/lib/Text/WideChar/Util.pm line 199.
Wide character (U+7406) in pattern match (m//) at /mnt/cpan_build_dir/goku/Text-WideChar-Util-0.172-0/blib/lib/Text/WideChar/Util.pm line 199.
Wide character (U+516C) in pattern match (m//) at /mnt/cpan_build_dir/goku/Text-WideChar-Util-0.172-0/blib/lib/Text/WideChar/Util.pm line 199.
Wide character (U+53F8) in pattern match (m//) at /mnt/cpan_build_dir/goku/Text-WideChar-Util-0.172-0/blib/lib/Text/WideChar/Util.pm line 199.
Wide character (U+4F4D) in pattern match (m//) at /mnt/cpan_build_dir/goku/Text-WideChar-Util-0.172-0/blib/lib/Text/WideChar/Util.pm line 201.
Wide character (U+4E8E) in pattern match (m//) at /mnt/cpan_build_dir/goku/Text-WideChar-Util-0.172-0/blib/lib/Text/WideChar/Util.pm line 201.
Wide character (U+963F) in pattern match (m//) at /mnt/cpan_build_dir/goku/Text-WideChar-Util-0.172-0/blib/lib/Text/WideChar/Util.pm line 201.
Wide character (U+6839) in pattern match (m//) at /mnt/cpan_build_dir/goku/Text-WideChar-Util-0.172-0/blib/lib/Text/WideChar/Util.pm line 201.
Wide character (U+5EF7) in pattern match (m//) at /mnt/cpan_build_dir/goku/Text-WideChar-Util-0.172-0/blib/lib/Text/WideChar/Util.pm line 201.
Wide character (U+9996) in pattern match (m//) at /mnt/cpan_build_dir/goku/Text-WideChar-Util-0.172-0/blib/lib/Text/WideChar/Util.pm line 201.
Wide character (U+90FD) in pattern match (m//) at /mnt/cpan_build_dir/goku/Text-WideChar-Util-0.172-0/blib/lib/Text/WideChar/Util.pm line 201.
Wide character (U+5E03) in pattern match (m//) at /mnt/cpan_build_dir/goku/Text-WideChar-Util-0.172-0/blib/lib/Text/WideChar/Util.pm line 201.
Wide character (U+5B9C) in pattern match (m//) at /mnt/cpan_build_dir/goku/Text-WideChar-Util-0.172-0/blib/lib/Text/WideChar/Util.pm line 201.
Wide character (U+8BFA) in pattern match (m//) at /mnt/cpan_build_dir/goku/Text-WideChar-Util-0.172-0/blib/lib/Text/WideChar/Util.pm line 201.
Wide character (U+65AF) in pattern match (m//) at /mnt/cpan_build_dir/goku/Text-WideChar-Util-0.172-0/blib/lib/Text/WideChar/Util.pm line 201.
Wide character (U+827E) in pattern match (m//) at /mnt/cpan_build_dir/goku/Text-WideChar-Util-0.172-0/blib/lib/Text/WideChar/Util.pm line 201.
Wide character (U+5229) in pattern match (m//) at /mnt/cpan_build_dir/goku/Text-WideChar-Util-0.172-0/blib/lib/Text/WideChar/Util.pm line 201.
Wide character (U+65AF) in pattern match (m//) at /mnt/cpan_build_dir/goku/Text-WideChar-Util-0.172-0/blib/lib/Text/WideChar/Util.pm line 201.
Wide character (U+7684) in pattern match (m//) at /mnt/cpan_build_dir/goku/Text-WideChar-Util-0.172-0/blib/lib/Text/WideChar/Util.pm line 201.
Wide character (U+4E00) in pattern match (m//) at /mnt/cpan_build_dir/goku/Text-WideChar-Util-0.172-0/blib/lib/Text/WideChar/Util.pm line 201.
Wide character (U+4E2A) in pattern match (m//) at /mnt/cpan_build_dir/goku/Text-WideChar-Util-0.172-0/blib/lib/Text/WideChar/Util.pm line 201.
Wide character (U+5927) in pattern match (m//) at /mnt/cpan_build_dir/goku/Text-WideChar-Util-0.172-0/blib/lib/Text/WideChar/Util.pm line 201.
Wide character (U+6570) in pattern match (m//) at /mnt/cpan_build_dir/goku/Text-WideChar-Util-0.172-0/blib/lib/Text/WideChar/Util.pm line 201.
Wide character (U+636E) in pattern match (m//) at /mnt/cpan_build_dir/goku/Text-WideChar-Util-0.172-0/blib/lib/Text/WideChar/Util.pm line 201.
Wide character (U+4E2D) in pattern match (m//) at /mnt/cpan_build_dir/goku/Text-WideChar-Util-0.172-0/blib/lib/Text/WideChar/Util.pm line 201.
Wide character (U+5FC3) in pattern match (m//) at /mnt/cpan_build_dir/goku/Text-WideChar-Util-0.172-0/blib/lib/Text/WideChar/Util.pm line 201.
Wide character (U+5468) in pattern match (m//) at /mnt/cpan_build_dir/goku/Text-WideChar-Util-0.172-0/blib/lib/Text/WideChar/Util.pm line 201.
Wide character (U+4E09) in pattern match (m//) at /mnt/cpan_build_dir/goku/Text-WideChar-Util-0.172-0/blib/lib/Text/WideChar/Util.pm line 201.
Wide character (U+906D) in pattern match (m//) at /mnt/cpan_build_dir/goku/Text-WideChar-Util-0.172-0/blib/lib/Text/WideChar/Util.pm line 201.
Wide character (U+5927) in pattern match (m//) at /mnt/cpan_build_dir/goku/Text-WideChar-Util-0.172-0/blib/lib/Text/WideChar/Util.pm line 201.
Wide character (U+706B) in pattern match (m//) at /mnt/cpan_build_dir/goku/Text-WideChar-Util-0.172-0/blib/lib/Text/WideChar/Util.pm line 201.
Wide character (U+70E7) in pattern match (m//) at /mnt/cpan_build_dir/goku/Text-WideChar-Util-0.172-0/blib/lib/Text/WideChar/Util.pm line 201.
Wide character (U+6BC1) in pattern match (m//) at /mnt/cpan_build_dir/goku/Text-WideChar-Util-0.172-0/blib/lib/Text/WideChar/Util.pm line 201.
Wide character (U+FF0C) in pattern match (m//) at /mnt/cpan_build_dir/goku/Text-WideChar-Util-0.172-0/blib/lib/Text/WideChar/Util.pm line 201.
Wide character (U+4E5D) in pattern match (m//) at /mnt/cpan_build_dir/goku/Text-WideChar-Util-0.172-0/blib/lib/Text/WideChar/Util.pm line 201.
Wide character (U+540D) in pattern match (m//) at /mnt/cpan_build_dir/goku/Text-WideChar-Util-0.172-0/blib/lib/Text/WideChar/Util.pm line 201.
Wide character (U+6D88) in pattern match (m//) at /mnt/cpan_build_dir/goku/Text-WideChar-Util-0.172-0/blib/lib/Text/WideChar/Util.pm line 201.
Wide character (U+9632) in pattern match (m//) at /mnt/cpan_build_dir/goku/Text-WideChar-Util-0.172-0/blib/lib/Text/WideChar/Util.pm line 201.
Wide character (U+5458) in pattern match (m//) at /mnt/cpan_build_dir/goku/Text-WideChar-Util-0.172-0/blib/lib/Text/WideChar/Util.pm line 201.
Wide character (U+5728) in pattern match (m//) at /mnt/cpan_build_dir/goku/Text-WideChar-Util-0.172-0/blib/lib/Text/WideChar/Util.pm line 201.
Wide character (U+6551) in pattern match (m//) at /mnt/cpan_build_dir/goku/Text-WideChar-Util-0.172-0/blib/lib/Text/WideChar/Util.pm line 201.
Wide character (U+706B) in pattern match (m//) at /mnt/cpan_build_dir/goku/Text-WideChar-Util-0.172-0/blib/lib/Text/WideChar/Util.pm line 201.
Wide character (U+4E2D) in pattern match (m//) at /mnt/cpan_build_dir/goku/Text-WideChar-Util-0.172-0/blib/lib/Text/WideChar/Util.pm line 201.
Wide character (U+4E27) in pattern match (m//) at /mnt/cpan_build_dir/goku/Text-WideChar-Util-0.172-0/blib/lib/Text/WideChar/Util.pm line 201.
Wide character (U+751F) in pattern match (m//) at /mnt/cpan_build_dir/goku/Text-WideChar-Util-0.172-0/blib/lib/Text/WideChar/Util.pm line 201.
Wide character (U+FF0C) in pattern match (m//) at /mnt/cpan_build_dir/goku/Text-WideChar-Util-0.172-0/blib/lib/Text/WideChar/Util.pm line 201.
Wide character (U+4EBA) in pattern match (m//) at /mnt/cpan_build_dir/goku/Text-WideChar-Util-0.172-0/blib/lib/Text/WideChar/Util.pm line 201.
Wide character (U+5931) in pattern match (m//) at /mnt/cpan_build_dir/goku/Text-WideChar-Util-0.172-0/blib/lib/Text/WideChar/Util.pm line 201.
Wide character (U+8E2A) in pattern match (m//) at /mnt/cpan_build_dir/goku/Text-WideChar-Util-0.172-0/blib/lib/Text/WideChar/Util.pm line 201.
Wide character (U+FF0C) in pattern match (m//) at /mnt/cpan_build_dir/goku/Text-WideChar-Util-0.172-0/blib/lib/Text/WideChar/Util.pm line 201.
Wide character (U+4EBA) in pattern match (m//) at /mnt/cpan_build_dir/goku/Text-WideChar-Util-0.172-0/blib/lib/Text/WideChar/Util.pm line 201.
Wide character (U+53D7) in pattern match (m//) at /mnt/cpan_build_dir/goku/Text-WideChar-Util-0.172-0/blib/lib/Text/WideChar/Util.pm line 201.
Wide character (U+4F24) in pattern match (m//) at /mnt/cpan_build_dir/goku/Text-WideChar-Util-0.172-0/blib/lib/Text/WideChar/Util.pm line 201.
Wide character (U+3002) in pattern match (m//) at /mnt/cpan_build_dir/goku/Text-WideChar-Util-0.172-0/blib/lib/Text/WideChar/Util.pm line 201.
Wide character (U+6570) in pattern match (m//) at /mnt/cpan_build_dir/goku/Text-WideChar-Util-0.172-0/blib/lib/Text/WideChar/Util.pm line 201.
Wide character (U+636E) in pattern match (m//) at /mnt/cpan_build_dir/goku/Text-WideChar-Util-0.172-0/blib/lib/Text/WideChar/Util.pm line 201.
Wide character (U+4E2D) in pattern match (m//) at /mnt/cpan_build_dir/goku/Text-WideChar-Util-0.172-0/blib/lib/Text/WideChar/Util.pm line 201.
Wide character (U+5FC3) in pattern match (m//) at /mnt/cpan_build_dir/goku/Text-WideChar-Util-0.172-0/blib/lib/Text/WideChar/Util.pm line 201.
Wide character (U+50A8) in pattern match (m//) at /mnt/cpan_build_dir/goku/Text-WideChar-Util-0.172-0/blib/lib/Text/WideChar/Util.pm line 201.
Wide character (U+5B58) in pattern match (m//) at /mnt/cpan_build_dir/goku/Text-WideChar-Util-0.172-0/blib/lib/Text/WideChar/Util.pm line 201.
Wide character (U+4E86) in pattern match (m//) at /mnt/cpan_build_dir/goku/Text-WideChar-Util-0.172-0/blib/lib/Text/WideChar/Util.pm line 201.
Wide character (U+963F) in pattern match (m//) at /mnt/cpan_build_dir/goku/Text-WideChar-Util-0.172-0/blib/lib/Text/WideChar/Util.pm line 201.
Wide character (U+6839) in pattern match (m//) at /mnt/cpan_build_dir/goku/Text-WideChar-Util-0.172-0/blib/lib/Text/WideChar/Util.pm line 201.
Wide character (U+5EF7) in pattern match (m//) at /mnt/cpan_build_dir/goku/Text-WideChar-Util-0.172-0/blib/lib/Text/WideChar/Util.pm line 201.
Wide character (U+592E) in pattern match (m//) at /mnt/cpan_build_dir/goku/Text-WideChar-Util-0.172-0/blib/lib/Text/WideChar/Util.pm line 201.
Wide character (U+884C) in pattern match (m//) at /mnt/cpan_build_dir/goku/Text-WideChar-Util-0.172-0/blib/lib/Text/WideChar/Util.pm line 201.
Wide character (U+548C) in pattern match (m//) at /mnt/cpan_build_dir/goku/Text-WideChar-Util-0.172-0/blib/lib/Text/WideChar/Util.pm line 201.
Wide character (U+4F01) in pattern match (m//) at /mnt/cpan_build_dir/goku/Text-WideChar-Util-0.172-0/blib/lib/Text/WideChar/Util.pm line 201.
Wide character (U+4E1A) in pattern match (m//) at /mnt/cpan_build_dir/goku/Text-WideChar-Util-0.172-0/blib/lib/Text/WideChar/Util.pm line 201.
Wide character (U+6863) in pattern match (m//) at /mnt/cpan_build_dir/goku/Text-WideChar-Util-0.172-0/blib/lib/Text/WideChar/Util.pm line 201.
Wide character (U+6848) in pattern match (m//) at /mnt/cpan_build_dir/goku/Text-WideChar-Util-0.172-0/blib/lib/Text/WideChar/Util.pm line 201.
Wide character (U+FF0C) in pattern match (m//) at /mnt/cpan_build_dir/goku/Text-WideChar-Util-0.172-0/blib/lib/Text/WideChar/Util.pm line 201.
Wide character (U+56E0) in pattern match (m//) at /mnt/cpan_build_dir/goku/Text-WideChar-Util-0.172-0/blib/lib/Text/WideChar/Util.pm line 201.
Wide character (U+6B64) in pattern match (m//) at /mnt/cpan_build_dir/goku/Text-WideChar-Util-0.172-0/blib/lib/Text/WideChar/Util.pm line 201.
Wide character (U+635F) in pattern match (m//) at /mnt/cpan_build_dir/goku/Text-WideChar-Util-0.172-0/blib/lib/Text/WideChar/Util.pm line 201.
Wide character (U+5931) in pattern match (m//) at /mnt/cpan_build_dir/goku/Text-WideChar-Util-0.172-0/blib/lib/Text/WideChar/Util.pm line 201.
Wide character (U+53EF) in pattern match (m//) at /mnt/cpan_build_dir/goku/Text-WideChar-Util-0.172-0/blib/lib/Text/WideChar/Util.pm line 201.
Wide character (U+80FD) in pattern match (m//) at /mnt/cpan_build_dir/goku/Text-WideChar-Util-0.172-0/blib/lib/Text/WideChar/Util.pm line 201.
Wide character (U+975E) in pattern match (m//) at /mnt/cpan_build_dir/goku/Text-WideChar-Util-0.172-0/blib/lib/Text/WideChar/Util.pm line 201.
Wide character (U+5E38) in pattern match (m//) at /mnt/cpan_build_dir/goku/Text-WideChar-Util-0.172-0/blib/lib/Text/WideChar/Util.pm line 201.
Wide character (U+5DE8) in pattern match (m//) at /mnt/cpan_build_dir/goku/Text-WideChar-Util-0.172-0/blib/lib/Text/WideChar/Util.pm line 201.
Wide character (U+5927) in pattern match (m//) at /mnt/cpan_build_dir/goku/Text-WideChar-Util-0.172-0/blib/lib/Text/WideChar/Util.pm line 201.
Wide character (U+3002) in pattern match (m//) at /mnt/cpan_build_dir/goku/Text-WideChar-Util-0.172-0/blib/lib/Text/WideChar/Util.pm line 201.
Wide character (U+8FD9) in pattern match (m//) at /mnt/cpan_build_dir/goku/Text-WideChar-Util-0.172-0/blib/lib/Text/WideChar/Util.pm line 201.
Wide character (U+4E2A) in pattern match (m//) at /mnt/cpan_build_dir/goku/Text-WideChar-Util-0.172-0/blib/lib/Text/WideChar/Util.pm line 201.
Wide character (U+6570) in pattern match (m//) at /mnt/cpan_build_dir/goku/Text-WideChar-Util-0.172-0/blib/lib/Text/WideChar/Util.pm line 201.
Wide character (U+636E) in pattern match (m//) at /mnt/cpan_build_dir/goku/Text-WideChar-Util-0.172-0/blib/lib/Text/WideChar/Util.pm line 201.
Wide character (U+4E2D) in pattern match (m//) at /mnt/cpan_build_dir/goku/Text-WideChar-Util-0.172-0/blib/lib/Text/WideChar/Util.pm line 201.
Wide character (U+5FC3) in pattern match (m//) at /mnt/cpan_build_dir/goku/Text-WideChar-Util-0.172-0/blib/lib/Text/WideChar/Util.pm line 201.
Wide character (U+914D) in pattern match (m//) at /mnt/cpan_build_dir/goku/Text-WideChar-Util-0.172-0/blib/lib/Text/WideChar/Util.pm line 201.
Wide character (U+5907) in pattern match (m//) at /mnt/cpan_build_dir/goku/Text-WideChar-Util-0.172-0/blib/lib/Text/WideChar/Util.pm line 201.
Wide character (U+4E86) in pattern match (m//) at /mnt/cpan_build_dir/goku/Text-WideChar-Util-0.172-0/blib/lib/Text/WideChar/Util.pm line 201.
Wide character (U+79C1) in pattern match (m//) at /mnt/cpan_build_dir/goku/Text-WideChar-Util-0.172-0/blib/lib/Text/WideChar/Util.pm line 201.
Wide character (U+4EBA) in pattern match (m//) at /mnt/cpan_build_dir/goku/Text-WideChar-Util-0.172-0/blib/lib/Text/WideChar/Util.pm line 201.
Wide character (U+7684) in pattern match (m//) at /mnt/cpan_build_dir/goku/Text-WideChar-Util-0.172-0/blib/lib/Text/WideChar/Util.pm line 201.
Wide character (U+6551) in pattern match (m//) at /mnt/cpan_build_dir/goku/Text-WideChar-Util-0.172-0/blib/lib/Text/WideChar/Util.pm line 201.
Wide character (U+706B) in pattern match (m//) at /mnt/cpan_build_dir/goku/Text-WideChar-Util-0.172-0/blib/lib/Text/WideChar/Util.pm line 201.
Wide character (U+961F) in pattern match (m//) at /mnt/cpan_build_dir/goku/Text-WideChar-Util-0.172-0/blib/lib/Text/WideChar/Util.pm line 201.
Wide character (U+FF0C) in pattern match (m//) at /mnt/cpan_build_dir/goku/Text-WideChar-Util-0.172-0/blib/lib/Text/WideChar/Util.pm line 201.
Wide character (U+81EA) in pattern match (m//) at /mnt/cpan_build_dir/goku/Text-WideChar-Util-0.172-0/blib/lib/Text/WideChar/Util.pm line 201.
Wide character (U+52A8) in pattern match (m//) at /mnt/cpan_build_dir/goku/Text-WideChar-Util-0.172-0/blib/lib/Text/WideChar/Util.pm line 201.
Wide character (U+55B7) in pattern match (m//) at /mnt/cpan_build_dir/goku/Text-WideChar-Util-0.172-0/blib/lib/Text/WideChar/Util.pm line 201.
Wide character (U+6C34) in pattern match (m//) at /mnt/cpan_build_dir/goku/Text-WideChar-Util-0.172-0/blib/lib/Text/WideChar/Util.pm line 201.
Wide character (U+706D) in pattern match (m//) at /mnt/cpan_build_dir/goku/Text-WideChar-Util-0.172-0/blib/lib/Text/WideChar/Util.pm line 201.
Wide character (U+706B) in pattern match (m//) at /mnt/cpan_build_dir/goku/Text-WideChar-Util-0.172-0/blib/lib/Text/WideChar/Util.pm line 201.
Wide character (U+7CFB) in pattern match (m//) at /mnt/cpan_build_dir/goku/Text-WideChar-Util-0.172-0/blib/lib/Text/WideChar/Util.pm line 201.
Wide character (U+7EDF) in pattern match (m//) at /mnt/cpan_build_dir/goku/Text-WideChar-Util-0.172-0/blib/lib/Text/WideChar/Util.pm line 201.
Wide character (U+FF0C) in pattern match (m//) at /mnt/cpan_build_dir/goku/Text-WideChar-Util-0.172-0/blib/lib/Text/WideChar/Util.pm line 201.
Wide character (U+706B) in pattern match (m//) at /mnt/cpan_build_dir/goku/Text-WideChar-Util-0.172-0/blib/lib/Text/WideChar/Util.pm line 201.
Wide character (U+707E) in pattern match (m//) at /mnt/cpan_build_dir/goku/Text-WideChar-Util-0.172-0/blib/lib/Text/WideChar/Util.pm line 201.
Wide character (U+63A7) in pattern match (m//) at /mnt/cpan_build_dir/goku/Text-WideChar-Util-0.172-0/blib/lib/Text/WideChar/Util.pm line 201.
Wide character (U+5236) in pattern match (m//) at /mnt/cpan_build_dir/goku/Text-WideChar-Util-0.172-0/blib/lib/Text/WideChar/Util.pm line 201.
Wide character (U+7CFB) in pattern match (m//) at /mnt/cpan_build_dir/goku/Text-WideChar-Util-0.172-0/blib/lib/Text/WideChar/Util.pm line 201.
Wide character (U+7EDF) in pattern match (m//) at /mnt/cpan_build_dir/goku/Text-WideChar-Util-0.172-0/blib/lib/Text/WideChar/Util.pm line 201.
Wide character (U+4EE5) in pattern match (m//) at /mnt/cpan_build_dir/goku/Text-WideChar-Util-0.172-0/blib/lib/Text/WideChar/Util.pm line 201.
Wide character (U+53CA) in pattern match (m//) at /mnt/cpan_build_dir/goku/Text-WideChar-Util-0.172-0/blib/lib/Text/WideChar/Util.pm line 201.
Wide character (U+5176) in pattern match (m//) at /mnt/cpan_build_dir/goku/Text-WideChar-Util-0.172-0/blib/lib/Text/WideChar/Util.pm line 201.
Wide character (U+5B83) in pattern match (m//) at /mnt/cpan_build_dir/goku/Text-WideChar-Util-0.172-0/blib/lib/Text/WideChar/Util.pm line 201.
Wide character (U+706B) in pattern match (m//) at /mnt/cpan_build_dir/goku/Text-WideChar-Util-0.172-0/blib/lib/Text/WideChar/Util.pm line 201.
Wide character (U+707E) in pattern match (m//) at /mnt/cpan_build_dir/goku/Text-WideChar-Util-0.172-0/blib/lib/Text/WideChar/Util.pm line 201.
Wide character (U+9884) in pattern match (m//) at /mnt/cpan_build_dir/goku/Text-WideChar-Util-0.172-0/blib/lib/Text/WideChar/Util.pm line 201.
Wide character (U+9632) in pattern match (m//) at /mnt/cpan_build_dir/goku/Text-WideChar-Util-0.172-0/blib/lib/Text/WideChar/Util.pm line 201.
Wide character (U+7684) in pattern match (m//) at /mnt/cpan_build_dir/goku/Text-WideChar-Util-0.172-0/blib/lib/Text/WideChar/Util.pm line 201.
Wide character (U+63AA) in pattern match (m//) at /mnt/cpan_build_dir/goku/Text-WideChar-Util-0.172-0/blib/lib/Text/WideChar/Util.pm line 201.
Wide character (U+65BD) in pattern match (m//) at /mnt/cpan_build_dir/goku/Text-WideChar-Util-0.172-0/blib/lib/Text/WideChar/Util.pm line 201.
Wide character (U+3002) in pattern match (m//) at /mnt/cpan_build_dir/goku/Text-WideChar-Util-0.172-0/blib/lib/Text/WideChar/Util.pm line 201.
Wide character (U+4F46) in pattern match (m//) at /mnt/cpan_build_dir/goku/Text-WideChar-Util-0.172-0/blib/lib/Text/WideChar/Util.pm line 201.
Wide character (U+5373) in pattern match (m//) at /mnt/cpan_build_dir/goku/Text-WideChar-Util-0.172-0/blib/lib/Text/WideChar/Util.pm line 201.
Wide character (U+4FBF) in pattern match (m//) at /mnt/cpan_build_dir/goku/Text-WideChar-Util-0.172-0/blib/lib/Text/WideChar/Util.pm line 201.
Wide character (U+5982) in pattern match (m//) at /mnt/cpan_build_dir/goku/Text-WideChar-Util-0.172-0/blib/lib/Text/WideChar/Util.pm line 201.
Wide character (U+6B64) in pattern match (m//) at /mnt/cpan_build_dir/goku/Text-WideChar-Util-0.172-0/blib/lib/Text/WideChar/Util.pm line 201.
Wide character (U+FF0C) in pattern match (m//) at /mnt/cpan_build_dir/goku/Text-WideChar-Util-0.172-0/blib/lib/Text/WideChar/Util.pm line 201.
Wide character (U+4ECD) in pattern match (m//) at /mnt/cpan_build_dir/goku/Text-WideChar-Util-0.172-0/blib/lib/Text/WideChar/Util.pm line 201.
Wide character (U+7136) in pattern match (m//) at /mnt/cpan_build_dir/goku/Text-WideChar-Util-0.172-0/blib/lib/Text/WideChar/Util.pm line 201.
Wide character (U+6CA1) in pattern match (m//) at /mnt/cpan_build_dir/goku/Text-WideChar-Util-0.172-0/blib/lib/Text/WideChar/Util.pm line 201.
Wide character (U+6709) in pattern match (m//) at /mnt/cpan_build_dir/goku/Text-WideChar-Util-0.172-0/blib/lib/Text/WideChar/Util.pm line 201.
Wide character (U+9884) in pattern match (m//) at /mnt/cpan_build_dir/goku/Text-WideChar-Util-0.172-0/blib/lib/Text/WideChar/Util.pm line 201.
Wide character (U+9632) in pattern match (m//) at /mnt/cpan_build_dir/goku/Text-WideChar-Util-0.172-0/blib/lib/Text/WideChar/Util.pm line 201.
Wide character (U+707E) in pattern match (m//) at /mnt/cpan_build_dir/goku/Text-WideChar-Util-0.172-0/blib/lib/Text/WideChar/Util.pm line 201.
Wide character (U+96BE) in pattern match (m//) at /mnt/cpan_build_dir/goku/Text-WideChar-Util-0.172-0/blib/lib/Text/WideChar/Util.pm line 201.
Wide character (U+7684) in pattern match (m//) at /mnt/cpan_build_dir/goku/Text-WideChar-Util-0.172-0/blib/lib/Text/WideChar/Util.pm line 201.
Wide character (U+53D1) in pattern match (m//) at /mnt/cpan_build_dir/goku/Text-WideChar-Util-0.172-0/blib/lib/Text/WideChar/Util.pm line 201.
Wide character (U+751F) in pattern match (m//) at /mnt/cpan_build_dir/goku/Text-WideChar-Util-0.172-0/blib/lib/Text/WideChar/Util.pm line 201.
Wide character (U+3002) in pattern match (m//) at /mnt/cpan_build_dir/goku/Text-WideChar-Util-0.172-0/blib/lib/Text/WideChar/Util.pm line 201.
Wide character (U+76EE) in pattern match (m//) at /mnt/cpan_build_dir/goku/Text-WideChar-Util-0.172-0/blib/lib/Text/WideChar/Util.pm line 201.
Wide character (U+524D) in pattern match (m//) at /mnt/cpan_build_dir/goku/Text-WideChar-Util-0.172-0/blib/lib/Text/WideChar/Util.pm line 201.
Wide character (U+8FD8) in pattern match (m//) at /mnt/cpan_build_dir/goku/Text-WideChar-Util-0.172-0/blib/lib/Text/WideChar/Util.pm line 201.
Wide character (U+4E0D) in pattern match (m//) at /mnt/cpan_build_dir/goku/Text-WideChar-Util-0.172-0/blib/lib/Text/WideChar/Util.pm line 201.
Wide character (U+6E05) in pattern match (m//) at /mnt/cpan_build_dir/goku/Text-WideChar-Util-0.172-0/blib/lib/Text/WideChar/Util.pm line 201.
Wide character (U+695A) in pattern match (m//) at /mnt/cpan_build_dir/goku/Text-WideChar-Util-0.172-0/blib/lib/Text/WideChar/Util.pm line 201.
Wide character (U+6570) in pattern match (m//) at /mnt/cpan_build_dir/goku/Text-WideChar-Util-0.172-0/blib/lib/Text/WideChar/Util.pm line 201.
Wide character (U+636E) in pattern match (m//) at /mnt/cpan_build_dir/goku/Text-WideChar-Util-0.172-0/blib/lib/Text/WideChar/Util.pm line 201.
Wide character (U+4E2D) in pattern match (m//) at /mnt/cpan_build_dir/goku/Text-WideChar-Util-0.172-0/blib/lib/Text/WideChar/Util.pm line 201.
Wide character (U+5FC3) in pattern match (m//) at /mnt/cpan_build_dir/goku/Text-WideChar-Util-0.172-0/blib/lib/Text/WideChar/Util.pm line 201.
Wide character (U+8D77) in pattern match (m//) at /mnt/cpan_build_dir/goku/Text-WideChar-Util-0.172-0/blib/lib/Text/WideChar/Util.pm line 201.
Wide character (U+706B) in pattern match (m//) at /mnt/cpan_build_dir/goku/Text-WideChar-Util-0.172-0/blib/lib/Text/WideChar/Util.pm line 201.
Wide character (U+7684) in pattern match (m//) at /mnt/cpan_build_dir/goku/Text-WideChar-Util-0.172-0/blib/lib/Text/WideChar/Util.pm line 201.
Wide character (U+539F) in pattern match (m//) at /mnt/cpan_build_dir/goku/Text-WideChar-Util-0.172-0/blib/lib/Text/WideChar/Util.pm line 201.
Wide character (U+56E0) in pattern match (m//) at /mnt/cpan_build_dir/goku/Text-WideChar-Util-0.172-0/blib/lib/Text/WideChar/Util.pm line 201.
Wide character (U+3002) in pattern match (m//) at /mnt/cpan_build_dir/goku/Text-WideChar-Util-0.172-0/blib/lib/Text/WideChar/Util.pm line 201.
Wide character (U+4F4D) in pattern match (m//) at /mnt/cpan_build_dir/goku/Text-WideChar-Util-0.172-0/blib/lib/Text/WideChar/Util.pm line 205.
Wide character (U+4F4D) in pattern match (m//) at /mnt/cpan_build_dir/goku/Text-WideChar-Util-0.172-0/blib/lib/Text/WideChar/Util.pm line 207.
Wide character (U+4E8E) in pattern match (m//) at /mnt/cpan_build_dir/goku/Text-WideChar-Util-0.172-0/blib/lib/Text/WideChar/Util.pm line 207.
Wide character (U+963F) in pattern match (m//) at /mnt/cpan_build_dir/goku/Text-WideChar-Util-0.172-0/blib/lib/Text/WideChar/Util.pm line 207.
Wide character (U+6839) in pattern match (m//) at /mnt/cpan_build_dir/goku/Text-WideChar-Util-0.172-0/blib/lib/Text/WideChar/Util.pm line 207.
Wide character (U+5EF7) in pattern match (m//) at /mnt/cpan_build_dir/goku/Text-WideChar-Util-0.172-0/blib/lib/Text/WideChar/Util.pm line 207.
Wide character (U+9996) in pattern match (m//) at /mnt/cpan_build_dir/goku/Text-WideChar-Util-0.172-0/blib/lib/Text/WideChar/Util.pm line 207.
Wide character (U+90FD) in pattern match (m//) at /mnt/cpan_build_dir/goku/Text-WideChar-Util-0.172-0/blib/lib/Text/WideChar/Util.pm line 207.
Wide character (U+5E03) in pattern match (m//) at /mnt/cpan_build_dir/goku/Text-WideChar-Util-0.172-0/blib/lib/Text/WideChar/Util.pm line 207.
Wide character (U+5B9C) in pattern match (m//) at /mnt/cpan_build_dir/goku/Text-WideChar-Util-0.172-0/blib/lib/Text/WideChar/Util.pm line 207.
Wide character (U+8BFA) in pattern match (m//) at /mnt/cpan_build_dir/goku/Text-WideChar-Util-0.172-0/blib/lib/Text/WideChar/Util.pm line 207.
Wide character (U+65AF) in pattern match (m//) at /mnt/cpan_build_dir/goku/Text-WideChar-Util-0.172-0/blib/lib/Text/WideChar/Util.pm line 207.
Wide character (U+827E) in pattern match (m//) at /mnt/cpan_build_dir/goku/Text-WideChar-Util-0.172-0/blib/lib/Text/WideChar/Util.pm line 207.
Wide character (U+5229) in pattern match (m//) at /mnt/cpan_build_dir/goku/Text-WideChar-Util-0.172-0/blib/lib/Text/WideChar/Util.pm line 207.
Wide character (U+65AF) in pattern match (m//) at /mnt/cpan_build_dir/goku/Text-WideChar-Util-0.172-0/blib/lib/Text/WideChar/Util.pm line 207.
Wide character (U+7684) in pattern match (m//) at /mnt/cpan_build_dir/goku/Text-WideChar-Util-0.172-0/blib/lib/Text/WideChar/Util.pm line 207.
Wide character (U+4E00) in pattern match (m//) at /mnt/cpan_build_dir/goku/Text-WideChar-Util-0.172-0/blib/lib/Text/WideChar/Util.pm line 207.
Wide character (U+4E2A) in pattern match (m//) at /mnt/cpan_build_dir/goku/Text-WideChar-Util-0.172-0/blib/lib/Text/WideChar/Util.pm line 207.
Wide character (U+5927) in pattern match (m//) at /mnt/cpan_build_dir/goku/Text-WideChar-Util-0.172-0/blib/lib/Text/WideChar/Util.pm line 207.
Wide character (U+6570) in pattern match (m//) at /mnt/cpan_build_dir/goku/Text-WideChar-Util-0.172-0/blib/lib/Text/WideChar/Util.pm line 207.
Wide character (U+636E) in pattern match (m//) at /mnt/cpan_build_dir/goku/Text-WideChar-Util-0.172-0/blib/lib/Text/WideChar/Util.pm line 207.
Wide character (U+4E2D) in pattern match (m//) at /mnt/cpan_build_dir/goku/Text-WideChar-Util-0.172-0/blib/lib/Text/WideChar/Util.pm line 207.
Wide character (U+5FC3) in pattern match (m//) at /mnt/cpan_build_dir/goku/Text-WideChar-Util-0.172-0/blib/lib/Text/WideChar/Util.pm line 207.
Wide character (U+5468) in pattern match (m//) at /mnt/cpan_build_dir/goku/Text-WideChar-Util-0.172-0/blib/lib/Text/WideChar/Util.pm line 207.
Wide character (U+4E09) in pattern match (m//) at /mnt/cpan_build_dir/goku/Text-WideChar-Util-0.172-0/blib/lib/Text/WideChar/Util.pm line 207.
Wide character (U+906D) in pattern match (m//) at /mnt/cpan_build_dir/goku/Text-WideChar-Util-0.172-0/blib/lib/Text/WideChar/Util.pm line 207.
Wide character (U+5927) in pattern match (m//) at /mnt/cpan_build_dir/goku/Text-WideChar-Util-0.172-0/blib/lib/Text/WideChar/Util.pm line 207.
Wide character (U+706B) in pattern match (m//) at /mnt/cpan_build_dir/goku/Text-WideChar-Util-0.172-0/blib/lib/Text/WideChar/Util.pm line 207.
Wide character (U+70E7) in pattern match (m//) at /mnt/cpan_build_dir/goku/Text-WideChar-Util-0.172-0/blib/lib/Text/WideChar/Util.pm line 207.
Wide character (U+6BC1) in pattern match (m//) at /mnt/cpan_build_dir/goku/Text-WideChar-Util-0.172-0/blib/lib/Text/WideChar/Util.pm line 207.
Wide character (U+FF0C) in pattern match (m//) at /mnt/cpan_build_dir/goku/Text-WideChar-Util-0.172-0/blib/lib/Text/WideChar/Util.pm line 207.
Wide character (U+4E5D) in pattern match (m//) at /mnt/cpan_build_dir/goku/Text-WideChar-Util-0.172-0/blib/lib/Text/WideChar/Util.pm line 207.
Wide character (U+540D) in pattern match (m//) at /mnt/cpan_build_dir/goku/Text-WideChar-Util-0.172-0/blib/lib/Text/WideChar/Util.pm line 207.
Wide character (U+6D88) in pattern match (m//) at /mnt/cpan_build_dir/goku/Text-WideChar-Util-0.172-0/blib/lib/Text/WideChar/Util.pm line 207.
Wide character (U+9632) in pattern match (m//) at /mnt/cpan_build_dir/goku/Text-WideChar-Util-0.172-0/blib/lib/Text/WideChar/Util.pm line 207.
Wide character (U+5458) in pattern match (m//) at /mnt/cpan_build_dir/goku/Text-WideChar-Util-0.172-0/blib/lib/Text/WideChar/Util.pm line 207.
Wide character (U+5728) in pattern match (m//) at /mnt/cpan_build_dir/goku/Text-WideChar-Util-0.172-0/blib/lib/Text/WideChar/Util.pm line 207.
Wide character (U+6551) in pattern match (m//) at /mnt/cpan_build_dir/goku/Text-WideChar-Util-0.172-0/blib/lib/Text/WideChar/Util.pm line 207.
Wide character (U+706B) in pattern match (m//) at /mnt/cpan_build_dir/goku/Text-WideChar-Util-0.172-0/blib/lib/Text/WideChar/Util.pm line 207.
Wide character (U+4E2D) in pattern match (m//) at /mnt/cpan_build_dir/goku/Text-WideChar-Util-0.172-0/blib/lib/Text/WideChar/Util.pm line 207.
Wide character (U+4E27) in pattern match (m//) at /mnt/cpan_build_dir/goku/Text-WideChar-Util-0.172-0/blib/lib/Text/WideChar/Util.pm line 207.
Wide character (U+751F) in pattern match (m//) at /mnt/cpan_build_dir/goku/Text-WideChar-Util-0.172-0/blib/lib/Text/WideChar/Util.pm line 207.
Wide character (U+FF0C) in pattern match (m//) at /mnt/cpan_build_dir/goku/Text-WideChar-Util-0.172-0/blib/lib/Text/WideChar/Util.pm line 207.
Wide character (U+4EBA) in pattern match (m//) at /mnt/cpan_build_dir/goku/Text-WideChar-Util-0.172-0/blib/lib/Text/WideChar/Util.pm line 207.
Wide character (U+4EBA) in pattern match (m//) at /mnt/cpan_build_dir/goku/Text-WideChar-Util-0.172-0/blib/lib/Text/WideChar/Util.pm line 207.
Wide character (U+5931) in pattern match (m//) at /mnt/cpan_build_dir/goku/Text-WideChar-Util-0.172-0/blib/lib/Text/WideChar/Util.pm line 207.
Wide character (U+8E2A) in pattern match (m//) at /mnt/cpan_build_dir/goku/Text-WideChar-Util-0.172-0/blib/lib/Text/WideChar/Util.pm line 207.
Wide character (U+FF0C) in pattern match (m//) at /mnt/cpan_build_dir/goku/Text-WideChar-Util-0.172-0/blib/lib/Text/WideChar/Util.pm line 207.
Wide character (U+4EBA) in pattern match (m//) at /mnt/cpan_build_dir/goku/Text-WideChar-Util-0.172-0/blib/lib/Text/WideChar/Util.pm line 207.
Wide character (U+4EBA) in pattern match (m//) at /mnt/cpan_build_dir/goku/Text-WideChar-Util-0.172-0/blib/lib/Text/WideChar/Util.pm line 207.
Wide character (U+53D7) in pattern match (m//) at /mnt/cpan_build_dir/goku/Text-WideChar-Util-0.172-0/blib/lib/Text/WideChar/Util.pm line 207.
Wide character (U+4F24) in pattern match (m//) at /mnt/cpan_build_dir/goku/Text-WideChar-Util-0.172-0/blib/lib/Text/WideChar/Util.pm line 207.
Wide character (U+3002) in pattern match (m//) at /mnt/cpan_build_dir/goku/Text-WideChar-Util-0.172-0/blib/lib/Text/WideChar/Util.pm line 207.
Wide character (U+6570) in pattern match (m//) at /mnt/cpan_build_dir/goku/Text-WideChar-Util-0.172-0/blib/lib/Text/WideChar/Util.pm line 207.
Wide character (U+636E) in pattern match (m//) at /mnt/cpan_build_dir/goku/Text-WideChar-Util-0.172-0/blib/lib/Text/WideChar/Util.pm line 207.
Wide character (U+4E2D) in pattern match (m//) at /mnt/cpan_build_dir/goku/Text-WideChar-Util-0.172-0/blib/lib/Text/WideChar/Util.pm line 207.
Wide character (U+5FC3) in pattern match (m//) at /mnt/cpan_build_dir/goku/Text-WideChar-Util-0.172-0/blib/lib/Text/WideChar/Util.pm line 207.
Wide character (U+50A8) in pattern match (m//) at /mnt/cpan_build_dir/goku/Text-WideChar-Util-0.172-0/blib/lib/Text/WideChar/Util.pm line 207.
Wide character (U+5B58) in pattern match (m//) at /mnt/cpan_build_dir/goku/Text-WideChar-Util-0.172-0/blib/lib/Text/WideChar/Util.pm line 207.
Wide character (U+4E86) in pattern match (m//) at /mnt/cpan_build_dir/goku/Text-WideChar-Util-0.172-0/blib/lib/Text/WideChar/Util.pm line 207.
Wide character (U+963F) in pattern match (m//) at /mnt/cpan_build_dir/goku/Text-WideChar-Util-0.172-0/blib/lib/Text/WideChar/Util.pm line 207.
Wide character (U+6839) in pattern match (m//) at /mnt/cpan_build_dir/goku/Text-WideChar-Util-0.172-0/blib/lib/Text/WideChar/Util.pm line 207.
Wide character (U+5EF7) in pattern match (m//) at /mnt/cpan_build_dir/goku/Text-WideChar-Util-0.172-0/blib/lib/Text/WideChar/Util.pm line 207.
Wide character (U+592E) in pattern match (m//) at /mnt/cpan_build_dir/goku/Text-WideChar-Util-0.172-0/blib/lib/Text/WideChar/Util.pm line 207.
Wide character (U+884C) in pattern match (m//) at /mnt/cpan_build_dir/goku/Text-WideChar-Util-0.172-0/blib/lib/Text/WideChar/Util.pm line 207.
Wide character (U+548C) in pattern match (m//) at /mnt/cpan_build_dir/goku/Text-WideChar-Util-0.172-0/blib/lib/Text/WideChar/Util.pm line 207.
Wide character (U+4F01) in pattern match (m//) at /mnt/cpan_build_dir/goku/Text-WideChar-Util-0.172-0/blib/lib/Text/WideChar/Util.pm line 207.
Wide character (U+4E1A) in pattern match (m//) at /mnt/cpan_build_dir/goku/Text-WideChar-Util-0.172-0/blib/lib/Text/WideChar/Util.pm line 207.
Wide character (U+6863) in pattern match (m//) at /mnt/cpan_build_dir/goku/Text-WideChar-Util-0.172-0/blib/lib/Text/WideChar/Util.pm line 207.
Wide character (U+6848) in pattern match (m//) at /mnt/cpan_build_dir/goku/Text-WideChar-Util-0.172-0/blib/lib/Text/WideChar/Util.pm line 207.
Wide character (U+FF0C) in pattern match (m//) at /mnt/cpan_build_dir/goku/Text-WideChar-Util-0.172-0/blib/lib/Text/WideChar/Util.pm line 207.
Wide character (U+56E0) in pattern match (m//) at /mnt/cpan_build_dir/goku/Text-WideChar-Util-0.172-0/blib/lib/Text/WideChar/Util.pm line 207.
Wide character (U+6B64) in pattern match (m//) at /mnt/cpan_build_dir/goku/Text-WideChar-Util-0.172-0/blib/lib/Text/WideChar/Util.pm line 207.
Wide character (U+635F) in pattern match (m//) at /mnt/cpan_build_dir/goku/Text-WideChar-Util-0.172-0/blib/lib/Text/WideChar/Util.pm line 207.
Wide character (U+5931) in pattern match (m//) at /mnt/cpan_build_dir/goku/Text-WideChar-Util-0.172-0/blib/lib/Text/WideChar/Util.pm line 207.
Wide character (U+53EF) in pattern match (m//) at /mnt/cpan_build_dir/goku/Text-WideChar-Util-0.172-0/blib/lib/Text/WideChar/Util.pm line 207.
Wide character (U+80FD) in pattern match (m//) at /mnt/cpan_build_dir/goku/Text-WideChar-Util-0.172-0/blib/lib/Text/WideChar/Util.pm line 207.
Wide character (U+975E) in pattern match (m//) at /mnt/cpan_build_dir/goku/Text-WideChar-Util-0.172-0/blib/lib/Text/WideChar/Util.pm line 207.
Wide character (U+5E38) in pattern match (m//) at /mnt/cpan_build_dir/goku/Text-WideChar-Util-0.172-0/blib/lib/Text/WideChar/Util.pm line 207.
Wide character (U+5DE8) in pattern match (m//) at /mnt/cpan_build_dir/goku/Text-WideChar-Util-0.172-0/blib/lib/Text/WideChar/Util.pm line 207.
Wide character (U+5927) in pattern match (m//) at /mnt/cpan_build_dir/goku/Text-WideChar-Util-0.172-0/blib/lib/Text/WideChar/Util.pm line 207.
Wide character (U+3002) in pattern match (m//) at /mnt/cpan_build_dir/goku/Text-WideChar-Util-0.172-0/blib/lib/Text/WideChar/Util.pm line 207.
Wide character (U+8FD9) in pattern match (m//) at /mnt/cpan_build_dir/goku/Text-WideChar-Util-0.172-0/blib/lib/Text/WideChar/Util.pm line 207.
Wide character (U+4E2A) in pattern match (m//) at /mnt/cpan_build_dir/goku/Text-WideChar-Util-0.172-0/blib/lib/Text/WideChar/Util.pm line 207.
Wide character (U+6570) in pattern match (m//) at /mnt/cpan_build_dir/goku/Text-WideChar-Util-0.172-0/blib/lib/Text/WideChar/Util.pm line 207.
Wide character (U+636E) in pattern match (m//) at /mnt/cpan_build_dir/goku/Text-WideChar-Util-0.172-0/blib/lib/Text/WideChar/Util.pm line 207.
Wide character (U+4E2D) in pattern match (m//) at /mnt/cpan_build_dir/goku/Text-WideChar-Util-0.172-0/blib/lib/Text/WideChar/Util.pm line 207.
Wide character (U+5FC3) in pattern match (m//) at /mnt/cpan_build_dir/goku/Text-WideChar-Util-0.172-0/blib/lib/Text/WideChar/Util.pm line 207.
Wide character (U+914D) in pattern match (m//) at /mnt/cpan_build_dir/goku/Text-WideChar-Util-0.172-0/blib/lib/Text/WideChar/Util.pm line 207.
Wide character (U+5907) in pattern match (m//) at /mnt/cpan_build_dir/goku/Text-WideChar-Util-0.172-0/blib/lib/Text/WideChar/Util.pm line 207.
Wide character (U+4E86) in pattern match (m//) at /mnt/cpan_build_dir/goku/Text-WideChar-Util-0.172-0/blib/lib/Text/WideChar/Util.pm line 207.
Wide character (U+79C1) in pattern match (m//) at /mnt/cpan_build_dir/goku/Text-WideChar-Util-0.172-0/blib/lib/Text/WideChar/Util.pm line 207.
Wide character (U+4EBA) in pattern match (m//) at /mnt/cpan_build_dir/goku/Text-WideChar-Util-0.172-0/blib/lib/Text/WideChar/Util.pm line 207.
Wide character (U+7684) in pattern match (m//) at /mnt/cpan_build_dir/goku/Text-WideChar-Util-0.172-0/blib/lib/Text/WideChar/Util.pm line 207.
Wide character (U+6551) in pattern match (m//) at /mnt/cpan_build_dir/goku/Text-WideChar-Util-0.172-0/blib/lib/Text/WideChar/Util.pm line 207.
Wide character (U+706B) in pattern match (m//) at /mnt/cpan_build_dir/goku/Text-WideChar-Util-0.172-0/blib/lib/Text/WideChar/Util.pm line 207.
Wide character (U+961F) in pattern match (m//) at /mnt/cpan_build_dir/goku/Text-WideChar-Util-0.172-0/blib/lib/Text/WideChar/Util.pm line 207.
Wide character (U+FF0C) in pattern match (m//) at /mnt/cpan_build_dir/goku/Text-WideChar-Util-0.172-0/blib/lib/Text/WideChar/Util.pm line 207.
Wide character (U+81EA) in pattern match (m//) at /mnt/cpan_build_dir/goku/Text-WideChar-Util-0.172-0/blib/lib/Text/WideChar/Util.pm line 207.
Wide character (U+52A8) in pattern match (m//) at /mnt/cpan_build_dir/goku/Text-WideChar-Util-0.172-0/blib/lib/Text/WideChar/Util.pm line 207.
Wide character (U+55B7) in pattern match (m//) at /mnt/cpan_build_dir/goku/Text-WideChar-Util-0.172-0/blib/lib/Text/WideChar/Util.pm line 207.
Wide character (U+6C34) in pattern match (m//) at /mnt/cpan_build_dir/goku/Text-WideChar-Util-0.172-0/blib/lib/Text/WideChar/Util.pm line 207.
Wide character (U+706D) in pattern match (m//) at /mnt/cpan_build_dir/goku/Text-WideChar-Util-0.172-0/blib/lib/Text/WideChar/Util.pm line 207.
Wide character (U+706B) in pattern match (m//) at /mnt/cpan_build_dir/goku/Text-WideChar-Util-0.172-0/blib/lib/Text/WideChar/Util.pm line 207.
Wide character (U+7CFB) in pattern match (m//) at /mnt/cpan_build_dir/goku/Text-WideChar-Util-0.172-0/blib/lib/Text/WideChar/Util.pm line 207.
Wide character (U+7EDF) in pattern match (m//) at /mnt/cpan_build_dir/goku/Text-WideChar-Util-0.172-0/blib/lib/Text/WideChar/Util.pm line 207.
Wide character (U+FF0C) in pattern match (m//) at /mnt/cpan_build_dir/goku/Text-WideChar-Util-0.172-0/blib/lib/Text/WideChar/Util.pm line 207.
Wide character (U+706B) in pattern match (m//) at /mnt/cpan_build_dir/goku/Text-WideChar-Util-0.172-0/blib/lib/Text/WideChar/Util.pm line 207.
Wide character (U+707E) in pattern match (m//) at /mnt/cpan_build_dir/goku/Text-WideChar-Util-0.172-0/blib/lib/Text/WideChar/Util.pm line 207.
Wide character (U+63A7) in pattern match (m//) at /mnt/cpan_build_dir/goku/Text-WideChar-Util-0.172-0/blib/lib/Text/WideChar/Util.pm line 207.
Wide character (U+5236) in pattern match (m//) at /mnt/cpan_build_dir/goku/Text-WideChar-Util-0.172-0/blib/lib/Text/WideChar/Util.pm line 207.
Wide character (U+7CFB) in pattern match (m//) at /mnt/cpan_build_dir/goku/Text-WideChar-Util-0.172-0/blib/lib/Text/WideChar/Util.pm line 207.
Wide character (U+7EDF) in pattern match (m//) at /mnt/cpan_build_dir/goku/Text-WideChar-Util-0.172-0/blib/lib/Text/WideChar/Util.pm line 207.
Wide character (U+4EE5) in pattern match (m//) at /mnt/cpan_build_dir/goku/Text-WideChar-Util-0.172-0/blib/lib/Text/WideChar/Util.pm line 207.
Wide character (U+53CA) in pattern match (m//) at /mnt/cpan_build_dir/goku/Text-WideChar-Util-0.172-0/blib/lib/Text/WideChar/Util.pm line 207.
Wide character (U+5176) in pattern match (m//) at /mnt/cpan_build_dir/goku/Text-WideChar-Util-0.172-0/blib/lib/Text/WideChar/Util.pm line 207.
Wide character (U+5B83) in pattern match (m//) at /mnt/cpan_build_dir/goku/Text-WideChar-Util-0.172-0/blib/lib/Text/WideChar/Util.pm line 207.
Wide character (U+706B) in pattern match (m//) at /mnt/cpan_build_dir/goku/Text-WideChar-Util-0.172-0/blib/lib/Text/WideChar/Util.pm line 207.
Wide character (U+707E) in pattern match (m//) at /mnt/cpan_build_dir/goku/Text-WideChar-Util-0.172-0/blib/lib/Text/WideChar/Util.pm line 207.
Wide character (U+9884) in pattern match (m//) at /mnt/cpan_build_dir/goku/Text-WideChar-Util-0.172-0/blib/lib/Text/WideChar/Util.pm line 207.
Wide character (U+9632) in pattern match (m//) at /mnt/cpan_build_dir/goku/Text-WideChar-Util-0.172-0/blib/lib/Text/WideChar/Util.pm line 207.
Wide character (U+7684) in pattern match (m//) at /mnt/cpan_build_dir/goku/Text-WideChar-Util-0.172-0/blib/lib/Text/WideChar/Util.pm line 207.
Wide character (U+63AA) in pattern match (m//) at /mnt/cpan_build_dir/goku/Text-WideChar-Util-0.172-0/blib/lib/Text/WideChar/Util.pm line 207.
Wide character (U+65BD) in pattern match (m//) at /mnt/cpan_build_dir/goku/Text-WideChar-Util-0.172-0/blib/lib/Text/WideChar/Util.pm line 207.
Wide character (U+3002) in pattern match (m//) at /mnt/cpan_build_dir/goku/Text-WideChar-Util-0.172-0/blib/lib/Text/WideChar/Util.pm line 207.
Wide character (U+4F46) in pattern match (m//) at /mnt/cpan_build_dir/goku/Text-WideChar-Util-0.172-0/blib/lib/Text/WideChar/Util.pm line 207.
Wide character (U+5373) in pattern match (m//) at /mnt/cpan_build_dir/goku/Text-WideChar-Util-0.172-0/blib/lib/Text/WideChar/Util.pm line 207.
Wide character (U+4FBF) in pattern match (m//) at /mnt/cpan_build_dir/goku/Text-WideChar-Util-0.172-0/blib/lib/Text/WideChar/Util.pm line 207.
Wide character (U+5982) in pattern match (m//) at /mnt/cpan_build_dir/goku/Text-WideChar-Util-0.172-0/blib/lib/Text/WideChar/Util.pm line 207.
Wide character (U+6B64) in pattern match (m//) at /mnt/cpan_build_dir/goku/Text-WideChar-Util-0.172-0/blib/lib/Text/WideChar/Util.pm line 207.
Wide character (U+FF0C) in pattern match (m//) at /mnt/cpan_build_dir/goku/Text-WideChar-Util-0.172-0/blib/lib/Text/WideChar/Util.pm line 207.
Wide character (U+4ECD) in pattern match (m//) at /mnt/cpan_build_dir/goku/Text-WideChar-Util-0.172-0/blib/lib/Text/WideChar/Util.pm line 207.
Wide character (U+7136) in pattern match (m//) at /mnt/cpan_build_dir/goku/Text-WideChar-Util-0.172-0/blib/lib/Text/WideChar/Util.pm line 207.
Wide character (U+6CA1) in pattern match (m//) at /mnt/cpan_build_dir/goku/Text-WideChar-Util-0.172-0/blib/lib/Text/WideChar/Util.pm line 207.
Wide character (U+6709) in pattern match (m//) at /mnt/cpan_build_dir/goku/Text-WideChar-Util-0.172-0/blib/lib/Text/WideChar/Util.pm line 207.
Wide character (U+9884) in pattern match (m//) at /mnt/cpan_build_dir/goku/Text-WideChar-Util-0.172-0/blib/lib/Text/WideChar/Util.pm line 207.
Wide character (U+9632) in pattern match (m//) at /mnt/cpan_build_dir/goku/Text-WideChar-Util-0.172-0/blib/lib/Text/WideChar/Util.pm line 207.
Wide character (U+707E) in pattern match (m//) at /mnt/cpan_build_dir/goku/Text-WideChar-Util-0.172-0/blib/lib/Text/WideChar/Util.pm line 207.
Wide character (U+96BE) in pattern match (m//) at /mnt/cpan_build_dir/goku/Text-WideChar-Util-0.172-0/blib/lib/Text/WideChar/Util.pm line 207.
Wide character (U+7684) in pattern match (m//) at /mnt/cpan_build_dir/goku/Text-WideChar-Util-0.172-0/blib/lib/Text/WideChar/Util.pm line 207.
Wide character (U+53D1) in pattern match (m//) at /mnt/cpan_build_dir/goku/Text-WideChar-Util-0.172-0/blib/lib/Text/WideChar/Util.pm line 207.
Wide character (U+751F) in pattern match (m//) at /mnt/cpan_build_dir/goku/Text-WideChar-Util-0.172-0/blib/lib/Text/WideChar/Util.pm line 207.
Wide character (U+3002) in pattern match (m//) at /mnt/cpan_build_dir/goku/Text-WideChar-Util-0.172-0/blib/lib/Text/WideChar/Util.pm line 207.
Wide character (U+76EE) in pattern match (m//) at /mnt/cpan_build_dir/goku/Text-WideChar-Util-0.172-0/blib/lib/Text/WideChar/Util.pm line 207.
Wide character (U+524D) in pattern match (m//) at /mnt/cpan_build_dir/goku/Text-WideChar-Util-0.172-0/blib/lib/Text/WideChar/Util.pm line 207.
Wide character (U+8FD8) in pattern match (m//) at /mnt/cpan_build_dir/goku/Text-WideChar-Util-0.172-0/blib/lib/Text/WideChar/Util.pm line 207.
Wide character (U+4E0D) in pattern match (m//) at /mnt/cpan_build_dir/goku/Text-WideChar-Util-0.172-0/blib/lib/Text/WideChar/Util.pm line 207.
Wide character (U+6E05) in pattern match (m//) at /mnt/cpan_build_dir/goku/Text-WideChar-Util-0.172-0/blib/lib/Text/WideChar/Util.pm line 207.
Wide character (U+695A) in pattern match (m//) at /mnt/cpan_build_dir/goku/Text-WideChar-Util-0.172-0/blib/lib/Text/WideChar/Util.pm line 207.
Wide character (U+6570) in pattern match (m//) at /mnt/cpan_build_dir/goku/Text-WideChar-Util-0.172-0/blib/lib/Text/WideChar/Util.pm line 207.
Wide character (U+636E) in pattern match (m//) at /mnt/cpan_build_dir/goku/Text-WideChar-Util-0.172-0/blib/lib/Text/WideChar/Util.pm line 207.
Wide character (U+4E2D) in pattern match (m//) at /mnt/cpan_build_dir/goku/Text-WideChar-Util-0.172-0/blib/lib/Text/WideChar/Util.pm line 207.
Wide character (U+5FC3) in pattern match (m//) at /mnt/cpan_build_dir/goku/Text-WideChar-Util-0.172-0/blib/lib/Text/WideChar/Util.pm line 207.
Wide character (U+8D77) in pattern match (m//) at /mnt/cpan_build_dir/goku/Text-WideChar-Util-0.172-0/blib/lib/Text/WideChar/Util.pm line 207.
Wide character (U+706B) in pattern match (m//) at /mnt/cpan_build_dir/goku/Text-WideChar-Util-0.172-0/blib/lib/Text/WideChar/Util.pm line 207.
Wide character (U+7684) in pattern match (m//) at /mnt/cpan_build_dir/goku/Text-WideChar-Util-0.172-0/blib/lib/Text/WideChar/Util.pm line 207.
Wide character (U+539F) in pattern match (m//) at /mnt/cpan_build_dir/goku/Text-WideChar-Util-0.172-0/blib/lib/Text/WideChar/Util.pm line 207.
Wide character (U+56E0) in pattern match (m//) at /mnt/cpan_build_dir/goku/Text-WideChar-Util-0.172-0/blib/lib/Text/WideChar/Util.pm line 207.
Wide character (U+3002) in pattern match (m//) at /mnt/cpan_build_dir/goku/Text-WideChar-Util-0.172-0/blib/lib/Text/WideChar/Util.pm line 207.
Wide character (U+5403) in pattern match (m//) at /mnt/cpan_build_dir/goku/Text-WideChar-Util-0.172-0/blib/lib/Text/WideChar/Util.pm line 201.
Wide character (U+5403) in pattern match (m//) at /mnt/cpan_build_dir/goku/Text-WideChar-Util-0.172-0/blib/lib/Text/WideChar/Util.pm line 201.
Wide character (U+996D) in pattern match (m//) at /mnt/cpan_build_dir/goku/Text-WideChar-Util-0.172-0/blib/lib/Text/WideChar/Util.pm line 201.
Wide character (U+5403) in pattern match (m//) at /mnt/cpan_build_dir/goku/Text-WideChar-Util-0.172-0/blib/lib/Text/WideChar/Util.pm line 201.
Wide character (U+996D) in pattern match (m//) at /mnt/cpan_build_dir/goku/Text-WideChar-Util-0.172-0/blib/lib/Text/WideChar/Util.pm line 201.
Wide character (U+5403) in pattern match (m//) at /mnt/cpan_build_dir/goku/Text-WideChar-Util-0.172-0/blib/lib/Text/WideChar/Util.pm line 201.
Wide character (U+996D) in pattern match (m//) at /mnt/cpan_build_dir/goku/Text-WideChar-Util-0.172-0/blib/lib/Text/WideChar/Util.pm line 201.
Wide character (U+5403) in pattern match (m//) at /mnt/cpan_build_dir/goku/Text-WideChar-Util-0.172-0/blib/lib/Text/WideChar/Util.pm line 201.
Wide character (U+996D) in pattern match (m//) at /mnt/cpan_build_dir/goku/Text-WideChar-Util-0.172-0/blib/lib/Text/WideChar/Util.pm line 201.
Wide character (U+5403) in pattern match (m//) at /mnt/cpan_build_dir/goku/Text-WideChar-Util-0.172-0/blib/lib/Text/WideChar/Util.pm line 201.
Wide character (U+5403) in pattern match (m//) at /mnt/cpan_build_dir/goku/Text-WideChar-Util-0.172-0/blib/lib/Text/WideChar/Util.pm line 201.
Wide character (U+996D) in pattern match (m//) at /mnt/cpan_build_dir/goku/Text-WideChar-Util-0.172-0/blib/lib/Text/WideChar/Util.pm line 201.
Wide character (U+5403) in pattern match (m//) at /mnt/cpan_build_dir/goku/Text-WideChar-Util-0.172-0/blib/lib/Text/WideChar/Util.pm line 201.
Wide character (U+996D) in pattern match (m//) at /mnt/cpan_build_dir/goku/Text-WideChar-Util-0.172-0/blib/lib/Text/WideChar/Util.pm line 201.
Wide character (U+5403) in pattern match (m//) at /mnt/cpan_build_dir/goku/Text-WideChar-Util-0.172-0/blib/lib/Text/WideChar/Util.pm line 201.
Wide character (U+996D) in pattern match (m//) at /mnt/cpan_build_dir/goku/Text-WideChar-Util-0.172-0/blib/lib/Text/WideChar/Util.pm line 201.
Wide character (U+5403) in pattern match (m//) at /mnt/cpan_build_dir/goku/Text-WideChar-Util-0.172-0/blib/lib/Text/WideChar/Util.pm line 201.
Wide character (U+996D) in pattern match (m//) at /mnt/cpan_build_dir/goku/Text-WideChar-Util-0.172-0/blib/lib/Text/WideChar/Util.pm line 201.
t/wrap.t ................. ok
All tests successful.
Files=6, Tests=14, 1 wallclock secs ( 0.04 usr 0.06 sys + 0.45 cusr 0.24 csys = 0.79 CPU)
Result: PASS
------------------------------
PREREQUISITES
------------------------------
Prerequisite modules loaded:
requires:
Module Need Have
------------------- -------- --------
Exporter 5.57 5.74
locale 0 1.09
perl 5.010001 5.032001
strict 0 1.11
Unicode::GCString 0 2013.10
utf8 0 1.22
warnings 0 1.47
build_requires:
Module Need Have
------------------- -------- --------
constant 0 1.33
ExtUtils::MakeMaker 0 7.64
File::Spec 0 3.78
IO::Handle 0 1.42
IPC::Open3 0 1.21
POSIX 0 1.94
Test::More 0.98 1.302190
configure_requires:
Module Need Have
------------------- -------- --------
ExtUtils::MakeMaker 0 7.64
------------------------------
ENVIRONMENT AND OTHER CONTEXT
------------------------------
Environment variables:
AUTOMATED_TESTING = 1
PATH = /home/goku/perl5/bin:/usr/bin:/bin:/usr/sbin:/sbin:/usr/X11R6/bin:/usr/local/bin:/usr/local/sbin
PERL5LIB = /home/goku/perl5/lib/perl5
PERL5OPT =
PERL5_CPANPLUS_IS_RUNNING = 8812
PERL5_CPAN_IS_RUNNING = 8812
PERL5_CPAN_IS_RUNNING_IN_RECURSION = 82157,8812
PERL_CR_SMOKER_CURRENT = Text-Table-Any-0.114
PERL_EXTUTILS_AUTOINSTALL = --defaultdeps
PERL_LOCAL_LIB_ROOT = /home/goku/perl5
PERL_MB_OPT = --install_base "/home/goku/perl5"
PERL_MM_OPT = INSTALL_BASE=/home/goku/perl5
PERL_MM_USE_DEFAULT = 1
PERL_USE_UNSAFE_INC = 1
SHELL = /bin/ksh
TERM = xterm-256color
Perl special variables (and OS-specific diagnostics, for MSWin32):
$^X = /usr/bin/perl
$UID/$EUID = 1001 / 1001
$GID = 1002 1002 1001
$EGID = 1002 1002 1001
Perl module toolchain versions installed:
Module Have
------------------- --------
CPAN 2.34
CPAN::Meta 2.150010
Cwd 3.78
ExtUtils::CBuilder 0.280236
ExtUtils::Command 7.64
ExtUtils::Install 2.14
ExtUtils::MakeMaker 7.64
ExtUtils::Manifest 1.72
ExtUtils::ParseXS 3.40
File::Spec 3.78
JSON 4.06
JSON::PP 4.04
Module::Build 0.4231
Module::Signature n/a
Parse::CPAN::Meta 2.150010
Test::Harness 3.44
Test::More 1.302190
YAML 1.30
YAML::Syck n/a
version 0.9924
--
Summary of my perl5 (revision 5 version 32 subversion 1) configuration:
Platform:
osname=openbsd
osvers=7.1
archname=i386-openbsd
uname='openbsd'
config_args='-dse -Dopenbsd_distribution=defined -Dmksymlinks'
hint=recommended
useposix=true
d_sigaction=define
useithreads=undef
usemultiplicity=undef
use64bitint=undef
use64bitall=undef
uselongdouble=undef
usemymalloc=n
default_inc_excludes_dot=define
bincompat5005=undef
Compiler:
cc='cc'
ccflags ='-DNO_LOCALE_NUMERIC -DNO_LOCALE_COLLATE -fno-strict-aliasing -fno-delete-null-pointer-checks -pipe -fstack-protector-strong -I/usr/local/include'
optimize='-O2'
cppflags='-DBIG_TIME -DNO_LOCALE_NUMERIC -DNO_LOCALE_COLLATE -fno-strict-aliasing -fno-delete-null-pointer-checks -pipe -fstack-protector-strong -I/usr/local/include'
ccversion=''
gccversion='OpenBSD Clang 13.0.0'
gccosandvers=''
intsize=4
longsize=4
ptrsize=4
doublesize=8
byteorder=1234
doublekind=3
d_longlong=define
longlongsize=8
d_longdbl=define
longdblsize=12
longdblkind=3
ivtype='long'
ivsize=4
nvtype='double'
nvsize=8
Off_t='off_t'
lseeksize=8
alignbytes=4
prototype=define
Linker and Libraries:
ld='cc'
ldflags ='-Wl,-E -fstack-protector-strong -L/usr/local/lib'
libpth=/usr/lib /usr/lib/clang/13.0.0/lib /usr/lib
libs=-lm -lc
perllibs=-lm -lc
libc=/usr/lib/libc.so.96.1
so=so
useshrplib=true
libperl=libperl.so.22.0
gnulibc_version=''
Dynamic Linking:
dlsrc=dl_dlopen.xs
dlext=so
d_dlsymun=undef
ccdlflags='-Wl,-R/usr/libdata/perl5/i386-openbsd/CORE'
cccdlflags='-DPIC -fpic '
lddlflags='-shared -fpic -fstack-protector-strong -L/usr/local/lib'
Characteristics of this binary (from libperl):
Compile-time options:
HAS_TIMES
PERLIO_LAYERS
PERL_COPY_ON_WRITE
PERL_DONT_CREATE_GVSV
PERL_MALLOC_WRAP
PERL_OP_PARENT
PERL_PRESERVE_IVUV
USE_LARGE_FILES
USE_LOCALE
USE_LOCALE_CTYPE
USE_LOCALE_TIME
USE_PERLIO
USE_PERL_ATOF
Built under openbsd
%ENV:
PERL5LIB="/home/goku/perl5/lib/perl5"
PERL5OPT=""
PERL5_CPANPLUS_IS_RUNNING="8812"
PERL5_CPAN_IS_RUNNING="8812"
PERL5_CPAN_IS_RUNNING_IN_RECURSION="82157,8812"
PERL_CR_SMOKER_CURRENT="Text-Table-Any-0.114"
PERL_EXTUTILS_AUTOINSTALL="--defaultdeps"
PERL_LOCAL_LIB_ROOT="/home/goku/perl5"
PERL_MB_OPT="--install_base "/home/goku/perl5""
PERL_MM_OPT="INSTALL_BASE=/home/goku/perl5"
PERL_MM_USE_DEFAULT="1"
PERL_USE_UNSAFE_INC="1"
@INC:
/home/goku/perl5/lib/perl5/i386-openbsd
/home/goku/perl5/lib/perl5
/usr/local/libdata/perl5/site_perl/i386-openbsd
/usr/local/libdata/perl5/site_perl
/usr/libdata/perl5/i386-openbsd
/usr/libdata/perl5
.