Git-Repository-Plugin-Blame vv1.4.0 Perl 5 v5.30.1 x86_64-linux
- Status
- Pass
- From
- Andreas J. König (ANDK)
- Dist
-
Git-Repository-Plugin-Blame vv1.4.0
- Platform
- Perl 5 v5.30.1 x86_64-linux
- Date
- 2022-03-04 23:05:12
- ID
- 8bdbb472-9c0f-11ec-a3fb-b41e93a1ffe7
This distribution has been tested as part of the CPAN Testers
project, supporting the Perl programming language. See
http://wiki.cpantesters.org/ for more information or email
questions to cpan-testers-discuss@perl.org
--
Dear Guillaume Aubert,
This is a computer-generated report for Git-Repository-Plugin-Blame-v1.4.0
on perl 5.30.1, created by CPAN-Reporter-1.2018.
Thank you for uploading your work to CPAN. Congratulations!
All tests were successful.
Sections of this report:
* Tester comments
* Program output
* Prerequisites
* Environment and other context
------------------------------
TESTER COMMENTS
------------------------------
Additional comments from tester:
this report is from an automated smoke testing program
and was not reviewed by a human for accuracy
------------------------------
PROGRAM OUTPUT
------------------------------
Output from '/usr/bin/make test':
PERL_DL_NONLAZY=1 "/home/sand/src/perl/repoperls/installed-perls/host/k93msid/v5.30.1/da1c/bin/perl" "-MExtUtils::Command::MM" "-MTest::Harness" "-e" "undef *Test::Harness::Switches; test_harness(0, 'blib/lib', 'blib/arch')" t/*.t t/05-Cache/*.t t/Line/*.t
# Testing Git::Repository::Plugin::Blame 1.4.0, Perl 5.030001, /home/sand/src/perl/repoperls/installed-perls/host/k93msid/v5.30.1/da1c/bin/perl
t/00-load.t ........................ ok
# Testing Git::Repository::Plugin::Blame::Cache 1.4.0, Perl 5.030001, /home/sand/src/perl/repoperls/installed-perls/host/k93msid/v5.30.1/da1c/bin/perl
t/05-Cache/00-load.t ............... ok
t/05-Cache/10-new.t ................ ok
t/05-Cache/15-get_repository.t ..... ok
t/05-Cache/20-set_blame_lines.t .... ok
t/05-Cache/25-get_blame_lines.t .... ok
# git version 2.35.1
t/10-blame-ignore_whitespace.t ..... ok
t/10-blame.t ....................... ok
# Testing Git::Repository::Plugin::Blame::Line 1.4.0, Perl 5.030001, /home/sand/src/perl/repoperls/installed-perls/host/k93msid/v5.30.1/da1c/bin/perl
t/Line/00-load.t ................... ok
t/Line/10-new.t .................... ok
t/Line/20-get_commit_attributes.t .. ok
t/Line/30-get_commit_id.t .......... ok
t/Line/40-get_line.t ............... ok
t/Line/50-get_line_number.t ........ ok
All tests successful.
Files=14, Tests=65, 3 wallclock secs ( 0.05 usr 0.05 sys + 0.89 cusr 0.64 csys = 1.63 CPU)
Result: PASS
------------------------------
PREREQUISITES
------------------------------
Prerequisite modules loaded:
requires:
Module Need Have
---------------------------- ----- --------
Carp 0 1.50
Class::Load 0.2 0.25
Data::Dumper 0 2.174
Data::Validate::Type 0 1.6.0
Git::Repository 1.2 1.325
Git::Repository::Plugin::Log 0 1.314
Perl6::Slurp 0 0.051005
Test::Deep 0 1.130
Test::Exception 0 0.43
Test::FailWarnings 0 0.008
Test::Git 0 1.325
Test::More 0 1.302188
Test::Requires::Git 1.005 1.008
Test::Type 0 1.3.0
build_requires:
Module Need Have
---------------------------- ----- --------
ExtUtils::MakeMaker 0 7.62
configure_requires:
Module Need Have
---------------------------- ----- --------
Module::Build 0 0.4229
------------------------------
ENVIRONMENT AND OTHER CONTEXT
------------------------------
Environment variables:
AUTOMATED_TESTING = 1
LANG = en_US.UTF-8
NO_NETWORK_TESTING = 1
PATH = /home/sand/bin:/usr/local/bin:/usr/bin:/bin:/usr/games:/usr/local/perl/bin:/usr/X11/bin:/sbin:/usr/sbin
PERL5LIB =
PERL5OPT =
PERL5_CPANPLUS_IS_RUNNING = 1511042
PERL5_CPAN_IS_RUNNING = 1511042
PERL_CANARY_STABILITY_NOPROMPT = 1
PERL_MM_USE_DEFAULT = 1
PERL_USE_UNSAFE_INC = 1
SHELL = /usr/bin/zsh
TERM = screen
Perl special variables (and OS-specific diagnostics, for MSWin32):
$^X = /home/sand/src/perl/repoperls/installed-perls/host/k93msid/v5.30.1/da1c/bin/perl
$UID/$EUID = 1005 / 1005
$GID = 1005 1005
$EGID = 1005 1005
Perl module toolchain versions installed:
Module Have
------------------- --------
CPAN 2.29
CPAN::Meta 2.150010
Cwd 3.78
ExtUtils::CBuilder 0.280231
ExtUtils::Command 7.62
ExtUtils::Install 2.14
ExtUtils::MakeMaker 7.62
ExtUtils::Manifest 1.72
ExtUtils::ParseXS 3.40
File::Spec 3.78
JSON 4.05
JSON::PP 4.04
Module::Build 0.4229
Module::Signature 0.83
Parse::CPAN::Meta 2.150010
Test::Harness 3.42
Test::More 1.302188
YAML 1.29
YAML::Syck 1.31
version 0.9925
--
Summary of my perl5 (revision 5 version 30 subversion 1) configuration:
Derived from: 92dc8555fd2841214d65c8e754898f4079ec46bf
Platform:
osname=linux
osvers=4.18.0-2-amd64
archname=x86_64-linux
uname='linux k93msid 4.18.0-2-amd64 #1 smp debian 4.18.10-2 (2018-10-07) x86_64 gnulinux '
config_args='-Dprefix=/home/sand/src/perl/repoperls/installed-perls/host/k93msid/v5.30.1/da1c -Dmyhostname=k93msid -Dinstallusrbinperl=n -Uversiononly -Dusedevel -des -Ui_db -Dlibswanted=cl pthread socket inet nsl gdbm dbm malloc dl ld sun m crypt sec util c cposix posix ucb BSD gdbm_compat -Uuseithreads -Uuselongdouble -DEBUGGING=-g'
hint=recommended
useposix=true
d_sigaction=define
useithreads=undef
usemultiplicity=undef
use64bitint=define
use64bitall=define
uselongdouble=undef
usemymalloc=n
default_inc_excludes_dot=define
bincompat5005=undef
Compiler:
cc='cc'
ccflags ='-fwrapv -fno-strict-aliasing -pipe -fstack-protector-strong -I/usr/local/include -D_LARGEFILE_SOURCE -D_FILE_OFFSET_BITS=64 -D_FORTIFY_SOURCE=2'
optimize='-O2 -g'
cppflags='-fwrapv -fno-strict-aliasing -pipe -fstack-protector-strong -I/usr/local/include'
ccversion=''
gccversion='8.2.0'
gccosandvers=''
intsize=4
longsize=8
ptrsize=8
doublesize=8
byteorder=12345678
doublekind=3
d_longlong=define
longlongsize=8
d_longdbl=define
longdblsize=16
longdblkind=3
ivtype='long'
ivsize=8
nvtype='double'
nvsize=8
Off_t='off_t'
lseeksize=8
alignbytes=8
prototype=define
Linker and Libraries:
ld='cc'
ldflags =' -fstack-protector-strong -L/usr/local/lib'
libpth=/usr/local/lib /usr/lib/gcc/x86_64-linux-gnu/8/include-fixed /usr/include/x86_64-linux-gnu /usr/lib /lib/x86_64-linux-gnu /lib/../lib /usr/lib/x86_64-linux-gnu /usr/lib/../lib /lib
libs=-lpthread -lnsl -ldl -lm -lcrypt -lutil -lc
perllibs=-lpthread -lnsl -ldl -lm -lcrypt -lutil -lc
libc=libc-2.27.so
so=so
useshrplib=false
libperl=libperl.a
gnulibc_version='2.27'
Dynamic Linking:
dlsrc=dl_dlopen.xs
dlext=so
d_dlsymun=undef
ccdlflags='-Wl,-E'
cccdlflags='-fPIC'
lddlflags='-shared -O2 -g -L/usr/local/lib -fstack-protector-strong'
Characteristics of this binary (from libperl):
Compile-time options:
HAS_TIMES
PERLIO_LAYERS
PERL_COPY_ON_WRITE
PERL_DONT_CREATE_GVSV
PERL_MALLOC_WRAP
PERL_OP_PARENT
PERL_PRESERVE_IVUV
PERL_USE_DEVEL
USE_64_BIT_ALL
USE_64_BIT_INT
USE_LARGE_FILES
USE_LOCALE
USE_LOCALE_COLLATE
USE_LOCALE_CTYPE
USE_LOCALE_NUMERIC
USE_LOCALE_TIME
USE_PERLIO
USE_PERL_ATOF
Locally applied patches:
uncommitted-changes
Built under linux
Compiled at Nov 11 2019 02:38:00
%ENV:
PERL5LIB=""
PERL5OPT=""
PERL5_CPANPLUS_IS_RUNNING="1511042"
PERL5_CPAN_IS_RUNNING="1511042"
PERL_CANARY_STABILITY_NOPROMPT="1"
PERL_MM_USE_DEFAULT="1"
PERL_USE_UNSAFE_INC="1"
@INC:
/home/sand/src/perl/repoperls/installed-perls/host/k93msid/v5.30.1/da1c/lib/site_perl/5.30.1/x86_64-linux
/home/sand/src/perl/repoperls/installed-perls/host/k93msid/v5.30.1/da1c/lib/site_perl/5.30.1
/home/sand/src/perl/repoperls/installed-perls/host/k93msid/v5.30.1/da1c/lib/5.30.1/x86_64-linux
/home/sand/src/perl/repoperls/installed-perls/host/k93msid/v5.30.1/da1c/lib/5.30.1
.