Report for MooseX-Types-Structured-0.30

Back
From: metabase:user:fb19509c-17e3-11e3-a14d-fdb79081a995
Subject: PASS MooseX-Types-Structured-0.30 v5.20.1 Mac OS X
Date: 2014-09-14T18:47:16Z

This distribution has been tested as part of the CPAN Testers
project, supporting the Perl programming language.  See
http://wiki.cpantesters.org/ for more information or email
questions to cpan-testers-discuss@perl.org


--
Dear ETHER,

This is a computer-generated report for MooseX-Types-Structured-0.30
on perl 5.20.1, created by App::cpanminus::reporter 0.11 (1.7009).

Thank you for uploading your work to CPAN.  Congratulations!
All tests were successful.

Sections of this report:

    * Tester comments
    * Program output
    * Prerequisites
    * Environment and other context

------------------------------
TESTER COMMENTS
------------------------------

Additional comments from tester:

none provided

------------------------------
PROGRAM OUTPUT
------------------------------

Output from '':

Building and testing MooseX-Types-Structured-0.30
# 
# Versions for all modules listed in MYMETA.json (including optional ones):
#    Version Module                                      
#   -------- --------------------------------------------
#   2.142060 CPAN::Meta                                  
#      2.128 CPAN::Meta::Requirements                    
#      2.151 Data::Dumper                                
#       1.12 DateTime                                    
#       0.17 Devel::PartialDump                          
#    6.99_12 ExtUtils::MakeMaker                         
#       3.48 File::Spec::Functions                       
#       1.41 List::Util                                  
#      0.038 Module::Build::Tiny                         
#     2.1302 Moose                                       
#     2.1302 Moose::Meta::TypeCoercion                   
#     2.1302 Moose::Meta::TypeConstraint                 
#     2.1302 Moose::Meta::TypeConstraint::Parameterizable
#     2.1302 Moose::Util::TypeConstraints                
#       0.45 MooseX::Types                               
#       0.10 MooseX::Types::DateTime                     
#       0.45 MooseX::Types::Moose                        
#       1.41 Scalar::Util                                
#      0.987 Sub::Exporter                               
#      0.013 Test::Fatal                                 
#   1.001006 Test::More                                  
#       1.22 overload                                    
#       1.08 strict                                      
#       1.23 warnings                                    
t/00-report-prereqs.t .......... ok
t/01-basic.t ................... ok
t/00-load.t .................... ok
t/04-map.t ..................... ok
t/04-combined.t ................ ok
t/03-dict.t .................... ok
t/02-tuple.t ................... ok
t/05-advanced.t ................ ok
t/06-api.t ..................... ok
t/07-coerce.t .................. ok
t/08-examples.t ................ ok
t/09-optional.t ................ ok
t/11-overflow.t ................ ok
t/13-deeper_error.t ............ ok
t/bug-incorrect-message.t ...... ok
t/12-error.t ................... ok
t/bug-is-subtype.t ............. ok
t/10-recursion.t ............... ok
t/bug-mixed-stringy.t .......... ok
t/bug-optional.t ............... ok
t/regressions/01-is_type_of.t .. ok
All tests successful.
Files=21, Tests=357,  2 wallclock secs ( 0.15 usr  0.06 sys + 13.16 cusr  0.75 csys = 14.12 CPU)
Result: PASS

------------------------------
PREREQUISITES
------------------------------

Prerequisite modules loaded:

    No requirements found

------------------------------
ENVIRONMENT AND OTHER CONTEXT
------------------------------

Environment variables:

    LANG = en_CA.UTF-8
    PATH = /Users/ether/.perlbrew/libs/20.1@std/bin:/Users/ether/perl5/perlbrew/bin:/Users/ether/perl5/perlbrew/perls/20.1/bin:/Users/ether/bin:/Users/ether/git/misc/install/bourbon/bin:/Users/ether/git/misc/install/generic/bin:/opt/local/bin:/opt/local/sbin:/Users/ether/git/git-hub/lib:/Users/ether/src/CE/devtools:/Users/ether/git/CE/devtools:/Users/ether/src/CE/bin:/Users/ether/git/CE/bin:/usr/bin:/bin:/usr/sbin:/sbin:/usr/local/bin:/opt/local/share/git-core/contrib/workdir
    PERL5LIB = /Users/ether/.perlbrew/libs/20.1@std/lib/perl5
    PERLBREW_BASHRC_VERSION = 0.69
    PERLBREW_HOME = /Users/ether/.perlbrew
    PERLBREW_LIB = std
    PERLBREW_MANPATH = /Users/ether/.perlbrew/libs/20.1@std/man:/Users/ether/perl5/perlbrew/perls/20.1/man
    PERLBREW_PATH = /Users/ether/.perlbrew/libs/20.1@std/bin:/Users/ether/perl5/perlbrew/bin:/Users/ether/perl5/perlbrew/perls/20.1/bin
    PERLBREW_PERL = 20.1
    PERLBREW_ROOT = /Users/ether/perl5/perlbrew
    PERLBREW_VERSION = 0.71
    PERLDOC_PAGER = less -sicMr
    PERL_AUTOINSTALL_PREFER_CPAN = 1
    PERL_INSTALL_QUIET = 1
    PERL_LOCAL_LIB_ROOT = /Users/ether/.perlbrew/libs/20.1@std
    PERL_MB_OPT = --install_base /Users/ether/.perlbrew/libs/20.1@std
    PERL_MM_OPT = INSTALL_BASE=/Users/ether/.perlbrew/libs/20.1@std
    SHELL = /bin/bash
    TERM = xterm-color
    TMPDIR = /var/folders/kx/9dgyhhpn2yb7v2mggnr385fr0000gn/T/

Perl special variables (and OS-specific diagnostics, for MSWin32):

    EGID = 20 20 402 12 61 79 80 81 98
    EUID = 501
    EXECUTABLE_NAME = /Users/ether/perl5/perlbrew/perls/20.1/bin/perl
    GID = 20 20 402 12 61 79 80 81 98
    UID = 501

Perl module toolchain versions installed:

    Module              Have    
    ------------------- --------
    CPAN                2.05    
    CPAN::Meta          2.142060
    Cwd                 3.48    
    ExtUtils::CBuilder  0.280219
    ExtUtils::Command   1.18    
    ExtUtils::Install   1.68    
    ExtUtils::MakeMaker 6.99_12 
    ExtUtils::Manifest  1.66    
    ExtUtils::ParseXS   3.24    
    File::Spec          3.48    
    JSON                2.90    
    JSON::PP            2.27203 
    Module::Build       0.4210  
    Module::Signature   n/a     
    Parse::CPAN::Meta   1.4414  
    Test::Harness       3.33    
    Test::More          1.001006
    YAML                1.11    
    YAML::Syck          1.28_01 
    version             0.9909  


--

Summary of my perl5 (revision 5 version 20 subversion 1) configuration:
   
  Platform:
    osname=darwin, osvers=12.5.0, archname=darwin-2level
    uname='darwin bourbon 12.5.0 darwin kernel version 12.5.0: sun sep 29 13:33:47 pdt 2013; root:xnu-2050.48.12~1release_x86_64 x86_64 '
    config_args='-de -Dprefix=/Users/ether/perl5/perlbrew/perls/20.1 -Dman1dir=none -Dman3dir=none -Aeval:scriptdir=/Users/ether/perl5/perlbrew/perls/20.1/bin'
    hint=recommended, useposix=true, d_sigaction=define
    useithreads=undef, usemultiplicity=undef
    use64bitint=define, use64bitall=define, uselongdouble=undef
    usemymalloc=n, bincompat5005=undef
  Compiler:
    cc='cc', ccflags ='-fno-common -DPERL_DARWIN -fno-strict-aliasing -pipe -fstack-protector -I/opt/local/include',
    optimize='-O3',
    cppflags='-fno-common -DPERL_DARWIN -fno-strict-aliasing -pipe -fstack-protector -I/opt/local/include'
    ccversion='', gccversion='4.2.1 Compatible Apple LLVM 4.2 (clang-425.0.28)', gccosandvers=''
    intsize=4, longsize=8, ptrsize=8, doublesize=8, byteorder=12345678
    d_longlong=define, longlongsize=8, d_longdbl=define, longdblsize=16
    ivtype='long', ivsize=8, nvtype='double', nvsize=8, Off_t='off_t', lseeksize=8
    alignbytes=8, prototype=define
  Linker and Libraries:
    ld='env MACOSX_DEPLOYMENT_TARGET=10.3 cc', ldflags =' -fstack-protector -L/opt/local/lib'
    libpth=/usr/bin/../lib/clang/4.2/lib /usr/lib /opt/local/lib
    libs=-lgdbm -ldbm -ldl -lm -lutil -lc
    perllibs=-ldl -lm -lutil -lc
    libc=, so=dylib, useshrplib=false, libperl=libperl.a
    gnulibc_version=''
  Dynamic Linking:
    dlsrc=dl_dlopen.xs, dlext=bundle, d_dlsymun=undef, ccdlflags=' '
    cccdlflags=' ', lddlflags=' -bundle -undefined dynamic_lookup -L/opt/local/lib -fstack-protector'


Characteristics of this binary (from libperl): 
  Compile-time options: HAS_TIMES PERLIO_LAYERS PERL_DONT_CREATE_GVSV
                        PERL_HASH_FUNC_ONE_AT_A_TIME_HARD PERL_MALLOC_WRAP
                        PERL_NEW_COPY_ON_WRITE PERL_PRESERVE_IVUV
                        USE_64_BIT_ALL USE_64_BIT_INT USE_LARGE_FILES
                        USE_LOCALE USE_LOCALE_COLLATE USE_LOCALE_CTYPE
                        USE_LOCALE_NUMERIC USE_PERLIO USE_PERL_ATOF
  Built under darwin
  Compiled at Sep 14 2014 09:52:20
  %ENV:
    PERL5LIB="/Users/ether/.perlbrew/libs/20.1@std/lib/perl5"
    PERLBREW_BASHRC_VERSION="0.69"
    PERLBREW_HOME="/Users/ether/.perlbrew"
    PERLBREW_LIB="std"
    PERLBREW_MANPATH="/Users/ether/.perlbrew/libs/20.1@std/man:/Users/ether/perl5/perlbrew/perls/20.1/man"
    PERLBREW_PATH="/Users/ether/.perlbrew/libs/20.1@std/bin:/Users/ether/perl5/perlbrew/bin:/Users/ether/perl5/perlbrew/perls/20.1/bin"
    PERLBREW_PERL="20.1"
    PERLBREW_ROOT="/Users/ether/perl5/perlbrew"
    PERLBREW_VERSION="0.71"
    PERLDOC_PAGER="less -sicMr"
    PERL_AUTOINSTALL_PREFER_CPAN="1"
    PERL_INSTALL_QUIET="1"
    PERL_LOCAL_LIB_ROOT="/Users/ether/.perlbrew/libs/20.1@std"
    PERL_MB_OPT="--install_base /Users/ether/.perlbrew/libs/20.1@std"
    PERL_MM_OPT="INSTALL_BASE=/Users/ether/.perlbrew/libs/20.1@std"
  @INC:
    /Users/ether/.perlbrew/libs/20.1@std/lib/perl5/darwin-2level
    /Users/ether/.perlbrew/libs/20.1@std/lib/perl5
    /Users/ether/perl5/perlbrew/perls/20.1/lib/site_perl/5.20.1/darwin-2level
    /Users/ether/perl5/perlbrew/perls/20.1/lib/site_perl/5.20.1
    /Users/ether/perl5/perlbrew/perls/20.1/lib/5.20.1/darwin-2level
    /Users/ether/perl5/perlbrew/perls/20.1/lib/5.20.1
    .