Back
From: metabase:user:cd035d39-6d5b-1014-ab3a-39c0c09612a1
Subject: PASS Unicode-Normalize-1.18 v5.18.2
Date: 2014-05-28T06:51:13Z
This distribution has been tested as part of the CPAN Testers
project, supporting the Perl programming language. See
http://wiki.cpantesters.org/ for more information or email
questions to cpan-testers-discuss@perl.org
--
Dear SADAHIRO Tomoyuki,
This is a computer-generated report for Unicode-Normalize-1.18
on perl 5.18.2, created by CPAN-Reporter-1.2011.
Thank you for uploading your work to CPAN. Congratulations!
All tests were successful.
Sections of this report:
* Tester comments
* Program output
* Prerequisites
* Environment and other context
------------------------------
TESTER COMMENTS
------------------------------
Additional comments from tester:
none provided
------------------------------
PROGRAM OUTPUT
------------------------------
Output from 'C:\strawberry\c\bin\dmake.EXE test':
C:\strawberry\perl\bin\perl.exe "-MExtUtils::Command::MM" "-MTest::Harness" "-e" "undef *Test::Harness::Switches; test_harness(0, 'blib\lib', 'blib\arch')" t/*.t
t/fcdc.t ...... ok
t/form.t ...... ok
t/func.t ...... ok
t/illegal.t ... ok
t/norm.t ...... ok
t/null.t ...... ok
t/partial1.t .. ok
t/partial2.t .. ok
t/proto.t ..... ok
t/split.t ..... ok
t/test.t ...... ok
t/tie.t ....... ok
All tests successful.
Files=12, Tests=748, 3 wallclock secs ( 0.16 usr + 0.05 sys = 0.20 CPU)
Result: PASS
------------------------------
PREREQUISITES
------------------------------
Prerequisite modules loaded:
requires:
Module Need Have
------------------- ---- ------
bytes 0 1.04
Carp 0 1.3301
constant 0 1.27
Exporter 0 5.70
File::Copy 0 2.26
File::Spec 0 3.47
strict 0 1.07
warnings 0 1.18
build_requires:
Module Need Have
------------------- ---- ------
ExtUtils::MakeMaker 0 6.98
configure_requires:
Module Need Have
------------------- ---- ------
ExtUtils::MakeMaker 0 6.98
------------------------------
ENVIRONMENT AND OTHER CONTEXT
------------------------------
Environment variables:
COMSPEC = C:\Windows\system32\cmd.exe
NUMBER_OF_PROCESSORS = 4
PATH = C:\Windows\system32;C:\Windows;C:\Windows\System32\Wbem;C:\Windows\System32\WindowsPowerShell\v1.0\;C:\Program Files (x86)\ATI Technologies\ATI.ACE\Core-Static;C:\Program Files (x86)\BOND\BIBLIO_CLIENT\BIN\;C:\Program Files (x86)\Common Files\GTK\2.0\bin;C:\strawberry\c\bin;C:\strawberry\perl\site\bin;C:\strawberry\perl\bin;C:\Program Files (x86)\GNU\GnuPG
PERL5LIB = C:\cpan\build\IO-Socket-SSL-1.991-ybnpc6/blib/arch;C:\cpan\build\IO-Socket-SSL-1.991-ybnpc6/blib/lib;C:\cpan\build\IO-Socket-SSL-1.989-fcyaD5/blib/arch;C:\cpan\build\IO-Socket-SSL-1.989-fcyaD5/blib/lib;C:\cpan\build\IO-Socket-SSL-1.988-6aP2ZE/blib/arch;C:\cpan\build\IO-Socket-SSL-1.988-6aP2ZE/blib/lib;C:\cpan\build\CPAN-2.05-L_HRId/blib/arch;C:\cpan\build\CPAN-2.05-L_HRId/blib/lib
PERL5OPT =
PERL5_CPANPLUS_IS_RUNNING = 5896
PERL5_CPAN_IS_RUNNING = 5896
PROCESSOR_IDENTIFIER = AMD64 Family 18 Model 1 Stepping 0, AuthenticAMD
TEMP = C:\Users\gregor\AppData\Local\Temp
Perl special variables (and OS-specific diagnostics, for MSWin32):
$^X = C:\strawberry\perl\bin\perl.exe
$UID/$EUID = 0 / 0
$GID = 0
$EGID = 0
Win32::GetOSName = Win8
Win32::GetOSVersion = , 6, 2, 9200, 2, 0, 0, 256, 1
Win32::FsType = NTFS
Win32::IsAdminUser = 0
Perl module toolchain versions installed:
Module Have
------------------- --------
CPAN 2.05
CPAN::Meta 2.141170
Cwd 3.47
ExtUtils::CBuilder 0.280216
ExtUtils::Command 1.18
ExtUtils::Install 1.67
ExtUtils::MakeMaker 6.98
ExtUtils::Manifest 1.63
ExtUtils::ParseXS 3.24
File::Spec 3.47
JSON 2.90
JSON::PP 2.27203
Module::Build 0.4205
Module::Signature n/a
Parse::CPAN::Meta 1.4414
Test::Harness 3.30
Test::More 1.001003
YAML 0.90
YAML::Syck 1.27
version 0.9908
--
Summary of my perl5 (revision 5 version 18 subversion 2) configuration:
Platform:
osname=MSWin32, osvers=6.2, archname=MSWin32-x64-multi-thread
uname='Win32 strawberry-perl 5.18.2.2 #1 Tue Apr 15 14:36:23 2014 x64'
config_args='undef'
hint=recommended, useposix=true, d_sigaction=undef
useithreads=define, usemultiplicity=define
useperlio=define, d_sfio=undef, uselargefiles=define, usesocks=undef
use64bitint=define, use64bitall=undef, uselongdouble=undef
usemymalloc=n, bincompat5005=undef
Compiler:
cc='gcc', ccflags =' -s -O2 -DWIN32 -DWIN64 -DCONSERVATIVE -DPERL_TEXTMODE_SCRIPTS -DPERL_IMPLICIT_CONTEXT -DPERL_IMPLICIT_SYS -DUSE_PERLIO -fno-strict-aliasing -mms-bitfields',
optimize='-s -O2',
cppflags='-DWIN32'
ccversion='', gccversion='4.7.3', gccosandvers=''
intsize=4, longsize=4, ptrsize=8, doublesize=8, byteorder=12345678
d_longlong=define, longlongsize=8, d_longdbl=define, longdblsize=12
ivtype='long long', ivsize=8, nvtype='double', nvsize=8, Off_t='long long', lseeksize=8
alignbytes=8, prototype=define
Linker and Libraries:
ld='g++', ldflags ='-s -L"C:\strawberry\perl\lib\CORE" -L"C:\strawberry\c\lib"'
libpth=C:\strawberry\c\lib C:\strawberry\c\x86_64-w64-mingw32\lib C:\strawberry\c\lib\gcc\x86_64-w64-mingw32\4.7.3
libs=-lmoldname -lkernel32 -luser32 -lgdi32 -lwinspool -lcomdlg32 -ladvapi32 -lshell32 -lole32 -loleaut32 -lnetapi32 -luuid -lws2_32 -lmpr -lwinmm -lversion -lodbc32 -lodbccp32 -lcomctl32
perllibs=-lmoldname -lkernel32 -luser32 -lgdi32 -lwinspool -lcomdlg32 -ladvapi32 -lshell32 -lole32 -loleaut32 -lnetapi32 -luuid -lws2_32 -lmpr -lwinmm -lversion -lodbc32 -lodbccp32 -lcomctl32
libc=, so=dll, useshrplib=true, libperl=libperl518.a
gnulibc_version=''
Dynamic Linking:
dlsrc=dl_win32.xs, dlext=dll, d_dlsymun=undef, ccdlflags=' '
cccdlflags=' ', lddlflags='-mdll -s -L"C:\strawberry\perl\lib\CORE" -L"C:\strawberry\c\lib"'
Characteristics of this binary (from libperl):
Compile-time options: HAS_TIMES HAVE_INTERP_INTERN MULTIPLICITY
PERLIO_LAYERS PERL_DONT_CREATE_GVSV
PERL_HASH_FUNC_ONE_AT_A_TIME_HARD
PERL_IMPLICIT_CONTEXT PERL_IMPLICIT_SYS
PERL_MALLOC_WRAP PERL_PRESERVE_IVUV PERL_SAWAMPERSAND
USE_64_BIT_INT USE_ITHREADS USE_LARGE_FILES
USE_LOCALE USE_LOCALE_COLLATE USE_LOCALE_CTYPE
USE_LOCALE_NUMERIC USE_PERLIO USE_PERL_ATOF
Built under MSWin32
Compiled at Apr 15 2014 14:45:10
%ENV:
PERL5LIB="C:\cpan\build\IO-Socket-SSL-1.991-ybnpc6/blib/arch;C:\cpan\build\IO-Socket-SSL-1.991-ybnpc6/blib/lib;C:\cpan\build\IO-Socket-SSL-1.989-fcyaD5/blib/arch;C:\cpan\build\IO-Socket-SSL-1.989-fcyaD5/blib/lib;C:\cpan\build\IO-Socket-SSL-1.988-6aP2ZE/blib/arch;C:\cpan\build\IO-Socket-SSL-1.988-6aP2ZE/blib/lib;C:\cpan\build\CPAN-2.05-L_HRId/blib/arch;C:\cpan\build\CPAN-2.05-L_HRId/blib/lib"
PERL5_CPANPLUS_IS_RUNNING="5896"
PERL5_CPAN_IS_RUNNING="5896"
@INC:
C:\cpan\build\IO-Socket-SSL-1.991-ybnpc6/blib/arch
C:\cpan\build\IO-Socket-SSL-1.991-ybnpc6/blib/lib
C:\cpan\build\IO-Socket-SSL-1.989-fcyaD5/blib/arch
C:\cpan\build\IO-Socket-SSL-1.989-fcyaD5/blib/lib
C:\cpan\build\IO-Socket-SSL-1.988-6aP2ZE/blib/arch
C:\cpan\build\IO-Socket-SSL-1.988-6aP2ZE/blib/lib
C:\cpan\build\CPAN-2.05-L_HRId/blib/arch
C:\cpan\build\CPAN-2.05-L_HRId/blib/lib
C:/strawberry/perl/site/lib
C:/strawberry/perl/vendor/lib
C:/strawberry/perl/lib
.