Report for Catalyst-TraitFor-Model-DBIC-Schema-ResultRoles-0.011

Back
From: metabase:user:9820532a-708b-1014-9a05-b18a96298da1
Subject: PASS Catalyst-TraitFor-Model-DBIC-Schema-ResultRoles-0.011 v5.12.4 GNU/Linux
Date: 2011-06-21T08:43:33Z

This distribution has been tested as part of the CPAN Testers
project, supporting the Perl programming language.  See
http://wiki.cpantesters.org/ for more information or email
questions to cpan-testers-discuss@perl.org


--
Dear Lukas Thiemeier,

This is a computer-generated report for Catalyst-TraitFor-Model-DBIC-Schema-ResultRoles-0.011
on perl 5.12.4, created by CPAN-Reporter-1.1902.

Thank you for uploading your work to CPAN.  Congratulations!
All tests were successful.

Sections of this report:

    * Tester comments
    * Program output
    * Prerequisites
    * Environment and other context

------------------------------
TESTER COMMENTS
------------------------------

Additional comments from tester:

this report is from an automated smoke testing program
and was not reviewed by a human for accuracy

------------------------------
PROGRAM OUTPUT
------------------------------

Output from '/usr/bin/make test':

PERL_DL_NONLAZY=1 /home/test/perl5/perlbrew/perls/perl-5.12.4/bin/perl "-MExtUtils::Command::MM" "-e" "test_harness(0, 'blib/lib', 'blib/arch')" t/*.t
# Testing Catalyst::TraitFor::Model::DBIC::Schema::ResultRoles 0.011, Perl 5.012004, /home/test/perl5/perlbrew/perls/perl-5.12.4/bin/perl
t/00-load.t ............... ok
t/boilerplate.t ........... ok
t/manifest.t .............. skipped: Author tests not required for installation
t/pod-coverage.t .......... skipped: Test::Pod::Coverage 1.08 required for testing POD coverage
t/pod.t ................... ok
t/resultroles-basic.t ..... ok
# 
# ###################################################################
# # THE FOLLOWING MODULES ARE REQUIRED TO RUN THE TEST APPLICATION: #
# ###################################################################
# 
#   Catalyst::Model::DBIC::Schema	 (>= 0.48)
#   SQL::Translator	 (>= 0.11007)
#   MooseX::NonMoose	 (>= 0.17)
#   DBIx::Class	 (>= 0.08126)
# 
# 
#  If you see this message, the included Catalyst Test Application 
#  can not load due to missing dependencies.
# 
#  If all tests in resultroles-basic.t passed, the module will 
#  most likely work correct on your computer. 
# 
#  To test the module with a small Catalyst Application, install 
#  the packages listed above and run 'make test' again.
# 
# ###################################################################
t/resultroles-catalyst.t .. ok
All tests successful.

Test Summary Report
-------------------
t/boilerplate.t         (Wstat: 0 Tests: 3 Failed: 0)
  TODO passed:   1-3
Files=7, Tests=15,  1 wallclock secs ( 0.03 usr  0.03 sys +  0.94 cusr  0.16 csys =  1.16 CPU)
Result: PASS

------------------------------
PREREQUISITES
------------------------------

Prerequisite modules loaded:

requires:

    Module               Need Have  
    -------------------- ---- ------
    Module::Find         0.10 0.10  
    Moose                1.21 2.0010
    namespace::autoclean 0.11 0.12  

configure_requires:

    Module               Need Have  
    -------------------- ---- ------
    ExtUtils::MakeMaker  6.56 6.56  
    Test::More           0.96 0.98  


------------------------------
ENVIRONMENT AND OTHER CONTEXT
------------------------------

Environment variables:

    AUTOMATED_TESTING = 1
    LANG = C
    LC_ALL = C
    PATH = /home/test/perl5/perlbrew/bin:/home/test/perl5/perlbrew/perls/perl-5.12.4/bin:~/bin:/usr/bin:/bin
    PATH_WITHOUT_PERLBREW = ~/bin:/usr/bin:/bin
    PERL5LIB = /home/test/.cpan/build/Module-Find-0.10-ZowEI7/blib/arch:/home/test/.cpan/build/Module-Find-0.10-ZowEI7/blib/lib
    PERL5OPT = 
    PERL5_CPANPLUS_IS_RUNNING = 23820
    PERL5_CPAN_IS_RUNNING = 23820
    PERL5_CPAN_IS_RUNNING_IN_RECURSION = 12346,23820
    PERLBREW_HOME = /home/test/.perlbrew
    PERLBREW_PATH = /home/test/perl5/perlbrew/bin:/home/test/perl5/perlbrew/perls/perl-5.12.4/bin
    PERLBREW_PERL = perl-5.12.4
    PERLBREW_ROOT = /home/test/perl5/perlbrew
    PERLBREW_VERSION = 0.24
    PERL_CR_SMOKER_CURRENT = Catalyst-TraitFor-Model-DBIC-Schema-ResultRoles-0.011
    PERL_EXTUTILS_AUTOINSTALL = --defaultdeps
    PERL_MM_USE_DEFAULT = 1
    SHELL = /bin/bash
    TERM = linux

Perl special variables (and OS-specific diagnostics, for MSWin32):

    $^X = /home/test/perl5/perlbrew/perls/perl-5.12.4/bin/perl
    $UID/$EUID = 1001 / 1001
    $GID = 1001 1001
    $EGID = 1001 1001

Perl module toolchain versions installed:

    Module              Have    
    ------------------- --------
    CPAN                1.9600  
    Cwd                 3.33    
    ExtUtils::CBuilder  0.280202
    ExtUtils::Command   1.17    
    ExtUtils::Install   1.55    
    ExtUtils::MakeMaker 6.56    
    ExtUtils::Manifest  1.58    
    ExtUtils::ParseXS   2.2206  
    File::Spec          3.33    
    Module::Build       0.3800  
    Module::Signature   n/a     
    Test::Harness       3.23    
    Test::More          0.98    
    YAML                0.73    
    YAML::Syck          1.17    
    version             0.91    


--

Summary of my perl5 (revision 5 version 12 subversion 4) configuration:
   
  Platform:
    osname=linux, osvers=2.6.35-28-generic, archname=x86_64-linux-thread-multi-ld
    uname='linux zippy 2.6.35-28-generic #50-ubuntu smp fri mar 18 18:42:20 utc 2011 x86_64 gnulinux '
    config_args='-de -Dprefix=/home/test/perl5/perlbrew/perls/perl-5.12.4 -Duselongdouble -Duse64bitall -Dusethreads'
    hint=recommended, useposix=true, d_sigaction=define
    useithreads=define, usemultiplicity=define
    useperlio=define, d_sfio=undef, uselargefiles=define, usesocks=undef
    use64bitint=define, use64bitall=define, uselongdouble=define
    usemymalloc=n, bincompat5005=undef
  Compiler:
    cc='cc', ccflags ='-D_REENTRANT -D_GNU_SOURCE -fno-strict-aliasing -pipe -fstack-protector -I/usr/local/include -D_LARGEFILE_SOURCE -D_FILE_OFFSET_BITS=64',
    optimize='-O2',
    cppflags='-D_REENTRANT -D_GNU_SOURCE -fno-strict-aliasing -pipe -fstack-protector -I/usr/local/include'
    ccversion='', gccversion='4.4.5', gccosandvers=''
    intsize=4, longsize=8, ptrsize=8, doublesize=8, byteorder=12345678
    d_longlong=define, longlongsize=8, d_longdbl=define, longdblsize=16
    ivtype='long', ivsize=8, nvtype='long double', nvsize=16, Off_t='off_t', lseeksize=8
    alignbytes=16, prototype=define
  Linker and Libraries:
    ld='cc', ldflags =' -fstack-protector -L/usr/local/lib'
    libpth=/usr/local/lib /lib/../lib /usr/lib/../lib /lib /usr/lib /usr/lib/x86_64-linux-gnu /lib64 /usr/lib64
    libs=-lnsl -ldl -lm -lcrypt -lutil -lpthread -lc
    perllibs=-lnsl -ldl -lm -lcrypt -lutil -lpthread -lc
    libc=/lib/libc-2.12.1.so, so=so, useshrplib=false, libperl=libperl.a
    gnulibc_version='2.12.1'
  Dynamic Linking:
    dlsrc=dl_dlopen.xs, dlext=so, d_dlsymun=undef, ccdlflags='-Wl,-E'
    cccdlflags='-fPIC', lddlflags='-shared -O2 -L/usr/local/lib -fstack-protector'


Characteristics of this binary (from libperl): 
  Compile-time options: MULTIPLICITY PERL_DONT_CREATE_GVSV
                        PERL_IMPLICIT_CONTEXT PERL_MALLOC_WRAP USE_64_BIT_ALL
                        USE_64_BIT_INT USE_ITHREADS USE_LARGE_FILES
                        USE_LONG_DOUBLE USE_PERLIO USE_PERL_ATOF
                        USE_REENTRANT_API
  Built under linux
  Compiled at Jun 20 2011 12:20:29
  %ENV:
    PERL5LIB="/home/test/.cpan/build/Module-Find-0.10-ZowEI7/blib/arch:/home/test/.cpan/build/Module-Find-0.10-ZowEI7/blib/lib"
    PERL5OPT=""
    PERL5_CPANPLUS_IS_RUNNING="23820"
    PERL5_CPAN_IS_RUNNING="23820"
    PERL5_CPAN_IS_RUNNING_IN_RECURSION="12346,23820"
    PERLBREW_HOME="/home/test/.perlbrew"
    PERLBREW_PATH="/home/test/perl5/perlbrew/bin:/home/test/perl5/perlbrew/perls/perl-5.12.4/bin"
    PERLBREW_PERL="perl-5.12.4"
    PERLBREW_ROOT="/home/test/perl5/perlbrew"
    PERLBREW_VERSION="0.24"
    PERL_CR_SMOKER_CURRENT="Catalyst-TraitFor-Model-DBIC-Schema-ResultRoles-0.011"
    PERL_EXTUTILS_AUTOINSTALL="--defaultdeps"
    PERL_MM_USE_DEFAULT="1"
  @INC:
    /home/test/.cpan/build/Module-Find-0.10-ZowEI7/blib/arch
    /home/test/.cpan/build/Module-Find-0.10-ZowEI7/blib/lib
    /home/test/perl5/perlbrew/perls/perl-5.12.4/lib/site_perl/5.12.4/x86_64-linux-thread-multi-ld
    /home/test/perl5/perlbrew/perls/perl-5.12.4/lib/site_perl/5.12.4
    /home/test/perl5/perlbrew/perls/perl-5.12.4/lib/5.12.4/x86_64-linux-thread-multi-ld
    /home/test/perl5/perlbrew/perls/perl-5.12.4/lib/5.12.4
    .