XML-Parser v2.44 Perl 5 v5.28.2 x86_64-linux

Status
Pass
From
Eric de Hont (EDEHONT)
Dist
XML-Parser v2.44
Platform
Perl 5 v5.28.2 x86_64-linux
Date
2019-06-12 10:05:04
ID
8c55e40e-8cf9-11e9-96be-d43535880fcd
This distribution has been tested as part of the CPAN Testers
project, supporting the Perl programming language.  See
http://wiki.cpantesters.org/ for more information or email
questions to cpan-testers-discuss@perl.org


--
Dear TODDR,

This is a computer-generated report for XML-Parser-2.44
on perl 5.28.2, created by App::cpanminus::reporter 0.17 (1.7044).

Thank you for uploading your work to CPAN.  Congratulations!
All tests were successful.

Sections of this report:

    * Tester comments
    * Program output
    * Prerequisites
    * Environment and other context

------------------------------
TESTER COMMENTS
------------------------------

Additional comments from tester:

none provided

------------------------------
PROGRAM OUTPUT
------------------------------

Output from '':

Building and testing XML-Parser-2.44
cp Parser/Encodings/iso-8859-4.enc blib/lib/XML/Parser/Encodings/iso-8859-4.enc
cp Parser/LWPExternEnt.pl blib/lib/XML/Parser/LWPExternEnt.pl
cp Parser/Encodings/iso-8859-3.enc blib/lib/XML/Parser/Encodings/iso-8859-3.enc
cp Parser/Encodings/iso-8859-8.enc blib/lib/XML/Parser/Encodings/iso-8859-8.enc
cp Parser/Style/Debug.pm blib/lib/XML/Parser/Style/Debug.pm
cp Parser/Encodings/windows-1250.enc blib/lib/XML/Parser/Encodings/windows-1250.enc
cp Parser/Style/Tree.pm blib/lib/XML/Parser/Style/Tree.pm
cp Parser/Encodings/ibm866.enc blib/lib/XML/Parser/Encodings/ibm866.enc
cp Parser/Encodings/big5.enc blib/lib/XML/Parser/Encodings/big5.enc
cp Parser/Encodings/euc-kr.enc blib/lib/XML/Parser/Encodings/euc-kr.enc
cp Parser/Encodings/windows-1252.enc blib/lib/XML/Parser/Encodings/windows-1252.enc
cp Parser/Encodings/iso-8859-2.enc blib/lib/XML/Parser/Encodings/iso-8859-2.enc
cp Parser/Encodings/README blib/lib/XML/Parser/Encodings/README
cp Parser/Encodings/windows-1251.enc blib/lib/XML/Parser/Encodings/windows-1251.enc
cp Parser/Encodings/Japanese_Encodings.msg blib/lib/XML/Parser/Encodings/Japanese_Encodings.msg
cp Parser/Encodings/x-sjis-cp932.enc blib/lib/XML/Parser/Encodings/x-sjis-cp932.enc
cp Parser/Style/Subs.pm blib/lib/XML/Parser/Style/Subs.pm
cp Parser/Style/Stream.pm blib/lib/XML/Parser/Style/Stream.pm
cp Parser/Encodings/x-sjis-jisx0221.enc blib/lib/XML/Parser/Encodings/x-sjis-jisx0221.enc
cp Parser/Encodings/x-sjis-jdk117.enc blib/lib/XML/Parser/Encodings/x-sjis-jdk117.enc
cp Parser/Encodings/iso-8859-9.enc blib/lib/XML/Parser/Encodings/iso-8859-9.enc
cp Parser/Encodings/x-euc-jp-unicode.enc blib/lib/XML/Parser/Encodings/x-euc-jp-unicode.enc
cp Parser/Encodings/koi8-r.enc blib/lib/XML/Parser/Encodings/koi8-r.enc
cp Parser/Encodings/x-euc-jp-jisx0221.enc blib/lib/XML/Parser/Encodings/x-euc-jp-jisx0221.enc
cp Parser.pm blib/lib/XML/Parser.pm
cp Parser/Encodings/x-sjis-unicode.enc blib/lib/XML/Parser/Encodings/x-sjis-unicode.enc
cp Parser/Encodings/iso-8859-5.enc blib/lib/XML/Parser/Encodings/iso-8859-5.enc
cp Parser/Encodings/iso-8859-7.enc blib/lib/XML/Parser/Encodings/iso-8859-7.enc
cp Parser/Style/Objects.pm blib/lib/XML/Parser/Style/Objects.pm
cp Parser/Encodings/windows-1255.enc blib/lib/XML/Parser/Encodings/windows-1255.enc
make[1]: Map '/home/eric/.cpanm/work/1560331787.5095/XML-Parser-2.44/Expat' wordt binnengegaan
cp Expat.pm ../blib/lib/XML/Parser/Expat.pm
Running Mkbootstrap for Expat ()
chmod 644 "Expat.bs"
"/home/eric/perl5/perlbrew/perls/perl-5.28.2/bin/perl" -MExtUtils::Command::MM -e 'cp_nonempty' -- Expat.bs ../blib/arch/auto/XML/Parser/Expat/Expat.bs 644
"/home/eric/perl5/perlbrew/perls/perl-5.28.2/bin/perl" "/home/eric/perl5/perlbrew/perls/perl-5.28.2/lib/5.28.2/ExtUtils/xsubpp" -noprototypes -typemap '/home/eric/perl5/perlbrew/perls/perl-5.28.2/lib/5.28.2/ExtUtils/typemap' -typemap '/home/eric/.cpanm/work/1560331787.5095/XML-Parser-2.44/Expat/typemap'  Expat.xs > Expat.xsc
mv Expat.xsc Expat.c
cc -c   -fwrapv -fno-strict-aliasing -pipe -fstack-protector-strong -I/usr/local/include -D_LARGEFILE_SOURCE -D_FILE_OFFSET_BITS=64 -O2   -DVERSION=\"2.44\" -DXS_VERSION=\"2.44\" -fPIC "-I/home/eric/perl5/perlbrew/perls/perl-5.28.2/lib/5.28.2/x86_64-linux/CORE"   Expat.c
rm -f ../blib/arch/auto/XML/Parser/Expat/Expat.so
LD_RUN_PATH="/lib/x86_64-linux-gnu" cc  -shared -O2 -L/usr/local/lib -fstack-protector-strong  Expat.o  -o ../blib/arch/auto/XML/Parser/Expat/Expat.so  \
   -lexpat   \
  
chmod 755 ../blib/arch/auto/XML/Parser/Expat/Expat.so
Manifying 1 pod document
make[1]: Map '/home/eric/.cpanm/work/1560331787.5095/XML-Parser-2.44/Expat' wordt verlaten
Manifying 6 pod documents
make[1]: Map '/home/eric/.cpanm/work/1560331787.5095/XML-Parser-2.44/Expat' wordt binnengegaan
"/home/eric/perl5/perlbrew/perls/perl-5.28.2/bin/perl" -MExtUtils::Command::MM -e 'cp_nonempty' -- Expat.bs ../blib/arch/auto/XML/Parser/Expat/Expat.bs 644
Manifying 1 pod document
make[1]: Map '/home/eric/.cpanm/work/1560331787.5095/XML-Parser-2.44/Expat' wordt verlaten
PERL_DL_NONLAZY=1 "/home/eric/perl5/perlbrew/perls/perl-5.28.2/bin/perl" "-MExtUtils::Command::MM" "-MTest::Harness" "-e" "undef *Test::Harness::Switches; test_harness(0, 'blib/lib', 'blib/arch')" t/*.t
t/astress.t ........... ok
t/cdata.t ............. ok
t/decl.t .............. ok
t/defaulted.t ......... ok
t/encoding.t .......... ok
t/external_ent.t ...... ok
t/file.t .............. ok
t/file_open_scalar.t .. ok
t/finish.t ............ ok
t/namespaces.t ........ ok
t/parament.t .......... ok
t/partial.t ........... ok
t/skip.t .............. ok
t/stream.t ............ ok
t/styles.t ............ ok
All tests successful.
Files=15, Tests=141,  1 wallclock secs ( 0.08 usr  0.01 sys +  0.90 cusr  0.09 csys =  1.08 CPU)
Result: PASS

------------------------------
PREREQUISITES
------------------------------

Prerequisite modules loaded:

    No requirements found

------------------------------
ENVIRONMENT AND OTHER CONTEXT
------------------------------

Environment variables:

    LANG = nl_NL.UTF-8
    LANGUAGE = nl_NL:nl:en
    LC_ADDRESS = nl_NL.UTF-8
    LC_IDENTIFICATION = nl_NL.UTF-8
    LC_MEASUREMENT = nl_NL.UTF-8
    LC_MONETARY = nl_NL.UTF-8
    LC_NAME = nl_NL.UTF-8
    LC_NUMERIC = nl_NL.UTF-8
    LC_PAPER = nl_NL.UTF-8
    LC_TELEPHONE = nl_NL.UTF-8
    LC_TIME = nl_NL.UTF-8
    PATH = /home/eric/perl5/perlbrew/bin:/home/eric/perl5/perlbrew/perls/perl-5.28.2/bin:/home/eric/rakudo-star/share/perl6/site/bin:/home/eric/rakudo-star/bin:/home/eric/bin:/usr/local/sbin:/usr/local/bin:/usr/sbin:/usr/bin:/sbin:/bin:/usr/games:/usr/local/games:/snap/bin
    PERL5LIB = /home/eric/Programmeren/lib
    PERLBREW_HOME = /home/eric/.perlbrew
    PERLBREW_MANPATH = /home/eric/perl5/perlbrew/perls/perl-5.28.2/man
    PERLBREW_PATH = /home/eric/perl5/perlbrew/bin:/home/eric/perl5/perlbrew/perls/perl-5.28.2/bin
    PERLBREW_PERL = perl-5.28.2
    PERLBREW_ROOT = /home/eric/perl5/perlbrew
    PERLBREW_SHELLRC_VERSION = 0.86
    PERLBREW_VERSION = 0.86
    PERL_UNICODE = AS
    SHELL = /bin/bash
    TERM = xterm

Perl special variables (and OS-specific diagnostics, for MSWin32):

    EGID = 1000 4 24 27 30 46 115 131 134 1000 1001
    EUID = 1000
    EXECUTABLE_NAME = /home/eric/perl5/perlbrew/perls/perl-5.28.2/bin/perl
    GID = 1000 4 24 27 30 46 115 131 134 1000 1001
    UID = 1000

Perl module toolchain versions installed:

    Module              Have    
    ------------------- --------
    CPAN                2.20    
    CPAN::Meta          2.150010
    Cwd                 3.74    
    ExtUtils::CBuilder  0.280230
    ExtUtils::Command   7.36    
    ExtUtils::Install   2.14    
    ExtUtils::MakeMaker 7.36    
    ExtUtils::Manifest  1.70    
    ExtUtils::ParseXS   3.39    
    File::Spec          3.74    
    JSON                4.02    
    JSON::PP            2.97001 
    Module::Build       0.4229  
    Module::Signature   n/a     
    Parse::CPAN::Meta   2.150010
    Test::Harness       3.42    
    Test::More          1.302164
    YAML                1.29    
    YAML::Syck          n/a     
    version             0.9923  


--

Summary of my perl5 (revision 5 version 28 subversion 2) configuration:
   
  Platform:
    osname=linux
    osvers=4.4.0-148-generic
    archname=x86_64-linux
    uname='linux hp-envy-e 4.4.0-148-generic #174-ubuntu smp tue may 7 12:20:14 utc 2019 x86_64 x86_64 x86_64 gnulinux '
    config_args='-de -Dprefix=/home/eric/perl5/perlbrew/perls/perl-5.28.2 -Aeval:scriptdir=/home/eric/perl5/perlbrew/perls/perl-5.28.2/bin'
    hint=recommended
    useposix=true
    d_sigaction=define
    useithreads=undef
    usemultiplicity=undef
    use64bitint=define
    use64bitall=define
    uselongdouble=undef
    usemymalloc=n
    default_inc_excludes_dot=define
    bincompat5005=undef
  Compiler:
    cc='cc'
    ccflags ='-fwrapv -fno-strict-aliasing -pipe -fstack-protector-strong -I/usr/local/include -D_LARGEFILE_SOURCE -D_FILE_OFFSET_BITS=64'
    optimize='-O2'
    cppflags='-fwrapv -fno-strict-aliasing -pipe -fstack-protector-strong -I/usr/local/include'
    ccversion=''
    gccversion='5.4.0 20160609'
    gccosandvers=''
    intsize=4
    longsize=8
    ptrsize=8
    doublesize=8
    byteorder=12345678
    doublekind=3
    d_longlong=define
    longlongsize=8
    d_longdbl=define
    longdblsize=16
    longdblkind=3
    ivtype='long'
    ivsize=8
    nvtype='double'
    nvsize=8
    Off_t='off_t'
    lseeksize=8
    alignbytes=8
    prototype=define
  Linker and Libraries:
    ld='cc'
    ldflags =' -fstack-protector-strong -L/usr/local/lib'
    libpth=/usr/local/lib /usr/lib/gcc/x86_64-linux-gnu/5/include-fixed /usr/include/x86_64-linux-gnu /usr/lib /lib/x86_64-linux-gnu /lib/../lib /usr/lib/x86_64-linux-gnu /usr/lib/../lib /lib
    libs=-lpthread -lnsl -ldl -lm -lcrypt -lutil -lc
    perllibs=-lpthread -lnsl -ldl -lm -lcrypt -lutil -lc
    libc=libc-2.23.so
    so=so
    useshrplib=false
    libperl=libperl.a
    gnulibc_version='2.23'
  Dynamic Linking:
    dlsrc=dl_dlopen.xs
    dlext=so
    d_dlsymun=undef
    ccdlflags='-Wl,-E'
    cccdlflags='-fPIC'
    lddlflags='-shared -O2 -L/usr/local/lib -fstack-protector-strong'


Characteristics of this binary (from libperl): 
  Compile-time options:
    HAS_TIMES
    PERLIO_LAYERS
    PERL_COPY_ON_WRITE
    PERL_DONT_CREATE_GVSV
    PERL_MALLOC_WRAP
    PERL_OP_PARENT
    PERL_PRESERVE_IVUV
    USE_64_BIT_ALL
    USE_64_BIT_INT
    USE_LARGE_FILES
    USE_LOCALE
    USE_LOCALE_COLLATE
    USE_LOCALE_CTYPE
    USE_LOCALE_NUMERIC
    USE_LOCALE_TIME
    USE_PERLIO
    USE_PERL_ATOF
  Locally applied patches:
    Devel::PatchPerl 1.38
  Built under linux
  Compiled at Jun 12 2019 11:14:11
  %ENV:
    PERL5LIB="/home/eric/Programmeren/lib"
    PERLBREW_HOME="/home/eric/.perlbrew"
    PERLBREW_MANPATH="/home/eric/perl5/perlbrew/perls/perl-5.28.2/man"
    PERLBREW_PATH="/home/eric/perl5/perlbrew/bin:/home/eric/perl5/perlbrew/perls/perl-5.28.2/bin"
    PERLBREW_PERL="perl-5.28.2"
    PERLBREW_ROOT="/home/eric/perl5/perlbrew"
    PERLBREW_SHELLRC_VERSION="0.86"
    PERLBREW_VERSION="0.86"
    PERL_UNICODE="AS"
  @INC:
    /home/eric/Programmeren/lib
    /home/eric/perl5/perlbrew/perls/perl-5.28.2/lib/site_perl/5.28.2/x86_64-linux
    /home/eric/perl5/perlbrew/perls/perl-5.28.2/lib/site_perl/5.28.2
    /home/eric/perl5/perlbrew/perls/perl-5.28.2/lib/5.28.2/x86_64-linux
    /home/eric/perl5/perlbrew/perls/perl-5.28.2/lib/5.28.2