Back
From: metabase:user:af96679a-7f7c-1014-abd5-eff69454ae4a
Subject: PASS IPC-Run3-0.044 v5.13.0
Date: 2011-01-10T15:44:43Z
This distribution has been tested as part of the CPAN Testers
project, supporting the Perl programming language. See
http://wiki.cpantesters.org/ for more information or email
questions to cpan-testers-discuss@perl.org
--
Dear Ricardo SIGNES,
This is a computer-generated report for IPC-Run3-0.044
on perl 5.13.0, created by CPAN-Reporter-1.1803.
Thank you for uploading your work to CPAN. Congratulations!
All tests were successful.
Sections of this report:
* Tester comments
* Program output
* Prerequisites
* Environment and other context
------------------------------
TESTER COMMENTS
------------------------------
Additional comments from tester:
none provided
------------------------------
PROGRAM OUTPUT
------------------------------
Output from 'C:\Programs\Microsoft_Visual_Studio_8\VC\BIN\nmake.EXE test':
Microsoft (R) Program Maintenance Utility Version 8.00.50727.762
Copyright (C) Microsoft Corporation. All rights reserved.
D:\PROGRAMS\perl\5.13.0\bin\perl.exe "-MExtUtils::Command::MM" "-e" "test_harness(0, 'blib\lib', 'blib\arch')" t/*.t
t/fd_leak.t ................... ok
t/fork.t ...................... skipped: tests fail on Win32 and Cygwin
t/IPC-Run3-ProfArrayBuffer.t .. ok
t/IPC-Run3-profiling.t ........ ok
t/IPC-Run3-ProfLogger.t ....... ok
t/IPC-Run3-ProfLogReader.t .... ok
t/IPC-Run3-ProfPP.t ........... ok
t/IPC-Run3-ProfReporter.t ..... ok
t/IPC-Run3.t .................. ok
t/pod-coverage.t .............. ok
t/pod.t ....................... ok
t/utf8.t ...................... ok
All tests successful.
Files=12, Tests=70, 6 wallclock secs ( 0.13 usr + 0.14 sys = 0.27 CPU)
Result: PASS
------------------------------
PREREQUISITES
------------------------------
Prerequisite modules loaded:
requires:
Module Need Have
------------------- ---- ------
Test::More 0.31 0.96
Time::HiRes 0 1.9721
Win32 0 0.42
configure_requires:
Module Need Have
------------------- ---- ------
ExtUtils::MakeMaker 0 6.5601
------------------------------
ENVIRONMENT AND OTHER CONTEXT
------------------------------
Environment variables:
COMSPEC = C:\WINDOWS\system32\cmd.exe
INCLUDE = C:\Programs\Microsoft_Visual_Studio_8\VC\ATLMFC\INCLUDE;C:\Programs\Microsoft_Visual_Studio_8\VC\INCLUDE;C:\Programs\Microsoft_Visual_Studio_8\VC\PlatformSDK\include;C:\Programs\Microsoft_Visual_Studio_8\SDK\v2.0\include;
LIB = C:\Programs\Microsoft_Visual_Studio_8\VC\ATLMFC\LIB;C:\Programs\Microsoft_Visual_Studio_8\VC\LIB;C:\Programs\Microsoft_Visual_Studio_8\VC\PlatformSDK\lib;C:\Programs\Microsoft_Visual_Studio_8\SDK\v2.0\lib;
NUMBER_OF_PROCESSORS = 2
PATH = C:\Programs\Microsoft_Visual_Studio_8\Common7\IDE;C:\Programs\Microsoft_Visual_Studio_8\VC\BIN;C:\Programs\Microsoft_Visual_Studio_8\Common7\Tools;C:\Programs\Microsoft_Visual_Studio_8\Common7\Tools\bin;C:\Programs\Microsoft_Visual_Studio_8\VC\PlatformSDK\bin;C:\Programs\Microsoft_Visual_Studio_8\SDK\v2.0\bin;C:\WINDOWS\Microsoft.NET\Framework\v2.0.50727;C:\Programs\Microsoft_Visual_Studio_8\VC\VCPackages;C:\WINDOWS\system32;C:\WINDOWS;C:\WINDOWS\System32\Wbem;C:\Program Files\ATI Technologies\ATI.ACE;C:\Program Files\Hummingbird\Connectivity\7.11\Accessories;C:\WINDOWS\system32\WindowsPowerShell\v1.0;D:\PROGRAMS\perl\5.13.0\bin;D:\PROGRAMS\OpenSSL\bin;D:\PROGRAMS\NASM;D:\Programs\Rational\ClearCase\bin;D:\Programs\Rational\common;d:\programs\gnu\gnupg;D:\PROGRAMS\SQLANY50\win32;D:\PROGRAMS\SYBTOOLS\win32;D:\PROGRAMS\SQLANY50\win
PERL5LIB =
PERL5OPT =
PERL5_CPANPLUS_IS_RUNNING = 2412
PERL5_CPAN_IS_RUNNING = 2412
PROCESSOR_IDENTIFIER = x86 Family 6 Model 15 Stepping 2, GenuineIntel
TEMP = D:\temp\cpan\temp
Perl special variables (and OS-specific diagnostics, for MSWin32):
$^X = D:\PROGRAMS\perl\5.13.0\bin\perl.exe
$UID/$EUID = 0 / 0
$GID = 0
$EGID = 0
Win32::GetOSName = WinXP/.Net
Win32::GetOSVersion = Service Pack 3, 5, 1, 2600, 2, 3, 0, 256, 1
Win32::FsType = NTFS
Win32::IsAdminUser = 1
Perl module toolchain versions installed:
Module Have
------------------- -------
CPAN 1.94_56
Cwd 3.33
ExtUtils::CBuilder 0.27
ExtUtils::Command 1.16
ExtUtils::Install 1.55
ExtUtils::MakeMaker 6.5601
ExtUtils::Manifest 1.58
ExtUtils::ParseXS 2.21
File::Spec 3.33
Module::Build 0.3603
Module::Signature n/a
Test::Harness 3.22
Test::More 0.96
YAML 0.72
YAML::Syck 1.17
version 0.88
--
Summary of my perl5 (revision 5 version 13 subversion 0) configuration:
Platform:
osname=MSWin32, osvers=5.1, archname=MSWin32-x86-multi-thread
uname=''
config_args='undef'
hint=recommended, useposix=true, d_sigaction=undef
useithreads=define, usemultiplicity=define
useperlio=define, d_sfio=undef, uselargefiles=define, usesocks=undef
use64bitint=undef, use64bitall=undef, uselongdouble=undef
usemymalloc=n, bincompat5005=undef
Compiler:
cc='cl', ccflags ='-nologo -GF -W3 -MD -Zi -DNDEBUG -O1 -DWIN32 -D_CONSOLE -DNO_STRICT -DHAVE_DES_FCRYPT -D_CRT_SECURE_NO_DEPRECATE -D_CRT_NONSTDC_NO_DEPRECATE -DUSE_SITECUSTOMIZE -DPERL_IMPLICIT_CONTEXT -DPERL_IMPLICIT_SYS -DUSE_PERLIO',
optimize='-MD -Zi -DNDEBUG -O1',
cppflags='-DWIN32'
ccversion='14.00.50727.762', gccversion='', gccosandvers=''
intsize=4, longsize=4, ptrsize=4, doublesize=8, byteorder=1234
d_longlong=undef, longlongsize=8, d_longdbl=define, longdblsize=8
ivtype='long', ivsize=4, nvtype='double', nvsize=8, Off_t='__int64', lseeksize=8
alignbytes=8, prototype=define
Linker and Libraries:
ld='link', ldflags ='-nologo -nodefaultlib -debug -opt:ref,icf -libpath:"d:\programs\perl\5.13.0\lib\CORE" -machine:x86 "/manifestdependency:type='Win32' name='Microsoft.Windows.Common-Controls' version='6.0.0.0' processorArchitecture='*' publicKeyToken='6595b64144ccf1df' language='*'"'
libpth=C:\Programs\Microsoft_Visual_Studio_8\VC\lib
libs= oldnames.lib kernel32.lib user32.lib gdi32.lib winspool.lib comdlg32.lib advapi32.lib shell32.lib ole32.lib oleaut32.lib netapi32.lib uuid.lib ws2_32.lib mpr.lib winmm.lib version.lib odbc32.lib odbccp32.lib comctl32.lib msvcrt.lib
perllibs= oldnames.lib kernel32.lib user32.lib gdi32.lib winspool.lib comdlg32.lib advapi32.lib shell32.lib ole32.lib oleaut32.lib netapi32.lib uuid.lib ws2_32.lib mpr.lib winmm.lib version.lib odbc32.lib odbccp32.lib comctl32.lib msvcrt.lib
libc=msvcrt.lib, so=dll, useshrplib=true, libperl=perl513.lib
gnulibc_version=''
Dynamic Linking:
dlsrc=dl_win32.xs, dlext=dll, d_dlsymun=undef, ccdlflags=' '
cccdlflags=' ', lddlflags='-dll -nologo -nodefaultlib -debug -opt:ref,icf -libpath:"d:\programs\perl\5.13.0\lib\CORE" -machine:x86 "/manifestdependency:type='Win32' name='Microsoft.Windows.Common-Controls' version='6.0.0.0' processorArchitecture='*' publicKeyToken='6595b64144ccf1df' language='*'"'
Characteristics of this binary (from libperl):
Compile-time options: MULTIPLICITY PERL_DONT_CREATE_GVSV
PERL_IMPLICIT_CONTEXT PERL_IMPLICIT_SYS
PERL_MALLOC_WRAP PL_OP_SLAB_ALLOC USE_ITHREADS
USE_LARGE_FILES USE_PERLIO USE_PERL_ATOF
USE_SITECUSTOMIZE
Built under MSWin32
Compiled at May 17 2010 15:24:45
%ENV:
PERL5_CPANPLUS_IS_RUNNING="2412"
PERL5_CPAN_IS_RUNNING="2412"
@INC:
D:/PROGRAMS/perl/site/5.13.0/lib
D:/PROGRAMS/perl/5.13.0/lib
.