Back
From: metabase:user:5bbb2efa-715f-11e3-8cc1-b2993ff2e0c7
Subject: PASS Test-Differences-0.62 v5.16.3 GNU/Linux
Date: 2014-07-17T09:55:57Z
This distribution has been tested as part of the CPAN Testers
project, supporting the Perl programming language. See
http://wiki.cpantesters.org/ for more information or email
questions to cpan-testers-discuss@perl.org
--
Dear DCANTRELL,
This is a computer-generated report for Test-Differences-0.62
on perl 5.16.3, created by NX::cpanminus::reporter 0.10 (1.7001).
Thank you for uploading your work to CPAN. Congratulations!
All tests were successful.
Sections of this report:
* Tester comments
* Program output
* Prerequisites
* Environment and other context
------------------------------
TESTER COMMENTS
------------------------------
Additional comments from tester:
none provided
------------------------------
PROGRAM OUTPUT
------------------------------
Output from '':
Building and testing Test-Differences-0.62
Building Test-Differences
# Testing Test::Differences 0.62, Perl 5.016003, /home/ollisg/perl5/perlbrew/perls/perl-5.16.3/bin/perl
t/00-load.t ......... ok
t/boilerplate.t ..... ok
t/column-headers.t .. ok
t/diff_styles.t ..... ok
t/example.t ......... ok
t/flatten.t ......... ok
t/pass.t ............ ok
t/pod-coverage.t .... ok
t/pod.t ............. ok
t/regression.t ...... ok
t/struct.t .......... ok
# This test misuses TODO: these TODOs are actually real tests.
t/test.t ............ ok
t/text_vs_data.t .... ok
t/undef.t ........... ok
All tests successful.
Files=14, Tests=47, 1 wallclock secs ( 0.07 usr 0.09 sys + 0.60 cusr 0.14 csys = 0.90 CPU)
Result: PASS
------------------------------
PREREQUISITES
------------------------------
Prerequisite modules loaded:
No requirements found
------------------------------
ENVIRONMENT AND OTHER CONTEXT
------------------------------
Environment variables:
LANG = en_US.utf8
LC_COLLATE = C
MANPATH_WITHOUT_PERLBREW = /home/ollisg/.perlbrew/libs/perl-5.16.3@dare/man:/usr/local/man:/usr/local/share/man:/usr/share/man
PATH = /home/ollisg/.perlbrew/libs/perl-5.16.3@dare/bin:/home/ollisg/perl5/perlbrew/bin:/home/ollisg/perl5/perlbrew/perls/perl-5.16.3/bin:/usr/local/bin:/usr/bin:/bin:/usr/bin/X11:/usr/games
PATH_WITHOUT_PERLBREW = /usr/local/bin:/usr/bin:/bin:/usr/bin/X11:/usr/games
PERL5LIB = /home/ollisg/.perlbrew/libs/perl-5.16.3@dare/lib/perl5
PERLBREW_CSHRC_VERSION = 0.62
PERLBREW_HOME = /home/ollisg/.perlbrew
PERLBREW_LIB = dare
PERLBREW_MANPATH = /home/ollisg/.perlbrew/libs/perl-5.16.3@dare/man:/home/ollisg/perl5/perlbrew/perls/perl-5.16.3/man
PERLBREW_PATH = /home/ollisg/.perlbrew/libs/perl-5.16.3@dare/bin:/home/ollisg/perl5/perlbrew/bin:/home/ollisg/perl5/perlbrew/perls/perl-5.16.3/bin
PERLBREW_PERL = perl-5.16.3
PERLBREW_ROOT = /home/ollisg/perl5/perlbrew
PERLBREW_VERSION = 0.62
PERL_CPANM_OPT = --mirror /home/ollisg/minicpan --mirror-only
PERL_LOCAL_LIB_ROOT = /home/ollisg/.perlbrew/libs/perl-5.16.3@dare
PERL_MB_OPT = --install_base /home/ollisg/.perlbrew/libs/perl-5.16.3@dare
PERL_MM_OPT = INSTALL_BASE=/home/ollisg/.perlbrew/libs/perl-5.16.3@dare
SHELL = /bin/tcsh
TERM = xterm
Perl special variables (and OS-specific diagnostics, for MSWin32):
EGID = 1000 1000
EUID = 1000
EXECUTABLE_NAME = /home/ollisg/perl5/perlbrew/perls/perl-5.16.3/bin/perl
GID = 1000 1000
UID = 1000
Perl module toolchain versions installed:
Module Have
------------------- --------
CPAN 2.05
CPAN::Meta 2.141520
Cwd 3.47
ExtUtils::CBuilder 0.280216
ExtUtils::Command 1.18
ExtUtils::Install 1.68
ExtUtils::MakeMaker 6.98
ExtUtils::Manifest 1.63
ExtUtils::ParseXS 3.24
File::Spec 3.47
JSON 2.90
JSON::PP 2.27203
Module::Build 0.4206
Module::Signature n/a
Parse::CPAN::Meta 1.4414
Test::Harness 3.32
Test::More 1.001003
YAML 0.96
YAML::Syck n/a
version 0.9908
--
Summary of my perl5 (revision 5 version 16 subversion 3) configuration:
Platform:
osname=linux, osvers=3.8.4-x86_64-linode31, archname=x86_64-linux
uname='linux dare 3.8.4-x86_64-linode31 #1 smp mon mar 25 16:00:34 edt 2013 x86_64 gnulinux '
config_args='-de -Dprefix=/home/ollisg/perl5/perlbrew/perls/perl-5.16.3 -Aeval:scriptdir=/home/ollisg/perl5/perlbrew/perls/perl-5.16.3/bin'
hint=recommended, useposix=true, d_sigaction=define
useithreads=undef, usemultiplicity=undef
useperlio=define, d_sfio=undef, uselargefiles=define, usesocks=undef
use64bitint=define, use64bitall=define, uselongdouble=undef
usemymalloc=n, bincompat5005=undef
Compiler:
cc='cc', ccflags ='-fno-strict-aliasing -pipe -fstack-protector -I/usr/local/include -D_LARGEFILE_SOURCE -D_FILE_OFFSET_BITS=64',
optimize='-O2',
cppflags='-fno-strict-aliasing -pipe -fstack-protector -I/usr/local/include'
ccversion='', gccversion='4.7.2', gccosandvers=''
intsize=4, longsize=8, ptrsize=8, doublesize=8, byteorder=12345678
d_longlong=define, longlongsize=8, d_longdbl=define, longdblsize=16
ivtype='long', ivsize=8, nvtype='double', nvsize=8, Off_t='off_t', lseeksize=8
alignbytes=8, prototype=define
Linker and Libraries:
ld='cc', ldflags =' -fstack-protector -L/usr/local/lib'
libpth=/usr/local/lib /lib/x86_64-linux-gnu /lib/../lib /usr/lib/x86_64-linux-gnu /usr/lib/../lib /lib /usr/lib
libs=-lnsl -ldl -lm -lcrypt -lutil -lc
perllibs=-lnsl -ldl -lm -lcrypt -lutil -lc
libc=, so=so, useshrplib=false, libperl=libperl.a
gnulibc_version='2.13'
Dynamic Linking:
dlsrc=dl_dlopen.xs, dlext=so, d_dlsymun=undef, ccdlflags='-Wl,-E'
cccdlflags='-fPIC', lddlflags='-shared -O2 -L/usr/local/lib -fstack-protector'
Characteristics of this binary (from libperl):
Compile-time options: HAS_TIMES PERLIO_LAYERS PERL_DONT_CREATE_GVSV
PERL_MALLOC_WRAP PERL_PRESERVE_IVUV USE_64_BIT_ALL
USE_64_BIT_INT USE_LARGE_FILES USE_LOCALE
USE_LOCALE_COLLATE USE_LOCALE_CTYPE
USE_LOCALE_NUMERIC USE_PERLIO USE_PERL_ATOF
Built under linux
Compiled at May 6 2013 13:42:03
%ENV:
PERL5LIB="/home/ollisg/.perlbrew/libs/perl-5.16.3@dare/lib/perl5"
PERLBREW_CSHRC_VERSION="0.62"
PERLBREW_HOME="/home/ollisg/.perlbrew"
PERLBREW_LIB="dare"
PERLBREW_MANPATH="/home/ollisg/.perlbrew/libs/perl-5.16.3@dare/man:/home/ollisg/perl5/perlbrew/perls/perl-5.16.3/man"
PERLBREW_PATH="/home/ollisg/.perlbrew/libs/perl-5.16.3@dare/bin:/home/ollisg/perl5/perlbrew/bin:/home/ollisg/perl5/perlbrew/perls/perl-5.16.3/bin"
PERLBREW_PERL="perl-5.16.3"
PERLBREW_ROOT="/home/ollisg/perl5/perlbrew"
PERLBREW_VERSION="0.62"
PERL_CPANM_OPT="--mirror /home/ollisg/minicpan --mirror-only"
PERL_LOCAL_LIB_ROOT="/home/ollisg/.perlbrew/libs/perl-5.16.3@dare"
PERL_MB_OPT="--install_base /home/ollisg/.perlbrew/libs/perl-5.16.3@dare"
PERL_MM_OPT="INSTALL_BASE=/home/ollisg/.perlbrew/libs/perl-5.16.3@dare"
@INC:
/home/ollisg/.perlbrew/libs/perl-5.16.3@dare/lib/perl5/x86_64-linux
/home/ollisg/.perlbrew/libs/perl-5.16.3@dare/lib/perl5
/home/ollisg/perl5/perlbrew/perls/perl-5.16.3/lib/site_perl/5.16.3/x86_64-linux
/home/ollisg/perl5/perlbrew/perls/perl-5.16.3/lib/site_perl/5.16.3
/home/ollisg/perl5/perlbrew/perls/perl-5.16.3/lib/5.16.3/x86_64-linux
/home/ollisg/perl5/perlbrew/perls/perl-5.16.3/lib/5.16.3
.