Report for WebNano-Controller-CRUD-0.007

Back
From: metabase:user:314402c4-2aae-11df-837a-5e0a49663a4f
Subject: PASS WebNano-Controller-CRUD-0.007 v5.21.10 GNU/Linux
Date: 2015-03-23T08:06:45Z

This distribution has been tested as part of the CPAN Testers
project, supporting the Perl programming language.  See
http://wiki.cpantesters.org/ for more information or email
questions to cpan-testers-discuss@perl.org


--
Dear Zbigniew Lukasiak,

This is a computer-generated report for WebNano-Controller-CRUD-0.007
on perl 5.21.10, created by CPAN-Reporter-1.2011.

Thank you for uploading your work to CPAN.  Congratulations!
All tests were successful.

Sections of this report:

    * Tester comments
    * Program output
    * Prerequisites
    * Environment and other context

------------------------------
TESTER COMMENTS
------------------------------

Additional comments from tester:

none provided

------------------------------
PROGRAM OUTPUT
------------------------------

Output from '/usr/bin/make test':

PERL_DL_NONLAZY=1 "/bbbike/perl-5.21.10/bin/perl5.21.10" "-MExtUtils::Command::MM" "-MTest::Harness" "-e" "undef *Test::Harness::Switches; test_harness(0, 'blib/lib', 'blib/arch')" t/*.t
Class::MOP::load_class is deprecated at /opt/perl-5.21.10/lib/site_perl/5.21.10/x86_64-linux/Class/MOP.pm line 69.
	Class::MOP::load_class("MyApp::Controller::Form") called at /tmpfs/.cpan-build/WebNano-Controller-CRUD-0.007-HebTIp/blib/lib/WebNano/Controller/CRUD.pm line 154
	WebNano::Controller::CRUD::edit(MyApp::Controller::DvdWithBaseCRUD=HASH(0x33a2cc0), MyApp::DBSchema::Result::Dvd=HASH(0x42d4938), undef, "edit") called at /tmpfs/.cpan-build/WebNano-Controller-CRUD-0.007-HebTIp/blib/lib/WebNano/Controller/CRUD.pm line 89
	Class::MOP::Class:::around(CODE(0x33961e0), MyApp::Controller::DvdWithBaseCRUD=HASH(0x33a2cc0)) called at /opt/perl-5.21.10/lib/site_perl/5.21.10/x86_64-linux/Class/MOP/Method/Wrapped.pm line 158
	Class::MOP::Method::Wrapped::__ANON__(MyApp::Controller::DvdWithBaseCRUD=HASH(0x33a2cc0)) called at /opt/perl-5.21.10/lib/site_perl/5.21.10/x86_64-linux/Class/MOP/Method/Wrapped.pm line 87
	WebNano::Controller::CRUD::local_dispatch(MyApp::Controller::DvdWithBaseCRUD=HASH(0x33a2cc0)) called at /opt/perl-5.21.10/lib/site_perl/5.21.10/WebNano/Controller.pm line 90
	WebNano::Controller::handle("MyApp::Controller::DvdWithBaseCRUD", "path", ARRAY(0x31c95d0), "app", MyApp=HASH(0x2ffe668), "self_url", "/DvdWithBaseCRUD/", "env", HASH(0x31c9c90), ...) called at /opt/perl-5.21.10/lib/site_perl/5.21.10/WebNano/Controller.pm line 82
	WebNano::Controller::dispatch_to_class(MyApp::Controller=HASH(0x31a61b0), "DvdWithBaseCRUD") called at /opt/perl-5.21.10/lib/site_perl/5.21.10/WebNano/Controller.pm line 93
	WebNano::Controller::handle("MyApp::Controller", "path", ARRAY(0x31c95d0), "app", MyApp=HASH(0x2ffe668), "env", HASH(0x31c9c90), "self_url", "/", ...) called at /opt/perl-5.21.10/lib/site_perl/5.21.10/WebNano.pm line 44
	WebNano::handle(MyApp=HASH(0x2ffe668), HASH(0x31c9c90)) called at /opt/perl-5.21.10/lib/site_perl/5.21.10/WebNano.pm line 31
	WebNano::__ANON__(HASH(0x31c9c90)) called at /opt/perl-5.21.10/lib/site_perl/5.21.10/Plack/Test/MockHTTP.pm line 24
	Plack::Test::MockHTTP::try {...} () called at /opt/perl-5.21.10/lib/site_perl/5.21.10/Try/Tiny.pm line 79
	eval {...} called at /opt/perl-5.21.10/lib/site_perl/5.21.10/Try/Tiny.pm line 72
	Try::Tiny::try(CODE(0x3e68a70), Try::Tiny::Catch=REF(0x33b40c8)) called at /opt/perl-5.21.10/lib/site_perl/5.21.10/Plack/Test/MockHTTP.pm line 27
	Plack::Test::MockHTTP::request(Plack::Test::MockHTTP=HASH(0x30fe120), HTTP::Request=HASH(0x31c9600)) called at /opt/perl-5.21.10/lib/site_perl/5.21.10/Plack/Test.pm line 38
	Plack::Test::__ANON__(HTTP::Request=HASH(0x31c9600)) called at t/crud_base_controller.t line 23
	main::__ANON__(CODE(0x30fe078)) called at /opt/perl-5.21.10/lib/site_perl/5.21.10/Plack/Test.pm line 38
	Plack::Test::test_psgi("app", CODE(0x2f50218), "client", CODE(0x2fdeeb0)) called at t/crud_base_controller.t line 42
t/crud_base_controller.t .. ok
t/release-kwalitee.t ...... skipped: these tests are for release candidate testing
t/release-pod-coverage.t .. skipped: these tests are for release candidate testing
t/release-pod-syntax.t .... skipped: these tests are for release candidate testing
All tests successful.
Files=4, Tests=20,  4 wallclock secs ( 0.02 usr  0.05 sys +  2.74 cusr  0.25 csys =  3.06 CPU)
Result: PASS

------------------------------
PREREQUISITES
------------------------------

Prerequisite modules loaded:

requires:

    Module                            Need  Have    
    --------------------------------- ----- --------
    Class::MOP                        0     2.1403  
    Config::General                   0     2.56    
    Cwd                               0     3.55    
    DateTime::Format::SQLite          0     0.11    
    DBIx::Class                       0     0.082820
    File::Spec::Functions             0     3.55    
    HTML::FormHandler::Model::DBIC    0     0.29    
    HTML::FormHandler::Moose          0     0       
    Moose                             0     2.1403  
    MooseX::NonMoose                  0     0.26    
    WebNano                           0.007 0.007   
    WebNano::Controller               0     0.007   
    WebNano::Renderer::TT             0     0.002   

build_requires:

    Module                            Need  Have    
    --------------------------------- ----- --------
    base                              0     2.18    
    Config::Any                       0     0.24    
    DateTime                          0     1.18    
    DBIx::Class                       0     0.082820
    DBIx::Class::Schema               0     0       
    File::Copy                        0     2.30    
    HTML::FormHandler::Model::DBIC    0     0.29    
    HTML::FormHandler::Moose          0     0       
    HTML::FormHandler::Render::Simple 0     0.01    
    HTTP::Request::Common             0     6.04    
    overload                          0     1.25    
    Plack::Test                       0     0       
    strict                            0     1.09    
    Test::More                        0     1.001014
    warnings                          0     1.31    
    WebNano                           0     0.007   
    WebNano::Renderer::TT             0     0.002   

configure_requires:

    Module                            Need  Have    
    --------------------------------- ----- --------
    ExtUtils::MakeMaker               6.30  7.04    


------------------------------
ENVIRONMENT AND OTHER CONTEXT
------------------------------

Environment variables:

    DBIC_NO_WARN_BAD_PERL = 1
    LANG = C
    LC_ALL = de_DE.UTF-8
    PATH = /usr/local/bin:/usr/bin:/bin:/usr/local/sbin:/usr/sbin:/sbin:/home/eserte/bin/linux-gnu:/home/eserte/bin/sh:/home/eserte/bin:/usr/games:/home/eserte/devel:/home/eserte/src/srezic-misc/scripts
    PERL5LIB = 
    PERL5OPT = 
    PERL5_CPANPLUS_IS_RUNNING = 14114
    PERL5_CPAN_IS_RUNNING = 14114
    PERL5_CPAN_IS_RUNNING_IN_RECURSION = 26332,14114
    PERLDOC = -MPod::Perldoc::ToTextOverstrike
    PERL_BATCH = yes
    PERL_CPAN_REPORTER_CONFIG = /var/tmp/cpansmoker-1001/UflZgx00UE_config.ini
    PERL_EXTUTILS_AUTOINSTALL = --defaultdeps
    PERL_HTML_DISPLAY_CLASS = HTML::Display::Mozilla
    PERL_PARALLEL_SMOKER = yes
    SHELL = /bin/zsh
    TERM = screen
    TMPDIR = /var/tmp/cpansmoker-1001

Perl special variables (and OS-specific diagnostics, for MSWin32):

    $^X = /bbbike/perl-5.21.10/bin/perl5.21.10
    $UID/$EUID = 1001 / 1001
    $GID = 1001 109 1001
    $EGID = 1001 109 1001

Perl module toolchain versions installed:

    Module              Have    
    ------------------- --------
    CPAN                2.10    
    CPAN::Meta          2.150001
    Cwd                 3.55    
    ExtUtils::CBuilder  0.280220
    ExtUtils::Command   1.20    
    ExtUtils::Install   2.04    
    ExtUtils::MakeMaker 7.04    
    ExtUtils::Manifest  1.70    
    ExtUtils::ParseXS   3.27    
    File::Spec          3.55    
    JSON                2.90    
    JSON::PP            2.27300 
    Module::Build       0.4211  
    Module::Signature   0.73    
    Parse::CPAN::Meta   1.4414  
    Test::Harness       3.35    
    Test::More          1.001014
    YAML                1.14    
    YAML::Syck          1.29    
    version             0.9912  


--

Summary of my perl5 (revision 5 version 21 subversion 10) configuration:
   
  Platform:
    osname=linux, osvers=3.2.0-4-amd64, archname=x86_64-linux
    uname='linux eserte 3.2.0-4-amd64 #1 smp debian 3.2.65-1+deb7u2 x86_64 gnulinux '
    config_args='-ds -e -Dprefix=/opt/perl-5.21.10 -Dusedevel -Dusemallocwrap=no'
    hint=recommended, useposix=true, d_sigaction=define
    useithreads=undef, usemultiplicity=undef
    use64bitint=define, use64bitall=define, uselongdouble=undef
    usemymalloc=n, bincompat5005=undef
  Compiler:
    cc='cc', ccflags ='-fwrapv -fno-strict-aliasing -pipe -fstack-protector -I/usr/local/include -D_LARGEFILE_SOURCE -D_FILE_OFFSET_BITS=64 -D_FORTIFY_SOURCE=2',
    optimize='-O2',
    cppflags='-fwrapv -fno-strict-aliasing -pipe -fstack-protector -I/usr/local/include'
    ccversion='', gccversion='4.7.2', gccosandvers=''
    intsize=4, longsize=8, ptrsize=8, doublesize=8, byteorder=12345678, doublekind=3
    d_longlong=define, longlongsize=8, d_longdbl=define, longdblsize=16, longdblkind=3
    ivtype='long', ivsize=8, nvtype='double', nvsize=8, Off_t='off_t', lseeksize=8
    alignbytes=8, prototype=define
  Linker and Libraries:
    ld='cc', ldflags =' -fstack-protector -L/usr/local/lib'
    libpth=/usr/local/lib /usr/lib/gcc/x86_64-linux-gnu/4.7/include-fixed /usr/include/x86_64-linux-gnu /usr/lib /lib/x86_64-linux-gnu /lib/../lib /usr/lib/x86_64-linux-gnu /usr/lib/../lib /lib
    libs=-lpthread -lnsl -ldb -ldl -lm -lcrypt -lutil -lc
    perllibs=-lpthread -lnsl -ldl -lm -lcrypt -lutil -lc
    libc=libc-2.13.so, so=so, useshrplib=false, libperl=libperl.a
    gnulibc_version='2.13'
  Dynamic Linking:
    dlsrc=dl_dlopen.xs, dlext=so, d_dlsymun=undef, ccdlflags='-Wl,-E'
    cccdlflags='-fPIC', lddlflags='-shared -O2 -L/usr/local/lib -fstack-protector'


Characteristics of this binary (from libperl): 
  Compile-time options: HAS_TIMES PERLIO_LAYERS PERL_DONT_CREATE_GVSV
                        PERL_HASH_FUNC_ONE_AT_A_TIME_HARD
                        PERL_NEW_COPY_ON_WRITE PERL_PRESERVE_IVUV
                        PERL_USE_DEVEL USE_64_BIT_ALL USE_64_BIT_INT
                        USE_LARGE_FILES USE_LOCALE USE_LOCALE_COLLATE
                        USE_LOCALE_CTYPE USE_LOCALE_NUMERIC USE_LOCALE_TIME
                        USE_PERLIO USE_PERL_ATOF
  Built under linux
  Compiled at Mar 20 2015 18:59:18
  %ENV:
    PERL5LIB=""
    PERL5OPT=""
    PERL5_CPANPLUS_IS_RUNNING="14114"
    PERL5_CPAN_IS_RUNNING="14114"
    PERL5_CPAN_IS_RUNNING_IN_RECURSION="26332,14114"
    PERLDOC="-MPod::Perldoc::ToTextOverstrike"
    PERL_BATCH="yes"
    PERL_CPAN_REPORTER_CONFIG="/var/tmp/cpansmoker-1001/UflZgx00UE_config.ini"
    PERL_EXTUTILS_AUTOINSTALL="--defaultdeps"
    PERL_HTML_DISPLAY_CLASS="HTML::Display::Mozilla"
    PERL_PARALLEL_SMOKER="yes"
  @INC:
    /opt/perl-5.21.10/lib/site_perl/5.21.10/x86_64-linux
    /opt/perl-5.21.10/lib/site_perl/5.21.10
    /opt/perl-5.21.10/lib/5.21.10/x86_64-linux
    /opt/perl-5.21.10/lib/5.21.10
    .