Dist-Zilla-Plugin-ChangeStats-Git v0.6.0 Perl 5 v5.27.6 x86_64-linux

Status
Pass
From
Slaven Rezić (SREZIC)
Dist
Dist-Zilla-Plugin-ChangeStats-Git v0.6.0
Platform
Perl 5 v5.27.6 x86_64-linux
Date
2017-12-04 05:54:11
ID
8cd4ef12-d8b7-11e7-9f38-a9ba2d5ad37f
This distribution has been tested as part of the CPAN Testers
project, supporting the Perl programming language.  See
http://wiki.cpantesters.org/ for more information or email
questions to cpan-testers-discuss@perl.org


--
Dear Yanick Champoux,

This is a computer-generated report for Dist-Zilla-Plugin-ChangeStats-Git-0.6.0
on perl 5.27.6, created by CPAN-Reporter-1.2018.

Thank you for uploading your work to CPAN.  Congratulations!
All tests were successful.

Sections of this report:

    * Tester comments
    * Program output
    * Prerequisites
    * Environment and other context

------------------------------
TESTER COMMENTS
------------------------------

Additional comments from tester:

none provided

------------------------------
PROGRAM OUTPUT
------------------------------

Output from '/usr/bin/make test':

PERL_DL_NONLAZY=1 "/opt/perl-5.27.6/bin/perl5.27.6" "-MExtUtils::Command::MM" "-MTest::Harness" "-e" "undef *Test::Harness::Switches; test_harness(0, 'blib/lib', 'blib/arch')" t/*.t
t/00-compile.t ......... ok
# 
# Versions for all modules listed in MYMETA.json (including optional ones):
# 
# === Configure Requires ===
# 
#     Module              Want Have
#     ------------------- ---- ----
#     ExtUtils::MakeMaker  any 7.30
# 
# === Build Requires ===
# 
#     Module              Want Have
#     ------------------- ---- ----
#     ExtUtils::MakeMaker  any 7.30
# 
# === Test Requires ===
# 
#     Module              Want     Have
#     ------------------- ---- --------
#     ExtUtils::MakeMaker  any     7.30
#     File::Spec           any     3.69
#     IO::Handle           any     1.37
#     IPC::Open3           any     1.20
#     Test::DZil           any    6.010
#     Test::More           any 1.302111
# 
# === Test Recommends ===
# 
#     Module         Want     Have
#     ---------- -------- --------
#     CPAN::Meta 2.120900 2.150010
# 
# === Runtime Requires ===
# 
#     Module                          Want     Have
#     ------------------------------- ---- --------
#     CPAN::Changes                   0.17 0.400002
#     Dist::Zilla::Role::AfterRelease  any    6.010
#     Dist::Zilla::Role::FileMunger    any    6.010
#     Dist::Zilla::Role::Plugin        any    6.010
#     Git::Repository                  any    1.321
#     List::Util                       any     1.49
#     Module::Load                     any     0.32
#     Moose                            any   2.2007
#     Moose::Role                      any   2.2007
#     Moose::Util                      any   2.2007
#     MooseX::Role::Parameterized      any     1.10
#     Path::Tiny                       any    0.104
#     Perl::Version                    any    1.013
#     Try::Tiny                        any     0.28
#     strict                           any     1.11
#     warnings                         any     1.38
# 
t/00-report-prereqs.t .. ok
t/basic.t .............. skipped: need to create sub-git repo for tests
All tests successful.
Files=3, Tests=4,  1 wallclock secs ( 0.03 usr  0.00 sys +  0.54 cusr  0.12 csys =  0.69 CPU)
Result: PASS

------------------------------
PREREQUISITES
------------------------------

Prerequisite modules loaded:

requires:

    Module                          Need     Have    
    ------------------------------- -------- --------
    CPAN::Changes                   0.17     0.400002
    Dist::Zilla::Role::AfterRelease 0        6.010   
    Dist::Zilla::Role::FileMunger   0        6.010   
    Dist::Zilla::Role::Plugin       0        6.010   
    Git::Repository                 0        1.321   
    List::Util                      0        1.49    
    Module::Load                    0        0.32    
    Moose                           0        2.2007  
    Moose::Role                     0        2.2007  
    Moose::Util                     0        2.2007  
    MooseX::Role::Parameterized     0        1.10    
    Path::Tiny                      0        0.104   
    perl                            5.006    5.027006
    Perl::Version                   0        1.013   
    strict                          0        1.11    
    Try::Tiny                       0        0.28    
    warnings                        0        1.38    

build_requires:

    Module                          Need     Have    
    ------------------------------- -------- --------
    ExtUtils::MakeMaker             0        7.30    
    File::Spec                      0        3.69    
    IO::Handle                      0        1.37    
    IPC::Open3                      0        1.20    
    Test::DZil                      0        6.010   
    Test::More                      0        1.302111

configure_requires:

    Module                          Need     Have    
    ------------------------------- -------- --------
    ExtUtils::MakeMaker             0        7.30    

opt_build_requires:

    Module                          Need     Have    
    ------------------------------- -------- --------
    CPAN::Meta                      2.120900 2.150010


------------------------------
ENVIRONMENT AND OTHER CONTEXT
------------------------------

Environment variables:

    LANG = en_US.UTF-8
    PATH = /usr/local/bin:/usr/bin:/bin:/usr/local/sbin:/usr/sbin:/sbin:/home/cpansand/bin/linux-gnu:/home/cpansand/bin/sh:/home/cpansand/bin:/usr/games:/home/cpansand/devel:/home/eserte/src/srezic-misc/scripts
    PERL5LIB = /home/cpansand/.cpan/build/2017120321/Perl-Version-1.013-2/blib/arch:/home/cpansand/.cpan/build/2017120321/Perl-Version-1.013-2/blib/lib:/home/cpansand/.cpan/build/2017120321/File-Slurp-Tiny-0.004-1/blib/arch:/home/cpansand/.cpan/build/2017120321/File-Slurp-Tiny-0.004-1/blib/lib:/home/cpansand/.cpan/build/2017120321/Git-Repository-1.321-2/blib/arch:/home/cpansand/.cpan/build/2017120321/Git-Repository-1.321-2/blib/lib:/home/cpansand/.cpan/build/2017120321/Test-Requires-Git-1.008-2/blib/arch:/home/cpansand/.cpan/build/2017120321/Test-Requires-Git-1.008-2/blib/lib:/home/cpansand/.cpan/build/2017120321/Test-Command-0.11-2/blib/arch:/home/cpansand/.cpan/build/2017120321/Test-Command-0.11-2/blib/lib:/home/cpansand/.cpan/build/2017120321/System-Command-1.118-2/blib/arch:/home/cpansand/.cpan/build/2017120321/System-Command-1.118-2/blib/lib:/home/cpansand/.cpan/build/2017120321/Git-Version-Compare-1.004-2/blib/arch:/home/cpansand/.cpan/build/2017120321/Git-Version-Compare-1.004-2/blib/lib:/home/cpansand/.cpan/build/2017120321/Dist-Zilla-Plugin-Authority-1.009-2/blib/arch:/home/cpansand/.cpan/build/2017120321/Dist-Zilla-Plugin-Authority-1.009-2/blib/lib
    PERL5OPT = 
    PERL5_CPANPLUS_IS_RUNNING = 29292
    PERL5_CPAN_IS_RUNNING = 29292
    PERL5_CPAN_IS_RUNNING_IN_RECURSION = 18801,29292
    PERLDOC = -MPod::Perldoc::ToTextOverstrike
    PERL_BATCH = yes
    PERL_CANARY_STABILITY_NOPROMPT = 1
    PERL_CPAN_REPORTER_CONFIG = /var/tmp/cpansmoker-1023/2017120318/cpanreporter_000_config.ini
    PERL_EXTUTILS_AUTOINSTALL = --defaultdeps
    PERL_USE_UNSAFE_INC = 1
    SHELL = /usr/bin/zsh
    TERM = screen
    TMPDIR = /var/tmp/cpansmoker-1023/2017120318

Perl special variables (and OS-specific diagnostics, for MSWin32):

    $^X = /opt/perl-5.27.6/bin/perl5.27.6
    $UID/$EUID = 1023 / 1023
    $GID = 1023 1023
    $EGID = 1023 1023

Perl module toolchain versions installed:

    Module              Have    
    ------------------- --------
    CPAN                2.18    
    CPAN::Meta          2.150010
    Cwd                 3.70    
    ExtUtils::CBuilder  0.280229
    ExtUtils::Command   7.30    
    ExtUtils::Install   2.14    
    ExtUtils::MakeMaker 7.30    
    ExtUtils::Manifest  1.70    
    ExtUtils::ParseXS   3.36    
    File::Spec          3.69    
    JSON                2.97000 
    JSON::PP            2.94    
    Module::Build       0.4224  
    Module::Signature   0.81    
    Parse::CPAN::Meta   2.150010
    Test::Harness       3.39    
    Test::More          1.302111
    YAML                1.24    
    YAML::Syck          1.30    
    version             0.9918  


--

Summary of my perl5 (revision 5 version 27 subversion 6) configuration:
   
  Platform:
    osname=linux
    osvers=4.4.0-98-generic
    archname=x86_64-linux
    uname='linux ubuntu16 4.4.0-98-generic #121-ubuntu smp tue oct 10 14:24:03 utc 2017 x86_64 x86_64 x86_64 gnulinux '
    config_args='-ds -e -Dprefix=/opt/perl-5.27.6 -Dusedevel -Dusemallocwrap=no -Dcf_email=srezic@cpan.org'
    hint=recommended
    useposix=true
    d_sigaction=define
    useithreads=undef
    usemultiplicity=undef
    use64bitint=define
    use64bitall=define
    uselongdouble=undef
    usemymalloc=n
    default_inc_excludes_dot=define
    bincompat5005=undef
  Compiler:
    cc='cc'
    ccflags ='-fwrapv -fno-strict-aliasing -pipe -fstack-protector-strong -I/usr/local/include -D_LARGEFILE_SOURCE -D_FILE_OFFSET_BITS=64'
    optimize='-O2'
    cppflags='-fwrapv -fno-strict-aliasing -pipe -fstack-protector-strong -I/usr/local/include'
    ccversion=''
    gccversion='5.4.0 20160609'
    gccosandvers=''
    intsize=4
    longsize=8
    ptrsize=8
    doublesize=8
    byteorder=12345678
    doublekind=3
    d_longlong=define
    longlongsize=8
    d_longdbl=define
    longdblsize=16
    longdblkind=3
    ivtype='long'
    ivsize=8
    nvtype='double'
    nvsize=8
    Off_t='off_t'
    lseeksize=8
    alignbytes=8
    prototype=define
  Linker and Libraries:
    ld='cc'
    ldflags =' -fstack-protector-strong -L/usr/local/lib'
    libpth=/usr/local/lib /usr/lib/gcc/x86_64-linux-gnu/5/include-fixed /usr/include/x86_64-linux-gnu /usr/lib /lib/x86_64-linux-gnu /lib/../lib /usr/lib/x86_64-linux-gnu /usr/lib/../lib /lib
    libs=-lpthread -lnsl -lgdbm -ldb -ldl -lm -lcrypt -lutil -lc -lgdbm_compat
    perllibs=-lpthread -lnsl -ldl -lm -lcrypt -lutil -lc
    libc=libc-2.23.so
    so=so
    useshrplib=false
    libperl=libperl.a
    gnulibc_version='2.23'
  Dynamic Linking:
    dlsrc=dl_dlopen.xs
    dlext=so
    d_dlsymun=undef
    ccdlflags='-Wl,-E'
    cccdlflags='-fPIC'
    lddlflags='-shared -O2 -L/usr/local/lib -fstack-protector-strong'


Characteristics of this binary (from libperl): 
  Compile-time options:
    HAS_TIMES
    PERLIO_LAYERS
    PERL_COPY_ON_WRITE
    PERL_DONT_CREATE_GVSV
    PERL_OP_PARENT
    PERL_PRESERVE_IVUV
    PERL_USE_DEVEL
    USE_64_BIT_ALL
    USE_64_BIT_INT
    USE_LARGE_FILES
    USE_LOCALE
    USE_LOCALE_COLLATE
    USE_LOCALE_CTYPE
    USE_LOCALE_NUMERIC
    USE_LOCALE_TIME
    USE_PERLIO
    USE_PERL_ATOF
  Built under linux
  Compiled at Nov 21 2017 06:13:21
  %ENV:
    PERL5LIB="/home/cpansand/.cpan/build/2017120321/Perl-Version-1.013-2/blib/arch:/home/cpansand/.cpan/build/2017120321/Perl-Version-1.013-2/blib/lib:/home/cpansand/.cpan/build/2017120321/File-Slurp-Tiny-0.004-1/blib/arch:/home/cpansand/.cpan/build/2017120321/File-Slurp-Tiny-0.004-1/blib/lib:/home/cpansand/.cpan/build/2017120321/Git-Repository-1.321-2/blib/arch:/home/cpansand/.cpan/build/2017120321/Git-Repository-1.321-2/blib/lib:/home/cpansand/.cpan/build/2017120321/Test-Requires-Git-1.008-2/blib/arch:/home/cpansand/.cpan/build/2017120321/Test-Requires-Git-1.008-2/blib/lib:/home/cpansand/.cpan/build/2017120321/Test-Command-0.11-2/blib/arch:/home/cpansand/.cpan/build/2017120321/Test-Command-0.11-2/blib/lib:/home/cpansand/.cpan/build/2017120321/System-Command-1.118-2/blib/arch:/home/cpansand/.cpan/build/2017120321/System-Command-1.118-2/blib/lib:/home/cpansand/.cpan/build/2017120321/Git-Version-Compare-1.004-2/blib/arch:/home/cpansand/.cpan/build/2017120321/Git-Version-Compare-1.004-2/blib/lib:/home/cpansand/.cpan/build/2017120321/Dist-Zilla-Plugin-Authority-1.009-2/blib/arch:/home/cpansand/.cpan/build/2017120321/Dist-Zilla-Plugin-Authority-1.009-2/blib/lib"
    PERL5OPT=""
    PERL5_CPANPLUS_IS_RUNNING="29292"
    PERL5_CPAN_IS_RUNNING="29292"
    PERL5_CPAN_IS_RUNNING_IN_RECURSION="18801,29292"
    PERLDOC="-MPod::Perldoc::ToTextOverstrike"
    PERL_BATCH="yes"
    PERL_CANARY_STABILITY_NOPROMPT="1"
    PERL_CPAN_REPORTER_CONFIG="/var/tmp/cpansmoker-1023/2017120318/cpanreporter_000_config.ini"
    PERL_EXTUTILS_AUTOINSTALL="--defaultdeps"
    PERL_USE_UNSAFE_INC="1"
  @INC:
    /home/cpansand/.cpan/build/2017120321/Perl-Version-1.013-2/blib/arch
    /home/cpansand/.cpan/build/2017120321/Perl-Version-1.013-2/blib/lib
    /home/cpansand/.cpan/build/2017120321/File-Slurp-Tiny-0.004-1/blib/arch
    /home/cpansand/.cpan/build/2017120321/File-Slurp-Tiny-0.004-1/blib/lib
    /home/cpansand/.cpan/build/2017120321/Git-Repository-1.321-2/blib/arch
    /home/cpansand/.cpan/build/2017120321/Git-Repository-1.321-2/blib/lib
    /home/cpansand/.cpan/build/2017120321/Test-Requires-Git-1.008-2/blib/arch
    /home/cpansand/.cpan/build/2017120321/Test-Requires-Git-1.008-2/blib/lib
    /home/cpansand/.cpan/build/2017120321/Test-Command-0.11-2/blib/arch
    /home/cpansand/.cpan/build/2017120321/Test-Command-0.11-2/blib/lib
    /home/cpansand/.cpan/build/2017120321/System-Command-1.118-2/blib/arch
    /home/cpansand/.cpan/build/2017120321/System-Command-1.118-2/blib/lib
    /home/cpansand/.cpan/build/2017120321/Git-Version-Compare-1.004-2/blib/arch
    /home/cpansand/.cpan/build/2017120321/Git-Version-Compare-1.004-2/blib/lib
    /home/cpansand/.cpan/build/2017120321/Dist-Zilla-Plugin-Authority-1.009-2/blib/arch
    /home/cpansand/.cpan/build/2017120321/Dist-Zilla-Plugin-Authority-1.009-2/blib/lib
    /opt/perl-5.27.6/lib/site_perl/5.27.6/x86_64-linux
    /opt/perl-5.27.6/lib/site_perl/5.27.6
    /opt/perl-5.27.6/lib/5.27.6/x86_64-linux
    /opt/perl-5.27.6/lib/5.27.6
    .