Data-MessagePack v1.02 Perl 5 v5.10.1 amd64-freebsd

Status
Pass
From
Slaven Rezić
Dist
Data-MessagePack v1.02
Platform
Perl 5 v5.10.1 amd64-freebsd
Date
2022-03-11 14:35:51
ID
8cd6f77c-a148-11ec-a331-ca811f24ea8f
This distribution has been tested as part of the CPAN Testers
project, supporting the Perl programming language.  See
http://wiki.cpantesters.org/ for more information or email
questions to cpan-testers-discuss@perl.org


--
Dear Shohei Yoshida,

This is a computer-generated report for Data-MessagePack-1.02
on perl 5.10.1, created by CPAN-Reporter-1.2018.

Thank you for uploading your work to CPAN.  Congratulations!
All tests were successful.

Sections of this report:

    * Tester comments
    * Program output
    * Prerequisites
    * Environment and other context

------------------------------
TESTER COMMENTS
------------------------------

Additional comments from tester:

none provided

------------------------------
PROGRAM OUTPUT
------------------------------

Output from './Build test':

pp tests
# Testing Data::MessagePack/1.02 (PP)
# byteoder: 12345678, ivsize=8
t/00_compile.t .............. ok
t/01_pack.t ................. ok
t/02_unpack.t ............... ok
t/03_stream_unpack.t ........ ok
t/04_invert.t ............... ok
t/05_preferred_int.t ........ ok
t/06_stream_unpack2.t ....... ok
t/07_break.t ................ ok
t/08_cycle.t ................ ok
t/09_stddata.t .............. ok
t/10_splitted_bytes.t ....... ok
t/11_stream_unpack3.t ....... ok
t/12_stream_unpack4.t ....... ok
t/13_booleans.t ............. ok
t/14_invalid_data.t ......... ok
t/15_utf8.t ................. ok
t/16_unpacker_for_larges.t .. ok
t/17_canonical.t ............ ok
t/18_new_interface.t ........ ok
t/19_utf8_property.t ........ ok
t/20_de.t ................... ok
t/21_dirty_float.t .......... ok
t/22_pid_pack_unpack.t ...... ok
t/23-empty-key.t ............ ok
t/24_tied.t ................. ok
t/40_threads.t .............. skipped: no threads
t/50_leaktrace.t ............ skipped: disabled in PP
All tests successful.
Files=27, Tests=562,  2 wallclock secs ( 0.02 usr  0.19 sys +  1.14 cusr  0.28 csys =  1.63 CPU)
Result: PASS
xs tests
# Testing Data::MessagePack/1.02 (XS)
# byteoder: 12345678, ivsize=8
t/00_compile.t .............. ok
t/01_pack.t ................. ok
t/02_unpack.t ............... ok
t/03_stream_unpack.t ........ ok
t/04_invert.t ............... ok
t/05_preferred_int.t ........ ok
t/06_stream_unpack2.t ....... ok
t/07_break.t ................ ok
t/08_cycle.t ................ ok
t/09_stddata.t .............. ok
t/10_splitted_bytes.t ....... ok
t/11_stream_unpack3.t ....... ok
t/12_stream_unpack4.t ....... ok
t/13_booleans.t ............. ok
t/14_invalid_data.t ......... ok
t/15_utf8.t ................. ok
t/16_unpacker_for_larges.t .. ok
t/17_canonical.t ............ ok
t/18_new_interface.t ........ ok
t/19_utf8_property.t ........ ok
t/20_de.t ................... ok
t/21_dirty_float.t .......... ok
t/22_pid_pack_unpack.t ...... ok
t/23-empty-key.t ............ ok
t/24_tied.t ................. ok
t/40_threads.t .............. skipped: no threads
t/50_leaktrace.t ............ ok
All tests successful.
Files=27, Tests=568,  2 wallclock secs ( 0.09 usr  0.10 sys +  0.99 cusr  0.26 csys =  1.44 CPU)
Result: PASS

------------------------------
PREREQUISITES
------------------------------

Prerequisite modules loaded:

requires:

    Module                Need     Have    
    --------------------- -------- --------
    Math::BigInt          1.89     1.999827
    perl                  5.008001 5.010001

build_requires:

    Module                Need     Have    
    --------------------- -------- --------
    ExtUtils::CBuilder    0        0.280231
    Test::More            0.98     1.302190
    Test::Requires        0        0.10    

configure_requires:

    Module                Need     Have    
    --------------------- -------- --------
    Devel::PPPort         3.42     3.67    
    Module::Build         0.4005   0.4231  
    Module::Build::XSUtil 0        0.19    


------------------------------
ENVIRONMENT AND OTHER CONTEXT
------------------------------

Environment variables:

    LC_ALL = de_DE.ISO8859-1
    PATH = /usr/local/bin:/usr/bin:/bin:/usr/local/sbin:/usr/sbin:/sbin:/home/cpansand/bin/freebsd9.3:/home/cpansand/bin/sh:/home/cpansand/bin:/usr/games:/home/cpansand/devel:/usr/home/eserte/src/srezic-misc/scripts
    PERL5LIB = 
    PERL5OPT = 
    PERL5_CPANPLUS_IS_RUNNING = 18148
    PERL5_CPAN_IS_RUNNING = 18148
    PERL5_CPAN_IS_RUNNING_IN_RECURSION = 17385,18148
    PERLDOC = -MPod::Perldoc::ToTextOverstrike
    PERL_BATCH = yes
    PERL_CANARY_STABILITY_NOPROMPT = 1
    PERL_CPAN_REPORTER_CONFIG = /var/tmp/cpansmoker-1023/2022031115/cpanreporter_000_config.ini
    PERL_EXTUTILS_AUTOINSTALL = --defaultdeps
    PERL_USE_UNSAFE_INC = 1
    SHELL = /usr/local/bin/zsh
    TERM = screen
    TMPDIR = /var/tmp/cpansmoker-1023/2022031115

Perl special variables (and OS-specific diagnostics, for MSWin32):

    $^X = /usr/perl5.10.1/bin/perl
    $UID/$EUID = 1023 / 1023
    $GID = 1023 1023
    $EGID = 1023 1023

Perl module toolchain versions installed:

    Module              Have    
    ------------------- --------
    CPAN                2.27    
    CPAN::Meta          2.150010
    Cwd                 3.75    
    ExtUtils::CBuilder  0.280231
    ExtUtils::Command   7.64    
    ExtUtils::Install   2.20    
    ExtUtils::MakeMaker 7.64    
    ExtUtils::Manifest  1.73    
    ExtUtils::ParseXS   3.35    
    File::Spec          3.75    
    JSON                4.05    
    JSON::PP            4.07    
    Module::Build       0.4231  
    Module::Signature   0.88    
    Parse::CPAN::Meta   2.150010
    Test::Harness       3.42    
    Test::More          1.302190
    YAML                1.30    
    YAML::Syck          1.33    
    version             0.9929  


--

Summary of my perl5 (revision 5 version 10 subversion 1) configuration:
   
  Platform:
    osname=freebsd, osvers=9.2-release-p4, archname=amd64-freebsd
    uname='freebsd cvrsnica-freebsd-92 9.2-release-p4 freebsd 9.2-release-p4 #0: tue apr 8 18:08:22 utc 2014 root@amd64-builder.daemonology.net:usrobjusrsrcsysgeneric amd64 '
    config_args='-ds -e -Dprefix=/usr/perl5.10.1'
    hint=recommended, useposix=true, d_sigaction=define
    useithreads=undef, usemultiplicity=undef
    useperlio=define, d_sfio=undef, uselargefiles=define, usesocks=undef
    use64bitint=define, use64bitall=define, uselongdouble=undef
    usemymalloc=n, bincompat5005=undef
  Compiler:
    cc='cc', ccflags ='-DHAS_FPSETMASK -DHAS_FLOATINGPOINT_H -fno-strict-aliasing -pipe -fstack-protector -I/usr/local/include',
    optimize='-O',
    cppflags='-DHAS_FPSETMASK -DHAS_FLOATINGPOINT_H -fno-strict-aliasing -pipe -fstack-protector -I/usr/local/include'
    ccversion='', gccversion='4.2.1 20070831 patched [FreeBSD]', gccosandvers=''
    intsize=4, longsize=8, ptrsize=8, doublesize=8, byteorder=12345678
    d_longlong=define, longlongsize=8, d_longdbl=define, longdblsize=16
    ivtype='long', ivsize=8, nvtype='double', nvsize=8, Off_t='off_t', lseeksize=8
    alignbytes=8, prototype=define
  Linker and Libraries:
    ld='cc', ldflags ='-Wl,-E  -fstack-protector -L/usr/local/lib'
    libpth=/usr/lib /usr/local/lib
    libs=-lgdbm -lm -lcrypt -lutil -lc
    perllibs=-lm -lcrypt -lutil -lc
    libc=, so=so, useshrplib=false, libperl=libperl.a
    gnulibc_version=''
  Dynamic Linking:
    dlsrc=dl_dlopen.xs, dlext=so, d_dlsymun=undef, ccdlflags=' '
    cccdlflags='-DPIC -fPIC', lddlflags='-shared  -L/usr/local/lib -fstack-protector'


Characteristics of this binary (from libperl): 
  Compile-time options: PERL_DONT_CREATE_GVSV PERL_MALLOC_WRAP USE_64_BIT_ALL
                        USE_64_BIT_INT USE_LARGE_FILES USE_PERLIO
  Built under freebsd
  Compiled at May 15 2014 23:30:26
  %ENV:
    PERL5LIB=""
    PERL5OPT=""
    PERL5_CPANPLUS_IS_RUNNING="18148"
    PERL5_CPAN_IS_RUNNING="18148"
    PERL5_CPAN_IS_RUNNING_IN_RECURSION="17385,18148"
    PERLDOC="-MPod::Perldoc::ToTextOverstrike"
    PERL_BATCH="yes"
    PERL_CANARY_STABILITY_NOPROMPT="1"
    PERL_CPAN_REPORTER_CONFIG="/var/tmp/cpansmoker-1023/2022031115/cpanreporter_000_config.ini"
    PERL_EXTUTILS_AUTOINSTALL="--defaultdeps"
    PERL_USE_UNSAFE_INC="1"
  @INC:
    /usr/perl5.10.1/lib/5.10.1/amd64-freebsd
    /usr/perl5.10.1/lib/5.10.1
    /usr/perl5.10.1/lib/site_perl/5.10.1/amd64-freebsd
    /usr/perl5.10.1/lib/site_perl/5.10.1
    .