YAML-Safe v0.82 Perl 5 v5.41.11 OpenBSD.amd64-openbsd-thread-multi
- Status
- Pass
- From
- Carlos Guevara
- Dist
-
YAML-Safe v0.82
- Platform
- Perl 5 v5.41.11 OpenBSD.amd64-openbsd-thread-multi
- Date
- 2025-03-26 05:59:59
- ID
- 8ceea84c-0a07-11f0-917d-b66165c0fb1d
This distribution has been tested as part of the CPAN Testers
project, supporting the Perl programming language. See
http://wiki.cpantesters.org/ for more information or email
questions to cpan-testers-discuss@perl.org
--
Dear Reini Urban,
This is a computer-generated report for YAML-Safe-0.82
on perl 5.41.11, created by CPAN-Reporter-1.2020.
Thank you for uploading your work to CPAN. Congratulations!
All tests were successful.
Sections of this report:
* Tester comments
* Program output
* Prerequisites
* Environment and other context
------------------------------
TESTER COMMENTS
------------------------------
Additional comments from tester:
this report is from an automated smoke testing program
and was not reviewed by a human for accuracy
------------------------------
PROGRAM OUTPUT
------------------------------
Output from '/usr/bin/make test':
"/home/cpan/bin/perl/bin/perl5.41.11" -MExtUtils::Command::MM -e 'cp_nonempty' -- Safe.bs blib/arch/auto/YAML/Safe/Safe.bs 644
PERL_DL_NONLAZY=1 "/home/cpan/bin/perl/bin/perl5.41.11" "-MExtUtils::Command::MM" "-MTest::Harness" "-e" "undef *Test::Harness::Switches; test_harness(0, 'blib/lib', 'blib/arch')" t/*.t
t/alias.t ................. ok
t/api.t ................... ok
t/ascii.t ................. ok
t/binary.t ................ ok
t/blessed.t ............... ok
t/boolean-boolean.t ....... ok
t/boolean-cpaneljsonxs.t .. ok
t/boolean-invalid.t ....... ok
# Found Cpanel::JSON::XS 4.39
t/boolean-jsonmaybexs.t ... ok
t/boolean-jsonpp.t ........ ok
t/boolean-jsonxs.t ........ skipped: JSON::XS failed to load
t/boolean.t ............... ok
t/bug-pvf.t ............... ok
t/bug-stack.t ............. ok
t/code.t .................. ok
t/cpan.t .................. ok
t/dump-heuristics.t ....... ok
t/dump-int.t .............. ok
t/dump.t .................. ok
t/empty.t ................. ok
t/error.t ................. ok
t/file.t .................. ok
t/glob.t .................. ok
t/indent.t ................ ok
t/io-handle.t ............. ok
t/leak.t .................. ok
# libyaml version = 0.2.3
t/libyaml-version.t ....... ok
t/load-blessed.t .......... ok
t/load.t .................. ok
t/load_standard_tags.t .... ok
t/loadfile-empty.t ........ ok
t/long_plain_wrap.t ....... skipped: Failing test. Not yet implemented
t/magic.t ................. ok
t/native.t ................ ok
t/nonstrict.t ............. ok
t/null.t .................. ok
t/numbers.t ............... ok
t/options.t ............... ok
t/path-class.t ............ ok
t/pl_sv_undef.t ........... ok
t/private.t ............... ok
t/quote.t ................. ok
t/ref-scalar.t ............ ok
t/regexp.t ................ ok
t/safeclass.t ............. ok
t/string_nulls.t .......... ok
t/tags.t .................. ok
t/tied.t .................. ok
t/utf8.t .................. ok
All tests successful.
Files=49, Tests=459, 6 wallclock secs ( 0.19 usr 0.09 sys + 4.11 cusr 1.07 csys = 5.46 CPU)
Result: PASS
------------------------------
PREREQUISITES
------------------------------
Prerequisite modules loaded:
requires:
Module Need Have
------------------- ----- ----
boolean 0.3 0.46
constant 0.1 1.33
File::Path 0.1 2.18
JSON::PP 2.273 4.16
lib 0.1 0.65
Test::Base 0.8 0.89
build_requires:
Module Need Have
------------------- ----- ----
ExtUtils::MakeMaker 0 7.72
configure_requires:
Module Need Have
------------------- ----- ----
ExtUtils::MakeMaker 0 7.72
------------------------------
ENVIRONMENT AND OTHER CONTEXT
------------------------------
Environment variables:
AUTOMATED_TESTING = 1
DATE_MANIP_TEST_DM5 = 1
LC_ALL = C
NONINTERACTIVE_TESTING = 1
NO_NETWORK_TESTING = 1
PATH = /home/cpan/bin/perl/bin:/home/cpan/bin:/home/cpan/bin:/bin:/sbin:/usr/bin:/usr/sbin:/usr/X11R6/bin:/usr/local/bin:/usr/local/sbin
PERL5LIB =
PERL5OPT =
PERL5_CPANPLUS_IS_RUNNING = 63880
PERL5_CPAN_IS_RUNNING = 63880
PERL_MM_USE_DEFAULT = 1
PERL_USE_UNSAFE_INC = 1
SHELL = /usr/local/bin/bash
TERM = screen
TMPDIR = /home/cpan/tmp
Perl special variables (and OS-specific diagnostics, for MSWin32):
$^X = /home/cpan/bin/perl/bin/perl5.41.11
$UID/$EUID = 1001 / 1001
$GID = 1001 1001
$EGID = 1001 1001
Perl module toolchain versions installed:
Module Have
------------------- --------
CPAN 2.38
CPAN::Meta 2.150010
Cwd 3.92
ExtUtils::CBuilder 0.280240
ExtUtils::Command 7.72
ExtUtils::Install 2.22
ExtUtils::MakeMaker 7.72
ExtUtils::Manifest 1.75
ExtUtils::ParseXS 3.57
File::Spec 3.93
JSON n/a
JSON::PP 4.16
Module::Build 0.4234
Module::Signature n/a
Parse::CPAN::Meta 2.150010
Test2 1.302209
Test::Harness 3.50
Test::More 1.302209
YAML n/a
YAML::Syck n/a
version 0.9933
--
Summary of my perl5 (revision 5 version 41 subversion 11) configuration:
Commit id: e5ef137f9116f74315e333518f08c23751271064
Platform:
osname=openbsd
osvers=7.6
archname=OpenBSD.amd64-openbsd-thread-multi
uname='openbsd cjg-openbsd7 7.6 generic#1 amd64 '
config_args='-des -Dprefix=/home/cpan/bin/perl -Dscriptdir=/home/cpan/bin/perl/bin -Dusedevel -Duse64bitall -Duseithreads'
hint=recommended
useposix=true
d_sigaction=define
useithreads=define
usemultiplicity=define
use64bitint=define
use64bitall=define
uselongdouble=undef
usemymalloc=n
default_inc_excludes_dot=define
Compiler:
cc='cc'
ccflags ='-pthread -DNO_LOCALE_NUMERIC -DNO_LOCALE_COLLATE -DNO_LOCALE_MONETARY -DNO_LOCALE_TIME -DNO_LOCALE_MESSAGES -DLIBC_HANDLES_MISMATCHED_CTYPE -fno-strict-aliasing -pipe -fstack-protector-strong -I/usr/local/include'
optimize='-O2'
cppflags='-pthread -DNO_LOCALE_NUMERIC -DNO_LOCALE_COLLATE -DNO_LOCALE_MONETARY -DNO_LOCALE_TIME -DNO_LOCALE_MESSAGES -DLIBC_HANDLES_MISMATCHED_CTYPE -fno-strict-aliasing -pipe -fstack-protector-strong -I/usr/local/include'
ccversion=''
gccversion='OpenBSD Clang 16.0.6'
gccosandvers=''
intsize=4
longsize=8
ptrsize=8
doublesize=8
byteorder=12345678
doublekind=3
d_longlong=define
longlongsize=8
d_longdbl=define
longdblsize=16
longdblkind=3
ivtype='long'
ivsize=8
nvtype='double'
nvsize=8
Off_t='off_t'
lseeksize=8
alignbytes=8
prototype=define
Linker and Libraries:
ld='cc'
ldflags ='-pthread -Wl,-E -fstack-protector-strong -L/usr/local/lib'
libpth=/usr/lib/clang/16/lib /usr/lib /usr/local/lib
libs=-lpthread -lm -lutil -lc
perllibs=-lpthread -lm -lutil -lc
libc=/usr/lib/libc.so.100.3
so=so
useshrplib=false
libperl=libperl.a
gnulibc_version=''
Dynamic Linking:
dlsrc=dl_dlopen.xs
dlext=so
d_dlsymun=undef
ccdlflags=' '
cccdlflags='-DPIC -fPIC '
lddlflags='-shared -fPIC -L/usr/local/lib -fstack-protector-strong'
Characteristics of this binary (from libperl):
Compile-time options:
HAS_LONG_DOUBLE
HAS_STRTOLD
HAS_TIMES
MULTIPLICITY
PERLIO_LAYERS
PERL_COPY_ON_WRITE
PERL_DONT_CREATE_GVSV
PERL_HASH_FUNC_SIPHASH13
PERL_HASH_USE_SBOX32
PERL_MALLOC_WRAP
PERL_OP_PARENT
PERL_PRESERVE_IVUV
PERL_USE_DEVEL
PERL_USE_SAFE_PUTENV
USE_64_BIT_ALL
USE_64_BIT_INT
USE_ITHREADS
USE_LARGE_FILES
USE_LOCALE
USE_LOCALE_CTYPE
USE_PERLIO
USE_PERL_ATOF
USE_REENTRANT_API
USE_THREAD_SAFE_LOCALE
Built under openbsd
Compiled at Mar 26 2025 00:58:13
%ENV:
PERL5LIB=""
PERL5OPT=""
PERL5_CPANPLUS_IS_RUNNING="63880"
PERL5_CPAN_IS_RUNNING="63880"
PERL_MM_USE_DEFAULT="1"
PERL_USE_UNSAFE_INC="1"
@INC:
/home/cpan/bin/perl/lib/site_perl/5.41.11/OpenBSD.amd64-openbsd-thread-multi
/home/cpan/bin/perl/lib/site_perl/5.41.11
/home/cpan/bin/perl/lib/5.41.11/OpenBSD.amd64-openbsd-thread-multi
/home/cpan/bin/perl/lib/5.41.11
.