Log-Localized v0.05 Perl 5 v5.37.1 x86_64-linux-ld

Status
Pass
From
Andreas J. König (ANDK)
Dist
Log-Localized v0.05
Platform
Perl 5 v5.37.1 x86_64-linux-ld
Date
2022-07-16 01:42:28
ID
8cfca7e2-04a8-11ed-a0b8-ffc77a3021a8
This distribution has been tested as part of the CPAN Testers
project, supporting the Perl programming language.  See
http://wiki.cpantesters.org/ for more information or email
questions to cpan-testers-discuss@perl.org


--
Dear Erwan Lemonnier,

This is a computer-generated report for Log-Localized-0.05
on perl 5.37.1, created by CPAN-Reporter-1.2018.

Thank you for uploading your work to CPAN.  Congratulations!
All tests were successful.

Sections of this report:

    * Tester comments
    * Program output
    * Prerequisites
    * Environment and other context

------------------------------
TESTER COMMENTS
------------------------------

Additional comments from tester:

this report is from an automated smoke testing program
and was not reviewed by a human for accuracy

------------------------------
PROGRAM OUTPUT
------------------------------

Output from '/usr/bin/make test':

PERL_DL_NONLAZY=1 "/tmp/basesmoker-reloperl-XZMy/bin/perl" "-MExtUtils::Command::MM" "-MTest::Harness" "-e" "undef *Test::Harness::Switches; test_harness(0, 'blib/lib', 'blib/arch')" t/*.t
t/01_test_logging_off.t .............. ok
# [Log::Localized::llog() l.434] [LEVEL 1]: found no verbosity rules file in search path [.,/home/sand,/]
# [Log::Localized::llog() l.434] [LEVEL 2]: running program is [02_test_global_switch_on.t]
# [Log::Localized::_init_dispatchers() l.284] [LEVEL 1]: using default dispatcher to stdout
# [main::main() l.44] [LEVEL 0]: called mark_log_called
# [main::main() l.46] [LEVEL 1]: called mark_log_called
# [main::main() l.48] [LEVEL 2]: called mark_log_called
# [main::test1() l.33] [LEVEL 0]: called mark_log_called
# [main::test1() l.33] [LEVEL 1]: called mark_log_called
# [main::test1() l.33] [LEVEL 2]: called mark_log_called
# [main::test2() l.38] [LEVEL 0]: called mark_log_called
# [main::test2() l.38] [LEVEL 1]: called mark_log_called
# [main::test2() l.38] [LEVEL 2]: called mark_log_called
# [Foo::test1() l.20] [LEVEL 0]: called mark_log_called
# [Foo::test1() l.20] [LEVEL 1]: called mark_log_called
# [Foo::test1() l.20] [LEVEL 2]: called mark_log_called
# [Foo::test2() l.25] [LEVEL 0]: called mark_log_called
# [Foo::test2() l.25] [LEVEL 1]: called mark_log_called
# [Foo::test2() l.25] [LEVEL 2]: called mark_log_called
# [Foo::Bar::test1() l.20] [LEVEL 0]: called mark_log_called
# [Foo::Bar::test1() l.20] [LEVEL 1]: called mark_log_called
# [Foo::Bar::test1() l.20] [LEVEL 2]: called mark_log_called
# [Foo::Bar::test2() l.25] [LEVEL 0]: called mark_log_called
# [Foo::Bar::test2() l.25] [LEVEL 1]: called mark_log_called
# [Foo::Bar::test2() l.25] [LEVEL 2]: called mark_log_called
t/02_test_global_switch_on.t ......... ok
# [main::main() l.57] [LEVEL 0]: called mark_log_called
# [main::main() l.59] [LEVEL 1]: called mark_log_called
# [main::main() l.61] [LEVEL 2]: called mark_log_called
# [main::test1() l.46] [LEVEL 0]: called mark_log_called
# [main::test1() l.46] [LEVEL 1]: called mark_log_called
# [main::test1() l.46] [LEVEL 2]: called mark_log_called
# [main::test2() l.51] [LEVEL 0]: called mark_log_called
# [main::test2() l.51] [LEVEL 1]: called mark_log_called
# [main::test2() l.51] [LEVEL 2]: called mark_log_called
# [main::test2() l.51] [LEVEL 3]: called mark_log_called
# [main::test2() l.51] [LEVEL 4]: called mark_log_called
# [Foo::test1() l.20] [LEVEL 0]: called mark_log_called
# [Foo::test1() l.20] [LEVEL 1]: called mark_log_called
# [Foo::test1() l.20] [LEVEL 2]: called mark_log_called
# [Foo::test1() l.20] [LEVEL 3]: called mark_log_called
# [Foo::test2() l.25] [LEVEL 0]: called mark_log_called
# [Foo::Bar::test1() l.20] [LEVEL 0]: called mark_log_called
# [Foo::Bar::test1() l.20] [LEVEL 1]: called mark_log_called
# [Foo::Bar::test2() l.25] [LEVEL 0]: called mark_log_called
# [Foo::Bar::test2() l.25] [LEVEL 1]: called mark_log_called
t/03_test_verbosity_rules.t .......... ok
# [main::main() l.55] [LEVEL 0]: called mark_log_called
# [main::test1() l.44] [LEVEL 0]: called mark_log_called
# [main::test2() l.49] [LEVEL 0]: called mark_log_called
# [main::test2() l.49] [LEVEL 1]: called mark_log_called
# [main::test2() l.49] [LEVEL 2]: called mark_log_called
# [main::test2() l.49] [LEVEL 3]: called mark_log_called
# [main::test2() l.49] [LEVEL 4]: called mark_log_called
# [Foo::test1() l.20] [LEVEL 0]: called mark_log_called
# [Foo::test1() l.20] [LEVEL 1]: called mark_log_called
# [Foo::test1() l.20] [LEVEL 2]: called mark_log_called
# [Foo::test1() l.20] [LEVEL 3]: called mark_log_called
# [Foo::test2() l.25] [LEVEL 0]: called mark_log_called
# [Foo::test2() l.25] [LEVEL 1]: called mark_log_called
# [Foo::test2() l.25] [LEVEL 2]: called mark_log_called
# [Foo::test2() l.25] [LEVEL 3]: called mark_log_called
# [Foo::Bar::test1() l.20] [LEVEL 0]: called mark_log_called
# [Foo::Bar::test1() l.20] [LEVEL 1]: called mark_log_called
# [Foo::Bar::test2() l.25] [LEVEL 0]: called mark_log_called
# [Foo::Bar::test2() l.25] [LEVEL 1]: called mark_log_called
# [Foo::Bar::test2() l.25] [LEVEL 2]: called mark_log_called
# [Foo::Bar::test2() l.25] [LEVEL 3]: called mark_log_called
t/04_test_verbosity_rules_bis.t ...... ok
t/05_test_parsing_rules.t ............ ok
# [main::main() l.34] [LEVEL 0]: called mark_log_called
# [main::main() l.43] [LEVEL 0]: called mark_log_called
# [main::main() l.45] [LEVEL 1]: called mark_log_called
# [main::main() l.47] [LEVEL 2]: called mark_log_called
# [main::main() l.49] [LEVEL 3]: called mark_log_called
# [main::main() l.58] [LEVEL 0]: called mark_log_called
t/06_test_log_localized_verbosity.t .. ok
t/07_test_get_search_path.t .......... ok
t/08_test_program_name.t ............. ok
t/10_test_option_dispatchers.t ....... ok
t/11_test_option_format.t ............ ok
t/12_test_option_rules.t ............. ok
t/13_test_option_path.t .............. ok
# [main::main() l.28] [LEVEL 1]: called mark_log_called
t/14_test_option_rename.t ............ ok
# [main::main() l.35] [LEVEL 0]: called mark_log_called
# [main::main() l.37] [LEVEL 1]: called mark_log_called
# [main::main() l.39] [LEVEL 2]: called mark_log_called
# [main::main() l.41] [LEVEL 3]: called mark_log_called
# [Foo::Bar::test1() l.20] [LEVEL 0]: called mark_log_called
# [Foo::Bar::test1() l.20] [LEVEL 1]: called mark_log_called
# [Foo::Bar::test1() l.20] [LEVEL 2]: called mark_log_called
# [Foo::Bar::test1() l.20] [LEVEL 3]: called mark_log_called
t/15_test_option_global_verbosity.t .. ok
# [main::main() l.22] [LEVEL 0]: called mark_log_called
t/20_test_param_log.t ................ ok
t/21_test_param_rules.t .............. ok
# [main::main() l.29] [LEVEL 0]: called mark_log_called
t/22_test_param_rename.t ............. ok
# [Log::Localized::llog() l.434] [LEVEL 1]: found no verbosity rules file in search path [.,/home/sand,/]
# [Log::Localized::llog() l.434] [LEVEL 2]: running program is [30_test_class_variable_level.t]
# [Log::Localized::_init_dispatchers() l.284] [LEVEL 1]: using default dispatcher to stdout
# [main::main() l.28] [LEVEL 0]: ok
# [main::main() l.29] [LEVEL 1]: ok
# [main::main() l.30] [LEVEL 2]: ok
t/30_test_class_variable_level.t ..... ok
t/40_test_errors.t ................... ok
# [Log::Localized::llog() l.434] [LEVEL 1]: found no verbosity rules file in search path [.,/home/sand,/]
# [Log::Localized::_init_dispatchers() l.284] [LEVEL 1]: using default dispatcher to stdout
# [main::warnings_like() l.32] [LEVEL 0]: test
t/41_test_warnings.t ................. ok
t/pod-coverage.t ..................... ok
Can't stat ../lib: No such file or directory
 at /home/sand/src/perl/repoperls/installed-perls/host/k93focal/v5.37.1/d3e4/lib/site_perl/5.37.1/Test/Pod.pm line 223.
t/pod.t .............................. ok
All tests successful.
Files=22, Tests=231,  5 wallclock secs ( 0.09 usr  0.37 sys +  4.23 cusr  0.71 csys =  5.40 CPU)
Result: PASS

------------------------------
PREREQUISITES
------------------------------

Prerequisite modules loaded:

requires:

    Module                Need Have 
    --------------------- ---- -----
    Config::Tiny          2.01 2.28 
    File::HomeDir         0.06 1.006
    File::Spec            0.86 3.85 
    Log::Dispatch         2.1  2.70 
    Log::Dispatch::Config 1.01 1.04 
    Log::Dispatch::Screen 1.01 2.70 

build_requires:

    Module                Need Have 
    --------------------- ---- -----
    ExtUtils::MakeMaker   0    7.64 


------------------------------
ENVIRONMENT AND OTHER CONTEXT
------------------------------

Environment variables:

    AUTOMATED_TESTING = 1
    LANG = en_US.UTF-8
    PATH = /home/sand/bin:/usr/local/bin:/usr/local/sbin:/usr/sbin:/usr/bin:/sbin:/bin:/usr/games:/usr/local/games:/snap/bin:/usr/local/perl/bin:/usr/X11/bin
    PERL = /tmp/basesmoker-reloperl-XZMy/bin/perl
    PERL5LIB = /tmp/loop_over_bdir-89073-qnDpvJ/Simulation-Automate-1.0.1-0/blib/arch:/tmp/loop_over_bdir-89073-qnDpvJ/Simulation-Automate-1.0.1-0/blib/lib:/tmp/loop_over_bdir-89073-qnDpvJ/Net-ISP-Balance-1.31-0/blib/arch:/tmp/loop_over_bdir-89073-qnDpvJ/Net-ISP-Balance-1.31-0/blib/lib
    PERL5OPT = 
    PERL5_CPANPLUS_IS_RUNNING = 89081
    PERL5_CPAN_IS_RUNNING = 89081
    PERL_CANARY_STABILITY_NOPROMPT = 1
    PERL_MM_USE_DEFAULT = 1
    PERL_USE_UNSAFE_INC = 1
    SHELL = /usr/bin/zsh
    TERM = screen

Perl special variables (and OS-specific diagnostics, for MSWin32):

    $^X = /tmp/basesmoker-reloperl-XZMy/bin/perl
    $UID/$EUID = 1005 / 1005
    $GID = 1005 1005
    $EGID = 1005 1005

Perl module toolchain versions installed:

    Module              Have    
    ------------------- --------
    CPAN                2.34    
    CPAN::Meta          2.150010
    Cwd                 3.85    
    ExtUtils::CBuilder  0.280237
    ExtUtils::Command   7.64    
    ExtUtils::Install   2.20    
    ExtUtils::MakeMaker 7.64    
    ExtUtils::Manifest  1.73    
    ExtUtils::ParseXS   3.45    
    File::Spec          3.85    
    JSON                4.07    
    JSON::PP            4.10    
    Module::Build       0.4231  
    Module::Signature   0.88    
    Parse::CPAN::Meta   2.150010
    Test::Harness       3.44    
    Test::More          1.302191
    YAML                1.30    
    YAML::Syck          1.34    
    version             0.9929  


--

Summary of my perl5 (revision 5 version 37 subversion 1) configuration:
  Commit id: a33f7527640f5a662130b55a9fc8c2302b3b38f6
  Platform:
    osname=linux
    osvers=5.4.0-122-generic
    archname=x86_64-linux-ld
    uname='linux k93focal 5.4.0-122-generic #138-ubuntu smp wed jun 22 15:00:31 utc 2022 x86_64 x86_64 x86_64 gnulinux '
    config_args='-Dprefix=/home/sand/src/perl/repoperls/installed-perls/host/k93focal/v5.37.1/d3e4 -Dmyhostname=k93focal -Dinstallusrbinperl=n -Uversiononly -Dusedevel -des -Ui_db -Dlibswanted=cl pthread socket inet nsl gdbm dbm malloc dl ld sun m crypt sec util c cposix posix ucb BSD gdbm_compat -Uuseithreads -Duselongdouble -DEBUGGING=both'
    hint=recommended
    useposix=true
    d_sigaction=define
    useithreads=undef
    usemultiplicity=undef
    use64bitint=define
    use64bitall=define
    uselongdouble=define
    usemymalloc=n
    default_inc_excludes_dot=define
  Compiler:
    cc='cc'
    ccflags ='-fwrapv -DDEBUGGING -fno-strict-aliasing -pipe -fstack-protector-strong -I/usr/local/include -D_LARGEFILE_SOURCE -D_FILE_OFFSET_BITS=64'
    optimize='-O2 -g'
    cppflags='-fwrapv -DDEBUGGING -fno-strict-aliasing -pipe -fstack-protector-strong -I/usr/local/include'
    ccversion=''
    gccversion='9.4.0'
    gccosandvers=''
    intsize=4
    longsize=8
    ptrsize=8
    doublesize=8
    byteorder=12345678
    doublekind=3
    d_longlong=define
    longlongsize=8
    d_longdbl=define
    longdblsize=16
    longdblkind=3
    ivtype='long'
    ivsize=8
    nvtype='long double'
    nvsize=16
    Off_t='off_t'
    lseeksize=8
    alignbytes=16
    prototype=define
  Linker and Libraries:
    ld='cc'
    ldflags =' -fstack-protector-strong -L/usr/local/lib'
    libpth=/usr/local/lib /usr/lib/x86_64-linux-gnu /usr/lib /usr/lib64
    libs=-lpthread -lnsl -ldl -lm -lcrypt -lutil -lc
    perllibs=-lpthread -lnsl -ldl -lm -lcrypt -lutil -lc
    libc=libc-2.31.so
    so=so
    useshrplib=false
    libperl=libperl.a
    gnulibc_version='2.31'
  Dynamic Linking:
    dlsrc=dl_dlopen.xs
    dlext=so
    d_dlsymun=undef
    ccdlflags='-Wl,-E'
    cccdlflags='-fPIC'
    lddlflags='-shared -O2 -g -L/usr/local/lib -fstack-protector-strong'


Characteristics of this binary (from libperl): 
  Compile-time options:
    DEBUGGING
    HAS_TIMES
    PERLIO_LAYERS
    PERL_COPY_ON_WRITE
    PERL_DONT_CREATE_GVSV
    PERL_MALLOC_WRAP
    PERL_OP_PARENT
    PERL_PRESERVE_IVUV
    PERL_USE_DEVEL
    PERL_USE_SAFE_PUTENV
    USE_64_BIT_ALL
    USE_64_BIT_INT
    USE_LARGE_FILES
    USE_LOCALE
    USE_LOCALE_COLLATE
    USE_LOCALE_CTYPE
    USE_LOCALE_NUMERIC
    USE_LOCALE_TIME
    USE_LONG_DOUBLE
    USE_PERLIO
    USE_PERL_ATOF
  Built under linux
  Compiled at Jul 15 2022 16:36:29
  %ENV:
    PERL="/tmp/basesmoker-reloperl-XZMy/bin/perl"
    PERL5LIB="/tmp/loop_over_bdir-89073-qnDpvJ/Simulation-Automate-1.0.1-0/blib/arch:/tmp/loop_over_bdir-89073-qnDpvJ/Simulation-Automate-1.0.1-0/blib/lib:/tmp/loop_over_bdir-89073-qnDpvJ/Net-ISP-Balance-1.31-0/blib/arch:/tmp/loop_over_bdir-89073-qnDpvJ/Net-ISP-Balance-1.31-0/blib/lib"
    PERL5OPT=""
    PERL5_CPANPLUS_IS_RUNNING="89081"
    PERL5_CPAN_IS_RUNNING="89081"
    PERL_CANARY_STABILITY_NOPROMPT="1"
    PERL_MM_USE_DEFAULT="1"
    PERL_USE_UNSAFE_INC="1"
  @INC:
    /tmp/loop_over_bdir-89073-qnDpvJ/Simulation-Automate-1.0.1-0/blib/arch
    /tmp/loop_over_bdir-89073-qnDpvJ/Simulation-Automate-1.0.1-0/blib/lib
    /tmp/loop_over_bdir-89073-qnDpvJ/Net-ISP-Balance-1.31-0/blib/arch
    /tmp/loop_over_bdir-89073-qnDpvJ/Net-ISP-Balance-1.31-0/blib/lib
    /home/sand/src/perl/repoperls/installed-perls/host/k93focal/v5.37.1/d3e4/lib/site_perl/5.37.1/x86_64-linux-ld
    /home/sand/src/perl/repoperls/installed-perls/host/k93focal/v5.37.1/d3e4/lib/site_perl/5.37.1
    /home/sand/src/perl/repoperls/installed-perls/host/k93focal/v5.37.1/d3e4/lib/5.37.1/x86_64-linux-ld
    /home/sand/src/perl/repoperls/installed-perls/host/k93focal/v5.37.1/d3e4/lib/5.37.1
    .