next-XS v1.0.8 Perl 5 v5.41.8 x86_64-linux

Status
Pass
From
Slaven Rezić
Dist
next-XS v1.0.8
Platform
Perl 5 v5.41.8 x86_64-linux
Date
2025-03-17 16:26:16
ID
8cfd01ba-034c-11f0-b67f-942f6e8775ea
This distribution has been tested as part of the CPAN Testers
project, supporting the Perl programming language.  See
http://wiki.cpantesters.org/ for more information or email
questions to cpan-testers-discuss@perl.org


--
Dear Oleg Pronin,

This is a computer-generated report for next-XS-1.0.8
on perl 5.41.8, created by CPAN-Reporter-1.2020.

Thank you for uploading your work to CPAN.  Congratulations!
All tests were successful.

Sections of this report:

    * Tester comments
    * Program output
    * Prerequisites
    * Environment and other context

------------------------------
TESTER COMMENTS
------------------------------

Additional comments from tester:

none provided

------------------------------
PROGRAM OUTPUT
------------------------------

Output from '/usr/bin/make test':

"/opt/perl-5.41.8/bin/perl5.41.8" -MExtUtils::Command::MM -e 'cp_nonempty' -- XS.bs blib/arch/auto/next/XS/XS.bs 644
PERL_DL_NONLAZY=1 "/opt/perl-5.41.8/bin/perl5.41.8" "-MExtUtils::Command::MM" "-MTest::Harness" "-e" "undef *Test::Harness::Switches; test_harness(0, 'blib/lib', 'blib/arch')" t/*.t t/perl/*.t
t/00-use.t ................. ok
t/01-next-replace.t ........ ok
t/02-super.t ............... ok
t/perl/complex_c3.t ........ ok
t/perl/complex_c3_utf8.t ... ok
t/perl/next_edgecases.t .... ok
t/perl/next_goto.t ......... ok
t/perl/next_goto_utf8.t .... ok
t/perl/next_inanon.t ....... ok
t/perl/next_inanon_utf8.t .. ok
t/perl/next_ineval.t ....... ok
t/perl/next_ineval_utf8.t .. ok
t/perl/next_method.t ....... ok
t/perl/next_method_utf8.t .. ok
t/perl/next_NEXT.t ......... ok
t/perl/next_NEXT_utf8.t .... ok
t/perl/next_skip.t ......... ok
t/perl/next_skip_utf8.t .... ok
All tests successful.
Files=18, Tests=94,  0 wallclock secs ( 0.07 usr  0.03 sys +  0.45 cusr  0.12 csys =  0.67 CPU)
Result: PASS

------------------------------
PREREQUISITES
------------------------------

Prerequisite modules loaded:

requires:

    Module       Need     Have    
    ------------ -------- --------
    perl         5.018000 5.041008
    XS::Install  v1.4.0   1.4.0   

build_requires:

    Module       Need     Have    
    ------------ -------- --------
    Test::Deep   0        1.204   
    Test::More   0        1.302207
    Test::Simple 0.96     1.302207

configure_requires:

    Module       Need     Have    
    ------------ -------- --------
    XS::Install  v1.4.0   1.4.0   


------------------------------
ENVIRONMENT AND OTHER CONTEXT
------------------------------

Environment variables:

    LANG = en_US.UTF-8
    PATH = /usr/local/bin:/usr/bin:/bin:/usr/local/sbin:/usr/sbin:/sbin:/home/cpansand/bin/linux-gnu:/home/cpansand/bin/sh:/home/cpansand/bin:/usr/games:/home/cpansand/devel:/home/eserte/src/srezic-misc/scripts
    PERL5LIB = 
    PERL5OPT = 
    PERL5_CPANPLUS_IS_RUNNING = 779238
    PERL5_CPAN_IS_RUNNING = 779238
    PERL5_CPAN_IS_RUNNING_IN_RECURSION = 777295,779238
    PERLDOC = -MPod::Perldoc::ToTextOverstrike
    PERL_BATCH = yes
    PERL_CANARY_STABILITY_NOPROMPT = 1
    PERL_CPAN_REPORTER_CONFIG = /var/tmp/cpansmoker-1023/2025031716/cpanreporter_000_config.ini
    PERL_EXTUTILS_AUTOINSTALL = --defaultdeps
    PERL_USE_UNSAFE_INC = 1
    SHELL = /usr/bin/zsh
    TERM = screen
    TMPDIR = /var/tmp/cpansmoker-1023/2025031716

Perl special variables (and OS-specific diagnostics, for MSWin32):

    $^X = /opt/perl-5.41.8/bin/perl5.41.8
    $UID/$EUID = 1023 / 1023
    $GID = 1023 1023
    $EGID = 1023 1023

Perl module toolchain versions installed:

    Module              Have    
    ------------------- --------
    CPAN                2.38    
    CPAN::Meta          2.150010
    Cwd                 3.92    
    ExtUtils::CBuilder  0.280240
    ExtUtils::Command   7.72    
    ExtUtils::Install   2.22    
    ExtUtils::MakeMaker 7.72    
    ExtUtils::Manifest  1.75    
    ExtUtils::ParseXS   3.57    
    File::Spec          3.93    
    JSON                4.10    
    JSON::PP            4.16    
    Module::Build       0.4234  
    Module::Signature   n/a     
    Parse::CPAN::Meta   2.150010
    Test2               1.302207
    Test::Harness       3.50    
    Test::More          1.302207
    YAML                1.31    
    YAML::Syck          1.34    
    version             0.9933  


--

Summary of my perl5 (revision 5 version 41 subversion 8) configuration:
   
  Platform:
    osname=linux
    osvers=6.12.11-200.fc41.x86_64
    archname=x86_64-linux
    uname='linux cloud4.bbbike.org 6.12.11-200.fc41.x86_64 #1 smp preempt_dynamic fri jan 24 04:59:58 utc 2025 x86_64 gnulinux '
    config_args='-ds -e -Dprefix=/opt/perl-5.41.8 -Uinstallusrbinperl -Dusedevel -Dusemallocwrap=no -Dcf_email=srezic@cpan.org'
    hint=recommended
    useposix=true
    d_sigaction=define
    useithreads=undef
    usemultiplicity=undef
    use64bitint=define
    use64bitall=define
    uselongdouble=undef
    usemymalloc=n
    default_inc_excludes_dot=define
  Compiler:
    cc='cc'
    ccflags ='-fwrapv -fno-strict-aliasing -pipe -fstack-protector-strong -I/usr/local/include -D_LARGEFILE_SOURCE -D_FILE_OFFSET_BITS=64 -D_FORTIFY_SOURCE=2'
    optimize='-O2'
    cppflags='-fwrapv -fno-strict-aliasing -pipe -fstack-protector-strong -I/usr/local/include'
    ccversion=''
    gccversion='14.2.1 20250110 (Red Hat 14.2.1-7)'
    gccosandvers=''
    intsize=4
    longsize=8
    ptrsize=8
    doublesize=8
    byteorder=12345678
    doublekind=3
    d_longlong=define
    longlongsize=8
    d_longdbl=define
    longdblsize=16
    longdblkind=3
    ivtype='long'
    ivsize=8
    nvtype='double'
    nvsize=8
    Off_t='off_t'
    lseeksize=8
    alignbytes=8
    prototype=define
  Linker and Libraries:
    ld='cc'
    ldflags =' -fstack-protector-strong -L/usr/local/lib'
    libpth=/usr/local/lib /usr/lib /usr/lib64 /usr/local/lib64
    libs=-lpthread -ldb -ldl -lm -lcrypt -lutil -lc
    perllibs=-lpthread -ldl -lm -lcrypt -lutil -lc
    libc=/lib/../lib64/libc.so.6
    so=so
    useshrplib=false
    libperl=libperl.a
    gnulibc_version='2.40'
  Dynamic Linking:
    dlsrc=dl_dlopen.xs
    dlext=so
    d_dlsymun=undef
    ccdlflags='-Wl,-E'
    cccdlflags='-fPIC'
    lddlflags='-shared -O2 -L/usr/local/lib -fstack-protector-strong'


Characteristics of this binary (from libperl): 
  Compile-time options:
    HAS_LONG_DOUBLE
    HAS_STRTOLD
    HAS_TIMES
    PERLIO_LAYERS
    PERL_COPY_ON_WRITE
    PERL_DONT_CREATE_GVSV
    PERL_HASH_FUNC_SIPHASH13
    PERL_HASH_USE_SBOX32
    PERL_OP_PARENT
    PERL_PRESERVE_IVUV
    PERL_USE_DEVEL
    PERL_USE_SAFE_PUTENV
    USE_64_BIT_ALL
    USE_64_BIT_INT
    USE_LARGE_FILES
    USE_LOCALE
    USE_LOCALE_COLLATE
    USE_LOCALE_CTYPE
    USE_LOCALE_NUMERIC
    USE_LOCALE_TIME
    USE_PERLIO
    USE_PERL_ATOF
  Built under linux
  Compiled at Feb  6 2025 19:20:59
  %ENV:
    PERL5LIB=""
    PERL5OPT=""
    PERL5_CPANPLUS_IS_RUNNING="779238"
    PERL5_CPAN_IS_RUNNING="779238"
    PERL5_CPAN_IS_RUNNING_IN_RECURSION="777295,779238"
    PERLDOC="-MPod::Perldoc::ToTextOverstrike"
    PERL_BATCH="yes"
    PERL_CANARY_STABILITY_NOPROMPT="1"
    PERL_CPAN_REPORTER_CONFIG="/var/tmp/cpansmoker-1023/2025031716/cpanreporter_000_config.ini"
    PERL_EXTUTILS_AUTOINSTALL="--defaultdeps"
    PERL_USE_UNSAFE_INC="1"
  @INC:
    /opt/perl-5.41.8/lib/site_perl/5.41.8/x86_64-linux
    /opt/perl-5.41.8/lib/site_perl/5.41.8
    /opt/perl-5.41.8/lib/5.41.8/x86_64-linux
    /opt/perl-5.41.8/lib/5.41.8
    .