JSON-Any v1.40 Perl 5 v5.12.0 amd64-freebsd
- Status
- Pass
- From
- Bartosz Jarzyna
- Dist
-
JSON-Any v1.40
- Platform
- Perl 5 v5.12.0 amd64-freebsd
- Date
- 2023-09-10 09:08:04
- ID
- 8d064de4-4fb9-11ee-86eb-8ccd8e02a2ef
This distribution has been tested as part of the CPAN Testers
project, supporting the Perl programming language. See
http://wiki.cpantesters.org/ for more information or email
questions to cpan-testers-discuss@perl.org
--
Dear Karen Etheridge,
This is a computer-generated report for JSON-Any-1.40
on perl 5.12.0, created by CPAN-Reporter-1.2018.
Thank you for uploading your work to CPAN. Congratulations!
All tests were successful.
Sections of this report:
* Tester comments
* Program output
* Prerequisites
* Environment and other context
------------------------------
TESTER COMMENTS
------------------------------
Additional comments from tester:
this report is from an automated smoke testing program
and was not reviewed by a human for accuracy
------------------------------
PROGRAM OUTPUT
------------------------------
Output from 'make test':
PERL_DL_NONLAZY=1 "/home/smoker12/perl5/perlbrew/perls/perl-5.12.0/bin/perl" "-MExtUtils::Command::MM" "-MTest::Harness" "-e" "undef *Test::Harness::Switches; test_harness(0, 'blib/lib', 'blib/arch')" t/*.t
# Testing JSON::Any 1.40, Perl 5.012000, /home/smoker12/perl5/perlbrew/perls/perl-5.12.0/bin/perl
t/00-load.t ............ ok
#
# Versions for all modules listed in MYMETA.json (including optional ones):
#
# === Configure Requires ===
#
# Module Want Have
# ------------------------ -------- --------
# CPAN::Meta::Requirements 2.120620 2.131
# ExtUtils::MakeMaker any 7.64
# Module::Metadata any 1.000037
# perl 5.008 5.012000
#
# === Build Requires ===
#
# Module Want Have
# ------------------- ---- ----
# ExtUtils::MakeMaker any 7.64
#
# === Test Requires ===
#
# Module Want Have
# --------------------- ----- --------
# Data::Dumper any 2.125
# ExtUtils::MakeMaker any 7.64
# File::Spec any 3.31
# Storable any 2.22
# Test::Fatal any 0.016
# Test::More 0.88 1.302191
# Test::Needs any 0.002009
# Test::Warnings 0.009 0.031
# Test::Without::Module any 0.21
# open any 1.07
# perl 5.008 5.012000
# utf8 any 1.08
#
# === Test Recommends ===
#
# Module Want Have
# ---------- -------- --------
# CPAN::Meta 2.120900 2.143240
#
# === Runtime Requires ===
#
# Module Want Have
# -------- ----- --------
# Carp any 1.15
# constant any 1.20
# perl 5.008 5.012000
# strict any 1.04
# warnings any 1.09
#
# === Other Modules ===
#
# Module Have
# ---------------- --------
# Cpanel::JSON::XS 4.32
# Encode 2.39
# File::Temp 0.22
# JSON missing
# JSON::DWIW missing
# JSON::MaybeXS 1.004004
# JSON::PP 4.12
# JSON::Syck 1.34
# JSON::XS missing
# Module::Runtime missing
# Pod::Coverage missing
# Sub::Name missing
# YAML missing
# autodie 2.06_01
# constant 1.20
#
t/00-report-prereqs.t .. ok
t/01-JSON.t ............ skipped: JSON.pm not installed: Couldn't find a JSON package. Need JSON at (eval 7) line 2
t/02-JSON-XS.t ......... skipped: JSON::XS not installed: Couldn't find a JSON package. Need JSON::XS at (eval 7) line 2
t/03-JSON-DWIW.t ....... skipped: JSON::DWIW not installed: Couldn't find a JSON package. Need JSON::DWIW at (eval 7) line 2
t/04-ENV.t ............. ok
Found deprecated package JSON::Syck. Please upgrade to Cpanel::JSON::XS, JSON::XS, JSON::PP, JSON or JSON::DWIW at (eval 7) line 2
t/05-JSON-Syck.t ....... ok
# Testing JSON::PP backend
t/06-JSON-PP.t ......... ok
# Testing Cpanel::JSON::XS backend
t/07-CPanel-JSON-XS.t .. ok
t/10_unicode.t ......... ok
t/11-string-escape.t ... ok
t/12-boolean.t ......... ok
t/13-no-backends.t ..... ok
t/14-deprecated.t ...... ok
All tests successful.
Files=14, Tests=144, 1 wallclock secs ( 0.05 usr 0.02 sys + 1.07 cusr 0.19 csys = 1.33 CPU)
Result: PASS
------------------------------
PREREQUISITES
------------------------------
Prerequisite modules loaded:
requires:
Module Need Have
------------------------ -------- --------
Carp 0 1.15
constant 0 1.20
perl 5.008 5.012000
strict 0 1.04
warnings 0 1.09
build_requires:
Module Need Have
------------------------ -------- --------
Data::Dumper 0 2.125
ExtUtils::MakeMaker 0 7.64
File::Spec 0 3.31
open 0 1.07
Storable 0 2.22
Test::Fatal 0 0.016
Test::More 0.88 1.302191
Test::Needs 0 0.002009
Test::Warnings 0.009 0.031
Test::Without::Module 0 0.21
utf8 0 1.08
configure_requires:
Module Need Have
------------------------ -------- --------
CPAN::Meta::Requirements 2.120620 2.131
ExtUtils::MakeMaker 0 7.64
Module::Metadata 0 1.000037
perl 5.008 5.012000
------------------------------
ENVIRONMENT AND OTHER CONTEXT
------------------------------
Environment variables:
AUTOMATED_TESTING = 1
LANG = C.UTF-8
PATH = /sbin:/bin:/usr/sbin:/usr/bin:/usr/local/sbin:/usr/local/bin:/home/smoker12/bin
PERL5LIB = /home/smoker12/.cpan/build/Test-Without-Module-0.21-Q9W6Ya/blib/arch:/home/smoker12/.cpan/build/Test-Without-Module-0.21-Q9W6Ya/blib/lib
PERL5OPT =
PERL5_CPANPLUS_IS_RUNNING = 87696
PERL5_CPAN_IS_RUNNING = 87696
PERL5_CPAN_IS_RUNNING_IN_RECURSION = 23449,87696
PERL_CR_SMOKER_CURRENT = JSON-Any-1.40
PERL_EXTUTILS_AUTOINSTALL = --defaultdeps
PERL_MM_USE_DEFAULT = 1
SHELL = /bin/sh
Perl special variables (and OS-specific diagnostics, for MSWin32):
$^X = /home/smoker12/perl5/perlbrew/perls/perl-5.12.0/bin/perl
$UID/$EUID = 1002 / 1002
$GID = 1002 1002
$EGID = 1002 1002
Perl module toolchain versions installed:
Module Have
------------------- --------
CPAN 1.94_56
CPAN::Meta 2.143240
Cwd 3.31
ExtUtils::CBuilder 0.27
ExtUtils::Command 7.64
ExtUtils::Install 2.06
ExtUtils::MakeMaker 7.64
ExtUtils::Manifest 1.70
ExtUtils::ParseXS 2.21
File::Spec 3.31
JSON n/a
JSON::PP 4.12
Module::Build 0.3603
Module::Signature n/a
Parse::CPAN::Meta 1.4414
Test::Harness 3.17
Test::More 1.302191
YAML n/a
YAML::Syck 1.34
version 0.9929
--
Summary of my perl5 (revision 5 version 12 subversion 0) configuration:
Platform:
osname=freebsd, osvers=13.1-release-p3, archname=amd64-freebsd
uname='freebsd smoker-10.smoker 13.1-release-p3 freebsd 13.1-release-p3 generic amd64 '
config_args='-de -Dprefix=/home/smoker12/perl5/perlbrew/perls/perl-5.12.0 -Duse64bitint -Aeval:scriptdir=/home/smoker12/perl5/perlbrew/perls/perl-5.12.0/bin'
hint=recommended, useposix=true, d_sigaction=define
useithreads=undef, usemultiplicity=undef
useperlio=define, d_sfio=undef, uselargefiles=define, usesocks=undef
use64bitint=define, use64bitall=define, uselongdouble=undef
usemymalloc=n, bincompat5005=undef
Compiler:
cc='cc', ccflags ='-DHAS_FPSETMASK -DHAS_FLOATINGPOINT_H -fno-strict-aliasing -pipe -fstack-protector -I/usr/local/include',
optimize='-O2',
cppflags='-DHAS_FPSETMASK -DHAS_FLOATINGPOINT_H -fno-strict-aliasing -pipe -fstack-protector -I/usr/local/include'
ccversion='', gccversion='FreeBSD Clang 13.0.0 (git@github.com:llvm/llvm-project.git llvmorg-13.0.0-0-gd7b669b3a303)', gccosandvers=''
intsize=4, longsize=8, ptrsize=8, doublesize=8, byteorder=12345678
d_longlong=define, longlongsize=8, d_longdbl=define, longdblsize=16
ivtype='long', ivsize=8, nvtype='double', nvsize=8, Off_t='off_t', lseeksize=8
alignbytes=8, prototype=define
Linker and Libraries:
ld='cc', ldflags ='-Wl,-E -fstack-protector -L/usr/local/lib'
libpth=/usr/lib /usr/local/lib
libs=-ldl -lm -lcrypt -lutil -lc
perllibs=-ldl -lm -lcrypt -lutil -lc
libc=, so=so, useshrplib=false, libperl=libperl.a
gnulibc_version=''
Dynamic Linking:
dlsrc=dl_dlopen.xs, dlext=so, d_dlsymun=undef, ccdlflags=' '
cccdlflags='-DPIC -fPIC', lddlflags='-shared -L/usr/local/lib -fstack-protector'
Characteristics of this binary (from libperl):
Compile-time options: PERL_DONT_CREATE_GVSV PERL_MALLOC_WRAP USE_64_BIT_ALL
USE_64_BIT_INT USE_LARGE_FILES USE_PERLIO
USE_PERL_ATOF
Locally applied patches:
Devel::PatchPerl 2.08
Built under freebsd
Compiled at Nov 17 2022 20:51:41
%ENV:
PERL5LIB="/home/smoker12/.cpan/build/Test-Without-Module-0.21-Q9W6Ya/blib/arch:/home/smoker12/.cpan/build/Test-Without-Module-0.21-Q9W6Ya/blib/lib"
PERL5OPT=""
PERL5_CPANPLUS_IS_RUNNING="87696"
PERL5_CPAN_IS_RUNNING="87696"
PERL5_CPAN_IS_RUNNING_IN_RECURSION="23449,87696"
PERL_CR_SMOKER_CURRENT="JSON-Any-1.40"
PERL_EXTUTILS_AUTOINSTALL="--defaultdeps"
PERL_MM_USE_DEFAULT="1"
@INC:
/home/smoker12/.cpan/build/Test-Without-Module-0.21-Q9W6Ya/blib/arch
/home/smoker12/.cpan/build/Test-Without-Module-0.21-Q9W6Ya/blib/lib
/home/smoker12/perl5/perlbrew/perls/perl-5.12.0/lib/site_perl/5.12.0/amd64-freebsd
/home/smoker12/perl5/perlbrew/perls/perl-5.12.0/lib/site_perl/5.12.0
/home/smoker12/perl5/perlbrew/perls/perl-5.12.0/lib/5.12.0/amd64-freebsd
/home/smoker12/perl5/perlbrew/perls/perl-5.12.0/lib/5.12.0
.