Back
From: metabase:user:320bfe00-2aae-11df-837a-5e0a49663a4f
Subject: PASS Catalyst-Plugin-HashedCookies-1.131710 v5.23.3 GNU/Linux
Date: 2015-09-19T10:59:51Z
This distribution has been tested as part of the CPAN Testers
project, supporting the Perl programming language. See
http://wiki.cpantesters.org/ for more information or email
questions to cpan-testers-discuss@perl.org
--
Dear Oliver Gorwits,
This is a computer-generated report for Catalyst-Plugin-HashedCookies-1.131710
on perl 5.23.3, created by CPAN-Reporter-1.2015.
Thank you for uploading your work to CPAN. Congratulations!
All tests were successful.
Sections of this report:
* Tester comments
* Program output
* Prerequisites
* Environment and other context
------------------------------
TESTER COMMENTS
------------------------------
Additional comments from tester:
this report is from an automated smoke testing program
and was not reviewed by a human for accuracy
------------------------------
PROGRAM OUTPUT
------------------------------
Output from '/usr/bin/make test':
PERL_DL_NONLAZY=1 "/tmp/basesmoker-reloperl-kw4_/bin/perl" "-MExtUtils::Command::MM" "-MTest::Harness" "-e" "undef *Test::Harness::Switches; test_harness(0, 'blib/lib', 'blib/arch')" t/*.t
# Testing Catalyst::Plugin::HashedCookies 1.131710, Perl 5.023003, /tmp/basesmoker-reloperl-kw4_/bin/perl
t/00-load.t .................. ok
t/10-initialize.t ............ ok
t/21-setup.t ................. ok
t/21a-setup.t ................ ok
t/22-setup.t ................. ok
t/23-setup.t ................. ok
t/24-setup.t ................. ok
t/24a-setup.t ................ ok
t/25-setup.t ................. ok
Encountered CODE ref, using dummy placeholder at /home/sand/src/perl/repoperls/installed-perls/perl/v5.23.2-281-g6e3d6c0/a2da/lib/5.23.3/x86_64-linux-thread-multi-ld/Data/Dumper.pm line 231.
Encountered CODE ref, using dummy placeholder at /home/sand/src/perl/repoperls/installed-perls/perl/v5.23.2-281-g6e3d6c0/a2da/lib/5.23.3/x86_64-linux-thread-multi-ld/Data/Dumper.pm line 231.
Encountered CODE ref, using dummy placeholder at /home/sand/src/perl/repoperls/installed-perls/perl/v5.23.2-281-g6e3d6c0/a2da/lib/5.23.3/x86_64-linux-thread-multi-ld/Data/Dumper.pm line 231.
[error] Attempted use of restricted ("_hashedcookies_*") value in cookie
t/30-restricted.t ............ ok
Encountered CODE ref, using dummy placeholder at /home/sand/src/perl/repoperls/installed-perls/perl/v5.23.2-281-g6e3d6c0/a2da/lib/5.23.3/x86_64-linux-thread-multi-ld/Data/Dumper.pm line 231.
Encountered CODE ref, using dummy placeholder at /home/sand/src/perl/repoperls/installed-perls/perl/v5.23.2-281-g6e3d6c0/a2da/lib/5.23.3/x86_64-linux-thread-multi-ld/Data/Dumper.pm line 231.
Encountered CODE ref, using dummy placeholder at /home/sand/src/perl/repoperls/installed-perls/perl/v5.23.2-281-g6e3d6c0/a2da/lib/5.23.3/x86_64-linux-thread-multi-ld/Data/Dumper.pm line 231.
t/50-installed_extensions.t .. ok
Encountered CODE ref, using dummy placeholder at /home/sand/src/perl/repoperls/installed-perls/perl/v5.23.2-281-g6e3d6c0/a2da/lib/5.23.3/x86_64-linux-thread-multi-ld/Data/Dumper.pm line 231.
Encountered CODE ref, using dummy placeholder at /home/sand/src/perl/repoperls/installed-perls/perl/v5.23.2-281-g6e3d6c0/a2da/lib/5.23.3/x86_64-linux-thread-multi-ld/Data/Dumper.pm line 231.
Encountered CODE ref, using dummy placeholder at /home/sand/src/perl/repoperls/installed-perls/perl/v5.23.2-281-g6e3d6c0/a2da/lib/5.23.3/x86_64-linux-thread-multi-ld/Data/Dumper.pm line 231.
t/60-request_hooks.t ......... ok
Encountered CODE ref, using dummy placeholder at /home/sand/src/perl/repoperls/installed-perls/perl/v5.23.2-281-g6e3d6c0/a2da/lib/5.23.3/x86_64-linux-thread-multi-ld/Data/Dumper.pm line 231.
Encountered CODE ref, using dummy placeholder at /home/sand/src/perl/repoperls/installed-perls/perl/v5.23.2-281-g6e3d6c0/a2da/lib/5.23.3/x86_64-linux-thread-multi-ld/Data/Dumper.pm line 231.
Encountered CODE ref, using dummy placeholder at /home/sand/src/perl/repoperls/installed-perls/perl/v5.23.2-281-g6e3d6c0/a2da/lib/5.23.3/x86_64-linux-thread-multi-ld/Data/Dumper.pm line 231.
Encountered CODE ref, using dummy placeholder at /home/sand/src/perl/repoperls/installed-perls/perl/v5.23.2-281-g6e3d6c0/a2da/lib/5.23.3/x86_64-linux-thread-multi-ld/Data/Dumper.pm line 231.
Encountered CODE ref, using dummy placeholder at /home/sand/src/perl/repoperls/installed-perls/perl/v5.23.2-281-g6e3d6c0/a2da/lib/5.23.3/x86_64-linux-thread-multi-ld/Data/Dumper.pm line 231.
Encountered CODE ref, using dummy placeholder at /home/sand/src/perl/repoperls/installed-perls/perl/v5.23.2-281-g6e3d6c0/a2da/lib/5.23.3/x86_64-linux-thread-multi-ld/Data/Dumper.pm line 231.
Encountered CODE ref, using dummy placeholder at /home/sand/src/perl/repoperls/installed-perls/perl/v5.23.2-281-g6e3d6c0/a2da/lib/5.23.3/x86_64-linux-thread-multi-ld/Data/Dumper.pm line 231.
Encountered CODE ref, using dummy placeholder at /home/sand/src/perl/repoperls/installed-perls/perl/v5.23.2-281-g6e3d6c0/a2da/lib/5.23.3/x86_64-linux-thread-multi-ld/Data/Dumper.pm line 231.
Encountered CODE ref, using dummy placeholder at /home/sand/src/perl/repoperls/installed-perls/perl/v5.23.2-281-g6e3d6c0/a2da/lib/5.23.3/x86_64-linux-thread-multi-ld/Data/Dumper.pm line 231.
Encountered CODE ref, using dummy placeholder at /home/sand/src/perl/repoperls/installed-perls/perl/v5.23.2-281-g6e3d6c0/a2da/lib/5.23.3/x86_64-linux-thread-multi-ld/Data/Dumper.pm line 231.
Encountered CODE ref, using dummy placeholder at /home/sand/src/perl/repoperls/installed-perls/perl/v5.23.2-281-g6e3d6c0/a2da/lib/5.23.3/x86_64-linux-thread-multi-ld/Data/Dumper.pm line 231.
Encountered CODE ref, using dummy placeholder at /home/sand/src/perl/repoperls/installed-perls/perl/v5.23.2-281-g6e3d6c0/a2da/lib/5.23.3/x86_64-linux-thread-multi-ld/Data/Dumper.pm line 231.
Encountered CODE ref, using dummy placeholder at /home/sand/src/perl/repoperls/installed-perls/perl/v5.23.2-281-g6e3d6c0/a2da/lib/5.23.3/x86_64-linux-thread-multi-ld/Data/Dumper.pm line 231.
Encountered CODE ref, using dummy placeholder at /home/sand/src/perl/repoperls/installed-perls/perl/v5.23.2-281-g6e3d6c0/a2da/lib/5.23.3/x86_64-linux-thread-multi-ld/Data/Dumper.pm line 231.
Encountered CODE ref, using dummy placeholder at /home/sand/src/perl/repoperls/installed-perls/perl/v5.23.2-281-g6e3d6c0/a2da/lib/5.23.3/x86_64-linux-thread-multi-ld/Data/Dumper.pm line 231.
Encountered CODE ref, using dummy placeholder at /home/sand/src/perl/repoperls/installed-perls/perl/v5.23.2-281-g6e3d6c0/a2da/lib/5.23.3/x86_64-linux-thread-multi-ld/Data/Dumper.pm line 231.
Encountered CODE ref, using dummy placeholder at /home/sand/src/perl/repoperls/installed-perls/perl/v5.23.2-281-g6e3d6c0/a2da/lib/5.23.3/x86_64-linux-thread-multi-ld/Data/Dumper.pm line 231.
Encountered CODE ref, using dummy placeholder at /home/sand/src/perl/repoperls/installed-perls/perl/v5.23.2-281-g6e3d6c0/a2da/lib/5.23.3/x86_64-linux-thread-multi-ld/Data/Dumper.pm line 231.
t/70-algorithms.t ............ ok
Encountered CODE ref, using dummy placeholder at /home/sand/src/perl/repoperls/installed-perls/perl/v5.23.2-281-g6e3d6c0/a2da/lib/5.23.3/x86_64-linux-thread-multi-ld/Data/Dumper.pm line 231.
Encountered CODE ref, using dummy placeholder at /home/sand/src/perl/repoperls/installed-perls/perl/v5.23.2-281-g6e3d6c0/a2da/lib/5.23.3/x86_64-linux-thread-multi-ld/Data/Dumper.pm line 231.
Encountered CODE ref, using dummy placeholder at /home/sand/src/perl/repoperls/installed-perls/perl/v5.23.2-281-g6e3d6c0/a2da/lib/5.23.3/x86_64-linux-thread-multi-ld/Data/Dumper.pm line 231.
Encountered CODE ref, using dummy placeholder at /home/sand/src/perl/repoperls/installed-perls/perl/v5.23.2-281-g6e3d6c0/a2da/lib/5.23.3/x86_64-linux-thread-multi-ld/Data/Dumper.pm line 231.
Encountered CODE ref, using dummy placeholder at /home/sand/src/perl/repoperls/installed-perls/perl/v5.23.2-281-g6e3d6c0/a2da/lib/5.23.3/x86_64-linux-thread-multi-ld/Data/Dumper.pm line 231.
Encountered CODE ref, using dummy placeholder at /home/sand/src/perl/repoperls/installed-perls/perl/v5.23.2-281-g6e3d6c0/a2da/lib/5.23.3/x86_64-linux-thread-multi-ld/Data/Dumper.pm line 231.
Encountered CODE ref, using dummy placeholder at /home/sand/src/perl/repoperls/installed-perls/perl/v5.23.2-281-g6e3d6c0/a2da/lib/5.23.3/x86_64-linux-thread-multi-ld/Data/Dumper.pm line 231.
Encountered CODE ref, using dummy placeholder at /home/sand/src/perl/repoperls/installed-perls/perl/v5.23.2-281-g6e3d6c0/a2da/lib/5.23.3/x86_64-linux-thread-multi-ld/Data/Dumper.pm line 231.
Encountered CODE ref, using dummy placeholder at /home/sand/src/perl/repoperls/installed-perls/perl/v5.23.2-281-g6e3d6c0/a2da/lib/5.23.3/x86_64-linux-thread-multi-ld/Data/Dumper.pm line 231.
Encountered CODE ref, using dummy placeholder at /home/sand/src/perl/repoperls/installed-perls/perl/v5.23.2-281-g6e3d6c0/a2da/lib/5.23.3/x86_64-linux-thread-multi-ld/Data/Dumper.pm line 231.
Encountered CODE ref, using dummy placeholder at /home/sand/src/perl/repoperls/installed-perls/perl/v5.23.2-281-g6e3d6c0/a2da/lib/5.23.3/x86_64-linux-thread-multi-ld/Data/Dumper.pm line 231.
Encountered CODE ref, using dummy placeholder at /home/sand/src/perl/repoperls/installed-perls/perl/v5.23.2-281-g6e3d6c0/a2da/lib/5.23.3/x86_64-linux-thread-multi-ld/Data/Dumper.pm line 231.
t/80-response_hooks.t ........ ok
t/pod-coverage.t ............. ok
t/pod.t ...................... ok
All tests successful.
Files=16, Tests=178, 14 wallclock secs ( 0.08 usr 0.09 sys + 11.84 cusr 1.23 csys = 13.24 CPU)
Result: PASS
------------------------------
PREREQUISITES
------------------------------
Prerequisite modules loaded:
requires:
Module Need Have
--------------------- ---- --------
base 0 2.22
Catalyst::Request 0 0
CGI::Simple::Cookie 0 1.114
Digest::HMAC_MD5 0 1.01
Digest::HMAC_SHA1 0 1.03
MRO::Compat 0 0.12
strict 0 1.09
Symbol 0 1.07
Tie::IxHash 0 1.23
warnings 0 1.33
build_requires:
Module Need Have
--------------------- ---- --------
Catalyst 0 5.90101
Catalyst::Controller 0 0
Data::Dumper 0 2.158
File::Spec::Functions 0 3.58
HTTP::Headers::Util 0 6.11
HTTP::Request::Common 0 6.11
Scalar::Util 0 1.42_01
Test::More 0 1.001014
configure_requires:
Module Need Have
--------------------- ---- --------
ExtUtils::MakeMaker 6.30 7.10
------------------------------
ENVIRONMENT AND OTHER CONTEXT
------------------------------
Environment variables:
AUTOMATED_TESTING = 1
LANG = en_US.UTF-8
LANGUAGE = en_US:en
PATH = /home/sand/bin:/usr/local/bin:/usr/bin:/bin:/usr/games:/usr/local/perl/bin:/usr/X11/bin:/sbin:/usr/sbin
PERL = /tmp/basesmoker-reloperl-kw4_/bin/perl
PERL5LIB =
PERL5OPT =
PERL5_CPANPLUS_IS_RUNNING = 29382
PERL5_CPAN_IS_RUNNING = 29382
PERL_MM_USE_DEFAULT = 1
SHELL = /usr/bin/zsh
TERM = screen
Perl special variables (and OS-specific diagnostics, for MSWin32):
$^X = /tmp/basesmoker-reloperl-kw4_/bin/perl
$UID/$EUID = 1005 / 1005
$GID = 1005 1005
$EGID = 1005 1005
Perl module toolchain versions installed:
Module Have
------------------- --------
CPAN 2.10
CPAN::Meta 2.150005
Cwd 3.58
ExtUtils::CBuilder 0.280223
ExtUtils::Command 7.10
ExtUtils::Install 2.04
ExtUtils::MakeMaker 7.10
ExtUtils::Manifest 1.70
ExtUtils::ParseXS 3.30
File::Spec 3.58
JSON 2.90
JSON::PP 2.27300
Module::Build 0.4214
Module::Signature 0.79
Parse::CPAN::Meta 1.4417
Test::Harness 3.35
Test::More 1.001014
YAML 1.15
YAML::Syck 1.29
version 0.9909
--
Summary of my perl5 (revision 5 version 23 subversion 3) configuration:
Commit id: 6e3d6c029a00fdbf2f75673aa0f5ad22a047e329
Platform:
osname=linux, osvers=4.1.0-2-amd64, archname=x86_64-linux-thread-multi-ld
uname='linux k83 4.1.0-2-amd64 #1 smp debian 4.1.6-1 (2015-08-23) x86_64 gnulinux '
config_args='-Dprefix=/home/sand/src/perl/repoperls/installed-perls/perl/v5.23.2-281-g6e3d6c0/a2da -Dmyhostname=k83 -Dinstallusrbinperl=n -Uversiononly -Dusedevel -des -Ui_db -Duseithreads -Duselongdouble -DDEBUGGING=-g'
hint=recommended, useposix=true, d_sigaction=define
useithreads=define, usemultiplicity=define
use64bitint=define, use64bitall=define, uselongdouble=define
usemymalloc=n, bincompat5005=undef
Compiler:
cc='cc', ccflags ='-D_REENTRANT -D_GNU_SOURCE -fwrapv -fno-strict-aliasing -pipe -fstack-protector-strong -I/usr/local/include -D_LARGEFILE_SOURCE -D_FILE_OFFSET_BITS=64',
optimize='-O2 -g',
cppflags='-D_REENTRANT -D_GNU_SOURCE -fwrapv -fno-strict-aliasing -pipe -fstack-protector-strong -I/usr/local/include'
ccversion='', gccversion='5.2.1 20150911', gccosandvers=''
intsize=4, longsize=8, ptrsize=8, doublesize=8, byteorder=12345678, doublekind=3
d_longlong=define, longlongsize=8, d_longdbl=define, longdblsize=16, longdblkind=3
ivtype='long', ivsize=8, nvtype='long double', nvsize=16, Off_t='off_t', lseeksize=8
alignbytes=16, prototype=define
Linker and Libraries:
ld='cc', ldflags =' -fstack-protector-strong -L/usr/local/lib'
libpth=/usr/local/lib /usr/lib/gcc/x86_64-linux-gnu/5/include-fixed /usr/include/x86_64-linux-gnu /usr/lib /lib/x86_64-linux-gnu /lib/../lib /usr/lib/x86_64-linux-gnu /usr/lib/../lib /lib
libs=-lpthread -lnsl -lgdbm -ldb -ldl -lm -lcrypt -lutil -lc -lgdbm_compat
perllibs=-lpthread -lnsl -ldl -lm -lcrypt -lutil -lc
libc=libc-2.19.so, so=so, useshrplib=false, libperl=libperl.a
gnulibc_version='2.19'
Dynamic Linking:
dlsrc=dl_dlopen.xs, dlext=so, d_dlsymun=undef, ccdlflags='-Wl,-E'
cccdlflags='-fPIC', lddlflags='-shared -O2 -g -L/usr/local/lib -fstack-protector-strong'
Characteristics of this binary (from libperl):
Compile-time options: HAS_TIMES MULTIPLICITY PERLIO_LAYERS
PERL_COPY_ON_WRITE PERL_DONT_CREATE_GVSV
PERL_HASH_FUNC_ONE_AT_A_TIME_HARD
PERL_IMPLICIT_CONTEXT PERL_MALLOC_WRAP
PERL_PRESERVE_IVUV PERL_USE_DEVEL USE_64_BIT_ALL
USE_64_BIT_INT USE_ITHREADS USE_LARGE_FILES
USE_LOCALE USE_LOCALE_COLLATE USE_LOCALE_CTYPE
USE_LOCALE_NUMERIC USE_LOCALE_TIME USE_LONG_DOUBLE
USE_PERLIO USE_PERL_ATOF USE_REENTRANT_API
Built under linux
Compiled at Sep 18 2015 21:38:05
%ENV:
PERL="/tmp/basesmoker-reloperl-kw4_/bin/perl"
PERL5LIB=""
PERL5OPT=""
PERL5_CPANPLUS_IS_RUNNING="29382"
PERL5_CPAN_IS_RUNNING="29382"
PERL_MM_USE_DEFAULT="1"
@INC:
/home/sand/src/perl/repoperls/installed-perls/perl/v5.23.2-281-g6e3d6c0/a2da/lib/site_perl/5.23.3/x86_64-linux-thread-multi-ld
/home/sand/src/perl/repoperls/installed-perls/perl/v5.23.2-281-g6e3d6c0/a2da/lib/site_perl/5.23.3
/home/sand/src/perl/repoperls/installed-perls/perl/v5.23.2-281-g6e3d6c0/a2da/lib/5.23.3/x86_64-linux-thread-multi-ld
/home/sand/src/perl/repoperls/installed-perls/perl/v5.23.2-281-g6e3d6c0/a2da/lib/5.23.3
.