YAML-Safe v0.82 Perl 5 v5.39.10 amd64-freebsd
- Status
- Pass
- From
- Carlos Guevara
- Dist
-
YAML-Safe v0.82
- Platform
- Perl 5 v5.39.10 amd64-freebsd
- Date
- 2024-04-05 00:00:46
- ID
- 8da4575e-f2df-11ee-85c2-e38a51edfbcf
This distribution has been tested as part of the CPAN Testers
project, supporting the Perl programming language. See
http://wiki.cpantesters.org/ for more information or email
questions to cpan-testers-discuss@perl.org
--
Dear Reini Urban,
This is a computer-generated report for YAML-Safe-0.82
on perl 5.39.10, created by CPAN-Reporter-1.2019.
Thank you for uploading your work to CPAN. Congratulations!
All tests were successful.
Sections of this report:
* Tester comments
* Program output
* Prerequisites
* Environment and other context
------------------------------
TESTER COMMENTS
------------------------------
Additional comments from tester:
this report is from an automated smoke testing program
and was not reviewed by a human for accuracy
------------------------------
PROGRAM OUTPUT
------------------------------
Output from '/usr/bin/make test':
"/home/cpan/bin/perl/bin/perl5.39.10" -MExtUtils::Command::MM -e 'cp_nonempty' -- Safe.bs blib/arch/auto/YAML/Safe/Safe.bs 644
PERL_DL_NONLAZY=1 "/home/cpan/bin/perl/bin/perl5.39.10" "-MExtUtils::Command::MM" "-MTest::Harness" "-e" "undef *Test::Harness::Switches; test_harness(0, 'blib/lib', 'blib/arch')" t/*.t
t/alias.t ................. ok
t/api.t ................... ok
t/ascii.t ................. ok
t/binary.t ................ ok
t/blessed.t ............... ok
t/boolean-boolean.t ....... ok
t/boolean-cpaneljsonxs.t .. ok
t/boolean-invalid.t ....... ok
# Found Cpanel::JSON::XS 4.37
t/boolean-jsonmaybexs.t ... ok
t/boolean-jsonpp.t ........ ok
t/boolean-jsonxs.t ........ skipped: JSON::XS failed to load
t/boolean.t ............... ok
t/bug-pvf.t ............... ok
t/bug-stack.t ............. ok
t/code.t .................. ok
t/cpan.t .................. ok
t/dump-heuristics.t ....... ok
t/dump-int.t .............. ok
t/dump.t .................. ok
t/empty.t ................. ok
t/error.t ................. ok
t/file.t .................. ok
t/glob.t .................. ok
t/indent.t ................ ok
t/io-handle.t ............. ok
t/leak.t .................. ok
# libyaml version = 0.2.3
t/libyaml-version.t ....... ok
t/load-blessed.t .......... ok
t/load.t .................. ok
t/load_standard_tags.t .... ok
t/loadfile-empty.t ........ ok
t/long_plain_wrap.t ....... skipped: Failing test. Not yet implemented
t/magic.t ................. ok
t/native.t ................ ok
t/nonstrict.t ............. ok
t/null.t .................. ok
t/numbers.t ............... ok
t/options.t ............... ok
t/path-class.t ............ ok
t/pl_sv_undef.t ........... ok
t/private.t ............... ok
t/quote.t ................. ok
t/ref-scalar.t ............ ok
t/regexp.t ................ ok
t/safeclass.t ............. ok
t/string_nulls.t .......... ok
t/tags.t .................. ok
t/tied.t .................. ok
t/utf8.t .................. ok
All tests successful.
Files=49, Tests=459, 2 wallclock secs ( 0.10 usr 0.02 sys + 2.16 cusr 0.45 csys = 2.73 CPU)
Result: PASS
------------------------------
PREREQUISITES
------------------------------
Prerequisite modules loaded:
requires:
Module Need Have
------------------- ----- ----
boolean 0.3 0.46
constant 0.1 1.33
File::Path 0.1 2.18
JSON::PP 2.273 4.16
lib 0.1 0.65
Test::Base 0.8 0.89
build_requires:
Module Need Have
------------------- ----- ----
ExtUtils::MakeMaker 0 7.70
configure_requires:
Module Need Have
------------------- ----- ----
ExtUtils::MakeMaker 0 7.70
------------------------------
ENVIRONMENT AND OTHER CONTEXT
------------------------------
Environment variables:
AUTOMATED_TESTING = 1
DATE_MANIP_TEST_DM5 = 1
LANG = C.UTF-8
LC_ALL = C
NONINTERACTIVE_TESTING = 1
NO_NETWORK_TESTING = 1
PATH = /home/cpan/bin/perl/bin:/home/cpan/bin:/sbin:/bin:/usr/sbin:/usr/bin:/usr/local/sbin:/usr/local/bin:/home/cpan/bin
PERL5LIB =
PERL5OPT =
PERL5_CPANPLUS_IS_RUNNING = 45521
PERL5_CPAN_IS_RUNNING = 45521
PERL_MM_USE_DEFAULT = 1
PERL_USE_UNSAFE_INC = 1
SHELL = /usr/local/bin/bash
TERM = screen
TMPDIR = /home/cpan/tmp
Perl special variables (and OS-specific diagnostics, for MSWin32):
$^X = /home/cpan/bin/perl/bin/perl5.39.10
$UID/$EUID = 1002 / 1002
$GID = 1002 1002
$EGID = 1002 1002
Perl module toolchain versions installed:
Module Have
------------------- --------
CPAN 2.36
CPAN::Meta 2.150010
Cwd 3.90
ExtUtils::CBuilder 0.280240
ExtUtils::Command 7.70
ExtUtils::Install 2.22
ExtUtils::MakeMaker 7.70
ExtUtils::Manifest 1.75
ExtUtils::ParseXS 3.51
File::Spec 3.90
JSON 4.10
JSON::PP 4.16
Module::Build 0.4234
Module::Signature n/a
Parse::CPAN::Meta 2.150010
Test2 1.302198
Test::Harness 3.48
Test::More 1.302198
YAML 1.31
YAML::Syck n/a
version 0.9930
--
Summary of my perl5 (revision 5 version 39 subversion 10) configuration:
Commit id: 53a6f7aabfcbe508ff3e0835802d2dd2be935816
Platform:
osname=freebsd
osvers=14.0-release-p6
archname=amd64-freebsd
uname='freebsd cjg-freebsd14 14.0-release-p6 freebsd 14.0-release-p6 #0: tue mar 26 20:26:20 utc 2024 root@amd64-builder.daemonology.net:usrobjusrsrcamd64.amd64sysgeneric amd64 '
config_args='-des -Dprefix=/home/cpan/bin/perl -Dscriptdir=/home/cpan/bin/perl/bin -Dusedevel -Duse64bitall'
hint=recommended
useposix=true
d_sigaction=define
useithreads=undef
usemultiplicity=undef
use64bitint=define
use64bitall=define
uselongdouble=undef
usemymalloc=n
default_inc_excludes_dot=define
Compiler:
cc='cc'
ccflags ='-DHAS_FPSETMASK -DHAS_FLOATINGPOINT_H -DNO_POSIX_2008_LOCALE -fno-strict-aliasing -pipe -fstack-protector-strong -I/usr/local/include'
optimize='-O2'
cppflags='-DHAS_FPSETMASK -DHAS_FLOATINGPOINT_H -DNO_POSIX_2008_LOCALE -fno-strict-aliasing -pipe -fstack-protector-strong -I/usr/local/include'
ccversion=''
gccversion='FreeBSD Clang 16.0.6 (https://github.com/llvm/llvm-project.git llvmorg-16.0.6-0-g7cbf1a259152)'
gccosandvers=''
intsize=4
longsize=8
ptrsize=8
doublesize=8
byteorder=12345678
doublekind=3
d_longlong=define
longlongsize=8
d_longdbl=define
longdblsize=16
longdblkind=3
ivtype='long'
ivsize=8
nvtype='double'
nvsize=8
Off_t='off_t'
lseeksize=8
alignbytes=8
prototype=define
Linker and Libraries:
ld='cc'
ldflags ='-Wl,-E -fstack-protector-strong -L/usr/local/lib'
libpth=/usr/lib /usr/local/lib /usr/lib/clang/16/lib
libs=-lpthread -ldl -lm -lcrypt -lutil -lc
perllibs=-lpthread -ldl -lm -lcrypt -lutil -lc
libc=
so=so
useshrplib=false
libperl=libperl.a
gnulibc_version=''
Dynamic Linking:
dlsrc=dl_dlopen.xs
dlext=so
d_dlsymun=undef
ccdlflags=' '
cccdlflags='-DPIC -fPIC'
lddlflags='-shared -L/usr/local/lib -fstack-protector-strong'
Characteristics of this binary (from libperl):
Compile-time options:
HAS_LONG_DOUBLE
HAS_STRTOLD
HAS_TIMES
PERLIO_LAYERS
PERL_COPY_ON_WRITE
PERL_DONT_CREATE_GVSV
PERL_HASH_FUNC_SIPHASH13
PERL_HASH_USE_SBOX32
PERL_MALLOC_WRAP
PERL_OP_PARENT
PERL_PRESERVE_IVUV
PERL_USE_DEVEL
PERL_USE_SAFE_PUTENV
USE_64_BIT_ALL
USE_64_BIT_INT
USE_LARGE_FILES
USE_LOCALE
USE_LOCALE_COLLATE
USE_LOCALE_CTYPE
USE_LOCALE_NUMERIC
USE_LOCALE_TIME
USE_PERLIO
USE_PERL_ATOF
Built under freebsd
Compiled at Apr 4 2024 18:14:04
%ENV:
PERL5LIB=""
PERL5OPT=""
PERL5_CPANPLUS_IS_RUNNING="45521"
PERL5_CPAN_IS_RUNNING="45521"
PERL_MM_USE_DEFAULT="1"
PERL_USE_UNSAFE_INC="1"
@INC:
/home/cpan/bin/perl/lib/site_perl/5.39.10/amd64-freebsd
/home/cpan/bin/perl/lib/site_perl/5.39.10
/home/cpan/bin/perl/lib/5.39.10/amd64-freebsd
/home/cpan/bin/perl/lib/5.39.10
.