WebNano-Controller-CRUD v0.007 Perl 5 v5.26.2 x86_64-linux

Status
Pass
From
Andreas J. König (ANDK)
Dist
WebNano-Controller-CRUD v0.007
Platform
Perl 5 v5.26.2 x86_64-linux
Date
2018-06-03 18:40:14
ID
8daa6090-675d-11e8-b325-52c792041a07
This distribution has been tested as part of the CPAN Testers
project, supporting the Perl programming language.  See
http://wiki.cpantesters.org/ for more information or email
questions to cpan-testers-discuss@perl.org


--
Dear Zbigniew Lukasiak,

This is a computer-generated report for WebNano-Controller-CRUD-0.007
on perl 5.26.2, created by CPAN-Reporter-1.2018.

Thank you for uploading your work to CPAN.  Congratulations!
All tests were successful.

Sections of this report:

    * Tester comments
    * Program output
    * Prerequisites
    * Environment and other context

------------------------------
TESTER COMMENTS
------------------------------

Additional comments from tester:

this report is from an automated smoke testing program
and was not reviewed by a human for accuracy

------------------------------
PROGRAM OUTPUT
------------------------------

Output from '/usr/bin/make test':

PERL_DL_NONLAZY=1 "/tmp/basesmoker-reloperl-tDsm/bin/perl" "-MExtUtils::Command::MM" "-MTest::Harness" "-e" "undef *Test::Harness::Switches; test_harness(0, 'blib/lib', 'blib/arch')" t/*.t
Class::MOP::load_class is deprecated at /home/sand/src/perl/repoperls/installed-perls/host/k93x64sid/v5.26.2/2992/lib/site_perl/5.26.2/x86_64-linux/Class/MOP.pm line 69.
	Class::MOP::load_class("MyApp::Controller::Form") called at /tmp/loop_over_bdir-13186-QQVWlh/WebNano-Controller-CRUD-0.007-0/blib/lib/WebNano/Controller/CRUD.pm line 154
	WebNano::Controller::CRUD::edit(MyApp::Controller::DvdWithBaseCRUD=HASH(0x562e012cd8d0), MyApp::DBSchema::Result::Dvd=HASH(0x562e01227760), undef, "edit") called at /tmp/loop_over_bdir-13186-QQVWlh/WebNano-Controller-CRUD-0.007-0/blib/lib/WebNano/Controller/CRUD.pm line 89
	Class::MOP::Class:::around(CODE(0x562dff856c68), MyApp::Controller::DvdWithBaseCRUD=HASH(0x562e012cd8d0)) called at /home/sand/src/perl/repoperls/installed-perls/host/k93x64sid/v5.26.2/2992/lib/site_perl/5.26.2/x86_64-linux/Class/MOP/Method/Wrapped.pm line 164
	WebNano::Controller::CRUD::_wrapped_local_dispatch(MyApp::Controller::DvdWithBaseCRUD=HASH(0x562e012cd8d0)) called at /home/sand/src/perl/repoperls/installed-perls/host/k93x64sid/v5.26.2/2992/lib/site_perl/5.26.2/x86_64-linux/Class/MOP/Method/Wrapped.pm line 95
	WebNano::Controller::CRUD::local_dispatch(MyApp::Controller::DvdWithBaseCRUD=HASH(0x562e012cd8d0)) called at /home/sand/src/perl/repoperls/installed-perls/host/k93x64sid/v5.26.2/2992/lib/site_perl/5.26.2/WebNano/Controller.pm line 90
	WebNano::Controller::handle("MyApp::Controller::DvdWithBaseCRUD", "path", ARRAY(0x562e0117c2a0), "app", MyApp=HASH(0x562dff1c8ae0), "self_url", "/DvdWithBaseCRUD/", "env", ...) called at /home/sand/src/perl/repoperls/installed-perls/host/k93x64sid/v5.26.2/2992/lib/site_perl/5.26.2/WebNano/Controller.pm line 82
	WebNano::Controller::dispatch_to_class(MyApp::Controller=HASH(0x562e00340150), "DvdWithBaseCRUD") called at /home/sand/src/perl/repoperls/installed-perls/host/k93x64sid/v5.26.2/2992/lib/site_perl/5.26.2/WebNano/Controller.pm line 93
	WebNano::Controller::handle("MyApp::Controller", "path", ARRAY(0x562e0117c2a0), "app", MyApp=HASH(0x562dff1c8ae0), "env", HASH(0x562e011f2208), "self_url", ...) called at /home/sand/src/perl/repoperls/installed-perls/host/k93x64sid/v5.26.2/2992/lib/site_perl/5.26.2/WebNano.pm line 44
	WebNano::handle(MyApp=HASH(0x562dff1c8ae0), HASH(0x562e011f2208)) called at /home/sand/src/perl/repoperls/installed-perls/host/k93x64sid/v5.26.2/2992/lib/site_perl/5.26.2/WebNano.pm line 31
	WebNano::__ANON__(HASH(0x562e011f2208)) called at /home/sand/src/perl/repoperls/installed-perls/host/k93x64sid/v5.26.2/2992/lib/site_perl/5.26.2/Plack/Test/MockHTTP.pm line 24
	Plack::Test::MockHTTP::try {...} () called at /home/sand/src/perl/repoperls/installed-perls/host/k93x64sid/v5.26.2/2992/lib/site_perl/5.26.2/Try/Tiny.pm line 100
	eval {...} called at /home/sand/src/perl/repoperls/installed-perls/host/k93x64sid/v5.26.2/2992/lib/site_perl/5.26.2/Try/Tiny.pm line 93
	Try::Tiny::try(CODE(0x562e011cd6f8), Try::Tiny::Catch=REF(0x562e003469f8)) called at /home/sand/src/perl/repoperls/installed-perls/host/k93x64sid/v5.26.2/2992/lib/site_perl/5.26.2/Plack/Test/MockHTTP.pm line 27
	Plack::Test::MockHTTP::request(Plack::Test::MockHTTP=HASH(0x562dff49b9b8), HTTP::Request=HASH(0x562dff603518)) called at /home/sand/src/perl/repoperls/installed-perls/host/k93x64sid/v5.26.2/2992/lib/site_perl/5.26.2/Plack/Test.pm line 38
	Plack::Test::__ANON__(HTTP::Request=HASH(0x562dff603518)) called at t/crud_base_controller.t line 23
	main::__ANON__(CODE(0x562dff486c80)) called at /home/sand/src/perl/repoperls/installed-perls/host/k93x64sid/v5.26.2/2992/lib/site_perl/5.26.2/Plack/Test.pm line 38
	Plack::Test::test_psgi("app", CODE(0x562dff443c08), "client", CODE(0x562dff1c9740)) called at t/crud_base_controller.t line 42
t/crud_base_controller.t .. ok
t/release-kwalitee.t ...... skipped: these tests are for release candidate testing
t/release-pod-coverage.t .. skipped: these tests are for release candidate testing
t/release-pod-syntax.t .... skipped: these tests are for release candidate testing
All tests successful.
Files=4, Tests=20,  2 wallclock secs ( 0.01 usr  0.02 sys +  1.52 cusr  0.15 csys =  1.70 CPU)
Result: PASS

------------------------------
PREREQUISITES
------------------------------

Prerequisite modules loaded:

requires:

    Module                            Need  Have    
    --------------------------------- ----- --------
    Class::MOP                        0     2.2011  
    Config::General                   0     2.63    
    Cwd                               0     3.74    
    DateTime::Format::SQLite          0     0.11    
    DBIx::Class                       0     0.082841
    File::Spec::Functions             0     3.74    
    HTML::FormHandler::Model::DBIC    0     0.29    
    HTML::FormHandler::Moose          0     0.40068 
    Moose                             0     2.2011  
    MooseX::NonMoose                  0     0.26    
    WebNano                           0.007 0.007   
    WebNano::Controller               0     0.007   
    WebNano::Renderer::TT             0     0.002   

build_requires:

    Module                            Need  Have    
    --------------------------------- ----- --------
    base                              0     2.26    
    Config::Any                       0     0.32    
    DateTime                          0     1.49    
    DBIx::Class                       0     0.082841
    DBIx::Class::Schema               0     0       
    File::Copy                        0     2.32    
    HTML::FormHandler::Model::DBIC    0     0.29    
    HTML::FormHandler::Moose          0     0.40068 
    HTML::FormHandler::Render::Simple 0     0.40068 
    HTTP::Request::Common             0     6.16    
    overload                          0     1.28    
    Plack::Test                       0     0       
    strict                            0     1.11    
    Test::More                        0     1.302136
    warnings                          0     1.37    
    WebNano                           0     0.007   
    WebNano::Renderer::TT             0     0.002   

configure_requires:

    Module                            Need  Have    
    --------------------------------- ----- --------
    ExtUtils::MakeMaker               6.30  7.34    


------------------------------
ENVIRONMENT AND OTHER CONTEXT
------------------------------

Environment variables:

    AUTOMATED_TESTING = 1
    LANG = en_US.UTF-8
    PATH = /home/sand/bin:/usr/local/bin:/usr/bin:/bin:/usr/games:/usr/local/perl/bin:/usr/X11/bin:/sbin:/usr/sbin
    PERL5LIB = 
    PERL5OPT = 
    PERL5_CPANPLUS_IS_RUNNING = 20394
    PERL5_CPAN_IS_RUNNING = 20394
    PERL_CANARY_STABILITY_NOPROMPT = 1
    PERL_MM_USE_DEFAULT = 1
    PERL_USE_UNSAFE_INC = 1
    SHELL = /usr/bin/zsh
    TERM = screen

Perl special variables (and OS-specific diagnostics, for MSWin32):

    $^X = /tmp/basesmoker-reloperl-tDsm/bin/perl
    $UID/$EUID = 1005 / 1005
    $GID = 1005 1005
    $EGID = 1005 1005

Perl module toolchain versions installed:

    Module              Have      
    ------------------- ----------
    CPAN                2.20      
    CPAN::Meta          2.150010  
    Cwd                 3.74      
    ExtUtils::CBuilder  0.280230  
    ExtUtils::Command   7.34      
    ExtUtils::Install   2.06      
    ExtUtils::MakeMaker 7.34      
    ExtUtils::Manifest  1.70      
    ExtUtils::ParseXS   3.34      
    File::Spec          3.74      
    JSON                2.97001   
    JSON::PP            2.27400_02
    Module::Build       0.4224    
    Module::Signature   0.81      
    Parse::CPAN::Meta   2.150010  
    Test::Harness       3.42      
    Test::More          1.302136  
    YAML                1.26      
    YAML::Syck          1.30      
    version             0.9917    


--

Summary of my perl5 (revision 5 version 26 subversion 2) configuration:
  Commit id: c5b1997939178730653db9e80f90cd53d722fe8d
  Platform:
    osname=linux
    osvers=4.16.0-2-amd64
    archname=x86_64-linux
    uname='linux k93x64sid 4.16.0-2-amd64 #1 smp debian 4.16.12-1 (2018-05-27) x86_64 gnulinux '
    config_args='-Dprefix=/home/sand/src/perl/repoperls/installed-perls/host/k93x64sid/v5.26.2/2992 -Dmyhostname=k93x64sid -Dinstallusrbinperl=n -Uversiononly -Dusedevel -des -Ui_db -Dlibswanted=cl pthread socket inet nsl gdbm dbm malloc dl ld sun m crypt sec util c cposix posix ucb BSD gdbm_compat -Uuseithreads -Uuselongdouble -DEBUGGING=-g'
    hint=recommended
    useposix=true
    d_sigaction=define
    useithreads=undef
    usemultiplicity=undef
    use64bitint=define
    use64bitall=define
    uselongdouble=undef
    usemymalloc=n
    default_inc_excludes_dot=define
    bincompat5005=undef
  Compiler:
    cc='cc'
    ccflags ='-fwrapv -fno-strict-aliasing -pipe -fstack-protector-strong -I/usr/local/include -D_LARGEFILE_SOURCE -D_FILE_OFFSET_BITS=64 -D_FORTIFY_SOURCE=2'
    optimize='-O2 -g'
    cppflags='-fwrapv -fno-strict-aliasing -pipe -fstack-protector-strong -I/usr/local/include'
    ccversion=''
    gccversion='7.3.0'
    gccosandvers=''
    intsize=4
    longsize=8
    ptrsize=8
    doublesize=8
    byteorder=12345678
    doublekind=3
    d_longlong=define
    longlongsize=8
    d_longdbl=define
    longdblsize=16
    longdblkind=3
    ivtype='long'
    ivsize=8
    nvtype='double'
    nvsize=8
    Off_t='off_t'
    lseeksize=8
    alignbytes=8
    prototype=define
  Linker and Libraries:
    ld='cc'
    ldflags =' -fstack-protector-strong -L/usr/local/lib'
    libpth=/usr/local/lib /usr/lib/gcc/x86_64-linux-gnu/7/include-fixed /usr/include/x86_64-linux-gnu /usr/lib /lib/x86_64-linux-gnu /lib/../lib /usr/lib/x86_64-linux-gnu /usr/lib/../lib /lib
    libs=-lpthread -lnsl -ldl -lm -lcrypt -lutil -lc
    perllibs=-lpthread -lnsl -ldl -lm -lcrypt -lutil -lc
    libc=libc-2.27.so
    so=so
    useshrplib=false
    libperl=libperl.a
    gnulibc_version='2.27'
  Dynamic Linking:
    dlsrc=dl_dlopen.xs
    dlext=so
    d_dlsymun=undef
    ccdlflags='-Wl,-E'
    cccdlflags='-fPIC'
    lddlflags='-shared -O2 -g -L/usr/local/lib -fstack-protector-strong'


Characteristics of this binary (from libperl): 
  Compile-time options:
    HAS_TIMES
    PERLIO_LAYERS
    PERL_COPY_ON_WRITE
    PERL_DONT_CREATE_GVSV
    PERL_MALLOC_WRAP
    PERL_OP_PARENT
    PERL_PRESERVE_IVUV
    PERL_USE_DEVEL
    USE_64_BIT_ALL
    USE_64_BIT_INT
    USE_LARGE_FILES
    USE_LOCALE
    USE_LOCALE_COLLATE
    USE_LOCALE_CTYPE
    USE_LOCALE_NUMERIC
    USE_LOCALE_TIME
    USE_PERLIO
    USE_PERL_ATOF
  Built under linux
  Compiled at Jun  3 2018 04:40:14
  %ENV:
    PERL5LIB=""
    PERL5OPT=""
    PERL5_CPANPLUS_IS_RUNNING="20394"
    PERL5_CPAN_IS_RUNNING="20394"
    PERL_CANARY_STABILITY_NOPROMPT="1"
    PERL_MM_USE_DEFAULT="1"
    PERL_USE_UNSAFE_INC="1"
  @INC:
    /home/sand/src/perl/repoperls/installed-perls/host/k93x64sid/v5.26.2/2992/lib/site_perl/5.26.2/x86_64-linux
    /home/sand/src/perl/repoperls/installed-perls/host/k93x64sid/v5.26.2/2992/lib/site_perl/5.26.2
    /home/sand/src/perl/repoperls/installed-perls/host/k93x64sid/v5.26.2/2992/lib/5.26.2/x86_64-linux
    /home/sand/src/perl/repoperls/installed-perls/host/k93x64sid/v5.26.2/2992/lib/5.26.2
    .