Report for Catalyst-DispatchType-Regex-5.90033

Back
From: metabase:user:30f4dfbe-2aae-11df-837a-5e0a49663a4f
Subject: UNKNOWN Catalyst-DispatchType-Regex-5.90033 v5.8.9 GNU/Linux
Date: 2013-07-04T07:22:58Z

This distribution has been tested as part of the CPAN Testers
project, supporting the Perl programming language.  See
http://wiki.cpantesters.org/ for more information or email
questions to cpan-testers-discuss@perl.org


--
Dear Mark Grimes,

This is a computer-generated report for Catalyst-DispatchType-Regex-5.90033
on perl 5.8.9, created by CPAN-Reporter-1.2010.

Thank you for uploading your work to CPAN.  However, attempting to
test your distribution gave an inconclusive result.

This could be because your distribution had an error during the make/build
stage, did not define tests, tests could not be found, because your tests were
interrupted before they finished, or because the results of the tests could not
be parsed.  You may wish to consult the CPAN Testers Wiki:

http://wiki.cpantesters.org/wiki/CPANAuthorNotes

Sections of this report:

    * Tester comments
    * Program output
    * Prerequisites
    * Environment and other context

------------------------------
TESTER COMMENTS
------------------------------

Additional comments from tester:

this report is from an automated smoke testing program
and was not reviewed by a human for accuracy

------------------------------
PROGRAM OUTPUT
------------------------------

Output from './Build test':

Use of uninitialized value in length at /home/njh/.cpan/build/Module-Build-0.4005-es9CxN/blib/lib/Module/Build/Base.pm line 2774.
t/01use.t .............................................. skipped: Catalyst::Runtime required
t/aggregate/live_component_controller_action_regexp.t .. skipped: Catalyst::Runtime required
t/aggregate/live_priorities.t .......................... skipped: Catalyst::Runtime required
t/aggregate/unit_core_uri_for_action.t ................. skipped: Catalyst::Runtime required
Files=4, Tests=0,  0 wallclock secs ( 0.03 usr  0.00 sys +  0.06 cusr  0.00 csys =  0.09 CPU)
Result: NOTESTS

------------------------------
PREREQUISITES
------------------------------

Prerequisite modules loaded:

requires:

    Module               Need   Have  
    -------------------- ------ ------
    Moose                0      2.0801
    Text::Balanced       0      1.98  
    Text::SimpleTable    0      2.03  

build_requires:

    Module               Need   Have  
    -------------------- ------ ------
    Data::Dumper         0      2.145 
    MRO::Compat          0      0.12  
    namespace::autoclean 0      0.13  
    Scalar::Util         0      1.27  
    Test::More           0      0.98  

configure_requires:

    Module               Need   Have  
    -------------------- ------ ------
    Module::Build        0.4004 0.4005


------------------------------
ENVIRONMENT AND OTHER CONTEXT
------------------------------

Environment variables:

    AUTOMATED_TESTING = 1
    LANG = en_GB.UTF-8
    LANGUAGE = en_GB:en
    LC_ADDRESS = en_GB.UTF-8
    LC_IDENTIFICATION = en_GB.UTF-8
    LC_MEASUREMENT = en_GB.UTF-8
    LC_MONETARY = en_GB.UTF-8
    LC_NAME = en_GB.UTF-8
    LC_NUMERIC = en_GB.UTF-8
    LC_PAPER = en_GB.UTF-8
    LC_TELEPHONE = en_GB.UTF-8
    LC_TIME = en_GB.UTF-8
    LD_LIBRARY_PATH = /usr/local/lib::
    PATH = /home/njh/perl5/perlbrew/bin:/home/njh/perl5/perlbrew/perls/perl-5.8.9/bin:/home/njh/perl5/perlbrew/bin:/usr/local/bin:/usr/bin:/bin:/usr/local/games:/usr/games:/home/njh/bin:/sbin
    PERL5LIB = /home/njh/.cpan/build/Text-SimpleTable-2.03-ksAeHE/blib/arch:/home/njh/.cpan/build/Text-SimpleTable-2.03-ksAeHE/blib/lib:/home/njh/.cpan/build/namespace-autoclean-0.13-nH5W2E/blib/arch:/home/njh/.cpan/build/namespace-autoclean-0.13-nH5W2E/blib/lib:/home/njh/.cpan/build/Module-Build-0.4005-es9CxN/blib/arch:/home/njh/.cpan/build/Module-Build-0.4005-es9CxN/blib/lib:/home/njh/.cpan/build/Scalar-List-Utils-1.27-PdUspW/blib/arch:/home/njh/.cpan/build/Scalar-List-Utils-1.27-PdUspW/blib/lib:/home/njh/.cpan/build/Test-use-ok-0.11-btVZ_S/blib/arch:/home/njh/.cpan/build/Test-use-ok-0.11-btVZ_S/blib/lib:/home/njh/.cpan/build/UUID-Random-0.04-t2EvOQ/blib/arch:/home/njh/.cpan/build/UUID-Random-0.04-t2EvOQ/blib/lib
    PERL5OPT = 
    PERL5_CPANPLUS_IS_RUNNING = 8995
    PERL5_CPAN_IS_RUNNING = 8995
    PERL5_MINISMOKEBOX = 0.56
    PERLBREW_BASHRC_VERSION = 0.58
    PERLBREW_HOME = /home/njh/.perlbrew
    PERLBREW_MANPATH = /home/njh/perl5/perlbrew/perls/perl-5.8.9/man
    PERLBREW_PATH = /home/njh/perl5/perlbrew/bin:/home/njh/perl5/perlbrew/perls/perl-5.8.9/bin
    PERLBREW_PERL = perl-5.8.9
    PERLBREW_ROOT = /home/njh/perl5/perlbrew
    PERLBREW_VERSION = 0.64
    PERL_EXTUTILS_AUTOINSTALL = --defaultdeps
    PERL_MM_USE_DEFAULT = 1
    SHELL = /bin/bash
    TERM = linux

Perl special variables (and OS-specific diagnostics, for MSWin32):

    $^X = /home/njh/perl5/perlbrew/perls/perl-5.8.9/bin/perl
    $UID/$EUID = 1000 / 1000
    $GID = 1000 24 25 29 30 44 46 108 112 1000
    $EGID = 1000 24 25 29 30 44 46 108 112 1000

Perl module toolchain versions installed:

    Module              Have    
    ------------------- --------
    CPAN                2.00    
    CPAN::Meta          2.130880
    Cwd                 3.40    
    ExtUtils::CBuilder  0.280205
    ExtUtils::Command   1.16    
    ExtUtils::Install   1.54    
    ExtUtils::MakeMaker 6.68    
    ExtUtils::Manifest  1.60    
    ExtUtils::ParseXS   3.18    
    File::Spec          3.40    
    JSON                2.53    
    JSON::PP            2.27200 
    Module::Build       0.4005  
    Module::Signature   0.70    
    Parse::CPAN::Meta   1.4404  
    Test::Harness       3.26    
    Test::More          0.98    
    YAML                0.84    
    YAML::Syck          1.27    
    version             0.88    


--

Summary of my perl5 (revision 5 version 8 subversion 9) configuration:
  Platform:
    osname=linux, osvers=3.2.0-4-amd64, archname=x86_64-linux-thread-multi
    uname='linux nigelhorne.force9.co.uk 3.2.0-4-amd64 #1 smp debian 3.2.32-1 x86_64 gnulinux '
    config_args='-de -Dprefix=/home/njh/perl5/perlbrew/perls/perl-5.8.9 -Duseithreads -Dusemultiplicity -Accflags=-O2 -W -Wformat=2 -Wswitch -Wshadow -Wwrite-strings -Wuninitialized -Wall -pipe -mtune=native -march=native -fomit-frame-pointer -mfpmath=sse -pedantic -D_FORTIFY_SOURCE=2 -Wpointer-arith -Wstrict-prototypes -fstack-protector -Wstack-protector -Wextra -Wbad-function-cast -Wcast-align -Wcast-qual -Wdisabled-optimization -Wendif-labels -Wfloat-equal -Wformat-nonliteral -Winline -Wmissing-declarations -Wmissing-prototypes -Wnested-externs -Wpointer-arith -Wundef -Wformat-security -Aeval:scriptdir=/home/njh/perl5/perlbrew/perls/perl-5.8.9/bin'
    hint=recommended, useposix=true, d_sigaction=define
    usethreads=define use5005threads=undef useithreads=define usemultiplicity=define
    useperlio=define d_sfio=undef uselargefiles=define usesocks=undef
    use64bitint=define use64bitall=define uselongdouble=undef
    usemymalloc=n, bincompat5005=undef
  Compiler:
    cc='cc', ccflags ='-D_REENTRANT -D_GNU_SOURCE -O2 -W -Wformat=2 -Wswitch -Wshadow -Wwrite-strings -Wuninitialized -Wall -pipe -mtune=native -march=native -fomit-frame-pointer -mfpmath=sse -pedantic -D_FORTIFY_SOURCE=2 -Wpointer-arith -Wstrict-prototypes -fstack-protector -Wstack-protector -Wextra -Wbad-function-cast -Wcast-align -Wcast-qual -Wdisabled-optimization -Wendif-labels -Wfloat-equal -Wformat-nonliteral -Winline -Wmissing-declarations -Wmissing-prototypes -Wnested-externs -Wpointer-arith -Wundef -Wformat-security -fno-strict-aliasing -I/usr/local/include -D_LARGEFILE_SOURCE -D_FILE_OFFSET_BITS=64',
    optimize='-O2',
    cppflags='-D_REENTRANT -D_GNU_SOURCE -O2 -W -Wformat=2 -Wswitch -Wshadow -Wwrite-strings -Wuninitialized -Wall -pipe -mtune=native -march=native -fomit-frame-pointer -mfpmath=sse -pedantic -D_FORTIFY_SOURCE=2 -Wpointer-arith -Wstrict-prototypes -fstack-protector -Wstack-protector -Wextra -Wbad-function-cast -Wcast-align -Wcast-qual -Wdisabled-optimization -Wendif-labels -Wfloat-equal -Wformat-nonliteral -Winline -Wmissing-declarations -Wmissing-prototypes -Wnested-externs -Wpointer-arith -Wundef -Wformat-security -fno-strict-aliasing -I/usr/local/include'
    ccversion='', gccversion='4.7.2', gccosandvers=''
    intsize=4, longsize=8, ptrsize=8, doublesize=8, byteorder=12345678
    d_longlong=define, longlongsize=8, d_longdbl=define, longdblsize=16
    ivtype='long', ivsize=8, nvtype='double', nvsize=8, Off_t='off_t', lseeksize=8
    alignbytes=8, prototype=define
  Linker and Libraries:
    ld='cc', ldflags =' -L/usr/local/lib'
    libpth=/usr/local/lib /lib/x86_64-linux-gnu /lib/../lib /usr/lib/x86_64-linux-gnu /usr/lib/../lib /lib /usr/lib
    libs=-lnsl -lgdbm -ldb -ldl -lm -lcrypt -lutil -lpthread -lc -lgdbm_compat
    perllibs=-lnsl -ldl -lm -lcrypt -lutil -lpthread -lc -lgdbm_compat
    libc=, so=so, useshrplib=false, libperl=libperl.a
    gnulibc_version='2.13'
  Dynamic Linking:
    dlsrc=dl_dlopen.xs, dlext=so, d_dlsymun=undef, ccdlflags='-Wl,-E'
    cccdlflags='-fPIC', lddlflags='-shared -O2 -L/usr/local/lib'


Characteristics of this binary (from libperl): 
  Compile-time options: MULTIPLICITY PERL_IMPLICIT_CONTEXT PERL_MALLOC_WRAP
                        USE_64_BIT_ALL USE_64_BIT_INT USE_FAST_STDIO
                        USE_ITHREADS USE_LARGE_FILES USE_PERLIO
                        USE_REENTRANT_API
  Built under linux
  Compiled at Mar  5 2013 01:33:15
  %ENV:
    PERL5LIB="/home/njh/.cpan/build/Text-SimpleTable-2.03-ksAeHE/blib/arch:/home/njh/.cpan/build/Text-SimpleTable-2.03-ksAeHE/blib/lib:/home/njh/.cpan/build/namespace-autoclean-0.13-nH5W2E/blib/arch:/home/njh/.cpan/build/namespace-autoclean-0.13-nH5W2E/blib/lib:/home/njh/.cpan/build/Module-Build-0.4005-es9CxN/blib/arch:/home/njh/.cpan/build/Module-Build-0.4005-es9CxN/blib/lib:/home/njh/.cpan/build/Scalar-List-Utils-1.27-PdUspW/blib/arch:/home/njh/.cpan/build/Scalar-List-Utils-1.27-PdUspW/blib/lib:/home/njh/.cpan/build/Test-use-ok-0.11-btVZ_S/blib/arch:/home/njh/.cpan/build/Test-use-ok-0.11-btVZ_S/blib/lib:/home/njh/.cpan/build/UUID-Random-0.04-t2EvOQ/blib/arch:/home/njh/.cpan/build/UUID-Random-0.04-t2EvOQ/blib/lib"
    PERL5OPT=""
    PERL5_CPANPLUS_IS_RUNNING="8995"
    PERL5_CPAN_IS_RUNNING="8995"
    PERL5_MINISMOKEBOX="0.56"
    PERLBREW_BASHRC_VERSION="0.58"
    PERLBREW_HOME="/home/njh/.perlbrew"
    PERLBREW_MANPATH="/home/njh/perl5/perlbrew/perls/perl-5.8.9/man"
    PERLBREW_PATH="/home/njh/perl5/perlbrew/bin:/home/njh/perl5/perlbrew/perls/perl-5.8.9/bin"
    PERLBREW_PERL="perl-5.8.9"
    PERLBREW_ROOT="/home/njh/perl5/perlbrew"
    PERLBREW_VERSION="0.64"
    PERL_EXTUTILS_AUTOINSTALL="--defaultdeps"
    PERL_MM_USE_DEFAULT="1"
  @INC:
    /home/njh/.cpan/build/Text-SimpleTable-2.03-ksAeHE/blib/arch
    /home/njh/.cpan/build/Text-SimpleTable-2.03-ksAeHE/blib/lib
    /home/njh/.cpan/build/namespace-autoclean-0.13-nH5W2E/blib/arch
    /home/njh/.cpan/build/namespace-autoclean-0.13-nH5W2E/blib/lib
    /home/njh/.cpan/build/Module-Build-0.4005-es9CxN/blib/arch
    /home/njh/.cpan/build/Module-Build-0.4005-es9CxN/blib/lib
    /home/njh/.cpan/build/Scalar-List-Utils-1.27-PdUspW/blib/arch
    /home/njh/.cpan/build/Scalar-List-Utils-1.27-PdUspW/blib/lib
    /home/njh/.cpan/build/Test-use-ok-0.11-btVZ_S/blib/arch
    /home/njh/.cpan/build/Test-use-ok-0.11-btVZ_S/blib/lib
    /home/njh/.cpan/build/UUID-Random-0.04-t2EvOQ/blib/arch
    /home/njh/.cpan/build/UUID-Random-0.04-t2EvOQ/blib/lib
    /home/njh/perl5/perlbrew/perls/perl-5.8.9/lib/5.8.9/x86_64-linux-thread-multi
    /home/njh/perl5/perlbrew/perls/perl-5.8.9/lib/5.8.9
    /home/njh/perl5/perlbrew/perls/perl-5.8.9/lib/site_perl/5.8.9/x86_64-linux-thread-multi
    /home/njh/perl5/perlbrew/perls/perl-5.8.9/lib/site_perl/5.8.9
    .