Report for Text-Diff-1.44

Back
From: metabase:user:3138bf04-2aae-11df-837a-5e0a49663a4f
Subject: PASS Text-Diff-1.44 v5.22.0 GNU/Linux
Date: 2016-02-28T01:14:02Z

This distribution has been tested as part of the CPAN Testers
project, supporting the Perl programming language.  See
http://wiki.cpantesters.org/ for more information or email
questions to cpan-testers-discuss@perl.org


--
Dear Neil Bowers,

This is a computer-generated report for Text-Diff-1.44
on perl 5.22.0, created by CPAN-Reporter-1.2015.

Thank you for uploading your work to CPAN.  Congratulations!
All tests were successful.

Sections of this report:

    * Tester comments
    * Program output
    * Prerequisites
    * Environment and other context

------------------------------
TESTER COMMENTS
------------------------------

Additional comments from tester:

none provided

------------------------------
PROGRAM OUTPUT
------------------------------

Output from '/usr/bin/make test':

PERL_DL_NONLAZY=1 "/usr/local/bin/perl" "-MExtUtils::Command::MM" "-MTest::Harness" "-e" "undef *Test::Harness::Switches; test_harness(0, 'blib/lib', 'blib/arch')" t/*.t
t/97_meta.t ..... skipped: Author tests not required for installation
t/98_pod.t ...... skipped: Author tests not required for installation
t/99_pmv.t ...... skipped: Author tests not required for installation
t/ext_format.t .. ok
t/general.t ..... ok
t/inputs.t ...... ok
t/keygen.t ...... ok
t/outputs.t ..... ok
t/table.t ....... ok
All tests successful.
Files=9, Tests=33,  1 wallclock secs ( 0.06 usr  0.02 sys +  0.38 cusr  0.02 csys =  0.48 CPU)
Result: PASS

------------------------------
PREREQUISITES
------------------------------

Prerequisite modules loaded:

requires:

    Module              Need  Have    
    ------------------- ----- --------
    Algorithm::Diff     1.19  1.1903  
    Exporter            0     5.72    
    perl                5.006 5.022000

build_requires:

    Module              Need  Have    
    ------------------- ----- --------
    ExtUtils::MakeMaker 0     7.10    

configure_requires:

    Module              Need  Have    
    ------------------- ----- --------
    ExtUtils::MakeMaker 0     7.10    


------------------------------
ENVIRONMENT AND OTHER CONTEXT
------------------------------

Environment variables:

    LANG = en_US.UTF-8
    LANGUAGE = en_US:en
    PATH = /usr/local/sbin:/usr/local/bin:/usr/sbin:/usr/bin:/sbin:/bin
    PERL5LIB = 
    PERL5OPT = 
    PERL5_CPANPLUS_IS_RUNNING = 16181
    PERL5_CPAN_IS_RUNNING = 16181
    SHELL = /bin/bash
    TERM = unknown

Perl special variables (and OS-specific diagnostics, for MSWin32):

    $^X = /usr/local/bin/perl
    $UID/$EUID = 0 / 0
    $GID = 0 0
    $EGID = 0 0

Perl module toolchain versions installed:

    Module              Have    
    ------------------- --------
    CPAN                2.11    
    CPAN::Meta          2.150005
    Cwd                 3.62    
    ExtUtils::CBuilder  0.280224
    ExtUtils::Command   7.10    
    ExtUtils::Install   2.04    
    ExtUtils::MakeMaker 7.10    
    ExtUtils::Manifest  1.70    
    ExtUtils::ParseXS   3.30    
    File::Spec          3.62    
    JSON                2.90    
    JSON::PP            2.27300 
    Module::Build       0.4216  
    Module::Signature   0.79    
    Parse::CPAN::Meta   1.4417  
    Test::Harness       3.36    
    Test::More          1.001014
    YAML                1.15    
    YAML::Syck          1.29    
    version             0.9914  


--

Summary of my perl5 (revision 5 version 22 subversion 0) configuration:
   
  Platform:
    osname=linux, osvers=4.3.0.20151114, archname=i686-linux
    uname='linux brieneno 4.3.0.20151114 #1 smp sat nov 14 13:18:30 cet 2015 i686 gnulinux '
    config_args='-de -Dcc=gcc -Dinc_version_list=none'
    hint=previous, useposix=true, d_sigaction=define
    useithreads=undef, usemultiplicity=undef
    use64bitint=undef, use64bitall=undef, uselongdouble=undef
    usemymalloc=n, bincompat5005=undef
  Compiler:
    cc='gcc', ccflags ='-fwrapv -fno-strict-aliasing -pipe -fstack-protector-strong -I/usr/local/include -D_LARGEFILE_SOURCE -D_FILE_OFFSET_BITS=64',
    optimize='-O2',
    cppflags='-fwrapv -fno-strict-aliasing -pipe -fstack-protector-strong -I/usr/local/include -fwrapv -fno-strict-aliasing -pipe -fstack-protector-strong -I/usr/local/include -D_LARGEFILE_SOURCE -D_FILE_OFFSET_BITS=64'
    ccversion='', gccversion='5.1.0', gccosandvers=''
    intsize=4, longsize=4, ptrsize=4, doublesize=8, byteorder=1234, doublekind=3
    d_longlong=define, longlongsize=8, d_longdbl=define, longdblsize=12, longdblkind=3
    ivtype='long', ivsize=4, nvtype='double', nvsize=8, Off_t='off_t', lseeksize=8
    alignbytes=4, prototype=define
  Linker and Libraries:
    ld='gcc', ldflags =' -fstack-protector-strong -L/usr/local/lib'
    libpth=/usr/local/lib /usr/local/lib/gcc/i686-pc-linux-gnu/5.1.0/include-fixed /usr/include/i386-linux-gnu /usr/lib /lib/i386-linux-gnu /lib/../lib /usr/lib/i386-linux-gnu /usr/lib/../lib /lib /lib64 /usr/lib64 /usr/local/lib /usr/local/lib/gcc/i686-pc-linux-gnu/5.1.0/include-fixed /usr/include/i386-linux-gnu /usr/lib
    libs=-lpthread -lnsl -ldl -lm -lcrypt -lutil -lc
    perllibs=-lpthread -lnsl -ldl -lm -lcrypt -lutil -lc
    libc=libc-2.19.so, so=so, useshrplib=false, libperl=libperl.a
    gnulibc_version='2.19'
  Dynamic Linking:
    dlsrc=dl_dlopen.xs, dlext=so, d_dlsymun=undef, ccdlflags='-Wl,-E'
    cccdlflags='-fPIC', lddlflags='-shared -O2 -L/usr/local/lib -fstack-protector-strong'


Characteristics of this binary (from libperl): 
  Compile-time options: HAS_TIMES PERLIO_LAYERS PERL_DONT_CREATE_GVSV
                        PERL_HASH_FUNC_ONE_AT_A_TIME_HARD PERL_MALLOC_WRAP
                        PERL_NEW_COPY_ON_WRITE PERL_PRESERVE_IVUV
                        USE_LARGE_FILES USE_LOCALE USE_LOCALE_COLLATE
                        USE_LOCALE_CTYPE USE_LOCALE_NUMERIC USE_LOCALE_TIME
                        USE_PERLIO USE_PERL_ATOF
  Built under linux
  Compiled at Nov 21 2015 16:51:04
  %ENV:
    PERL5LIB=""
    PERL5OPT=""
    PERL5_CPANPLUS_IS_RUNNING="16181"
    PERL5_CPAN_IS_RUNNING="16181"
  @INC:
    /usr/local/lib/perl5/site_perl/5.22.0/i686-linux
    /usr/local/lib/perl5/site_perl/5.22.0
    /usr/local/lib/perl5/5.22.0/i686-linux
    /usr/local/lib/perl5/5.22.0
    /usr/local/lib/perl5/site_perl/5.20.2
    /usr/local/lib/perl5/site_perl/5.20.1
    /usr/local/lib/perl5/site_perl/5.20.0
    /usr/local/lib/perl5/site_perl/5.18.1
    /usr/local/lib/perl5/site_perl/5.18.0
    /usr/local/lib/perl5/site_perl/5.16.3
    /usr/local/lib/perl5/site_perl/5.16.2
    /usr/local/lib/perl5/site_perl/5.16.1
    /usr/local/lib/perl5/site_perl/5.16.0
    /usr/local/lib/perl5/site_perl/5.14.2
    /usr/local/lib/perl5/site_perl
    .