Format-Util v0.13 Perl 5 v5.27.8 x86_64-linux
- Status
- Pass
- From
- Slaven Rezić (SREZIC)
- Dist
-
Format-Util v0.13
- Platform
- Perl 5 v5.27.8 x86_64-linux
- Date
- 2018-01-20 19:53:15
- ID
- 8de82f70-fe1b-11e7-bf9d-b075ce6d0aa7
This distribution has been tested as part of the CPAN Testers
project, supporting the Perl programming language. See
http://wiki.cpantesters.org/ for more information or email
questions to cpan-testers-discuss@perl.org
--
Dear Binary.com,
This is a computer-generated report for Format-Util-0.13
on perl 5.27.8, created by CPAN-Reporter-1.2018.
Thank you for uploading your work to CPAN. Congratulations!
All tests were successful.
Sections of this report:
* Tester comments
* Program output
* Prerequisites
* Environment and other context
------------------------------
TESTER COMMENTS
------------------------------
Additional comments from tester:
none provided
------------------------------
PROGRAM OUTPUT
------------------------------
Output from 'make test':
Skip blib/lib/auto/share/dist/Format-Util/precision.yml (unchanged)
PERL_DL_NONLAZY=1 "/opt/perl-5.27.8/bin/perl5.27.8" "-MExtUtils::Command::MM" "-MTest::Harness" "-e" "undef *Test::Harness::Switches; test_harness(0, 'blib/lib', 'blib/arch')" t/*.t
t/00-check-deps.t ...... ok
t/00-compile.t ......... ok
#
# Versions for all modules listed in MYMETA.json (including optional ones):
#
# === Configure Requires ===
#
# Module Want Have
# ----------------------- ---- ----
# ExtUtils::MakeMaker 6.48 7.30
# File::ShareDir::Install 0.06 0.11
#
# === Build Requires ===
#
# Module Want Have
# ------------------- ---- ----
# ExtUtils::MakeMaker any 7.30
#
# === Test Requires ===
#
# Module Want Have
# ------------------- ----- --------
# ExtUtils::MakeMaker any 7.30
# File::Spec any 3.72
# IO::Handle any 1.37
# IPC::Open3 any 1.20
# Test::CheckDeps 0.010 0.010
# Test::Exception any 0.43
# Test::More 0.94 1.302120
# Test::NoWarnings any 1.04
#
# === Test Recommends ===
#
# Module Want Have
# ---------- -------- --------
# CPAN::Meta 2.120900 2.150010
#
# === Runtime Requires ===
#
# Module Want Have
# -------------- ---- --------
# Encode any 2.94
# File::ShareDir any 1.104
# Math::BigFloat any 1.999811
# Math::BigInt any 1.999811
# POSIX any 1.81
# Scalar::Util any 1.49
# YAML::XS any 0.69
#
t/00-report-prereqs.t .. ok
t/boilerplate.t ........ ok
t/Numbers.t ............ ok
t/Strings.t ............ ok
All tests successful.
Test Summary Report
-------------------
t/boilerplate.t (Wstat: 0 Tests: 3 Failed: 0)
TODO passed: 1-2
Files=6, Tests=38, 2 wallclock secs ( 0.05 usr 0.08 sys + 0.90 cusr 0.22 csys = 1.25 CPU)
Result: PASS
------------------------------
PREREQUISITES
------------------------------
Prerequisite modules loaded:
requires:
Module Need Have
----------------------- -------- --------
Encode 0 2.94
File::ShareDir 0 1.104
Math::BigFloat 0 1.999811
Math::BigInt 0 1.999811
perl 5.014000 5.027008
POSIX 0 1.81
Scalar::Util 0 1.49
YAML::XS 0 0.69
build_requires:
Module Need Have
----------------------- -------- --------
ExtUtils::MakeMaker 0 7.30
File::Spec 0 3.72
IO::Handle 0 1.37
IPC::Open3 0 1.20
Test::CheckDeps 0.010 0.010
Test::Exception 0 0.43
Test::More 0.94 1.302120
Test::NoWarnings 0 1.04
configure_requires:
Module Need Have
----------------------- -------- --------
ExtUtils::MakeMaker 6.48 7.30
File::ShareDir::Install 0.06 0.11
------------------------------
ENVIRONMENT AND OTHER CONTEXT
------------------------------
Environment variables:
LANG = en_US.UTF-8
PATH = /usr/local/bin:/usr/bin:/bin:/usr/local/sbin:/usr/sbin:/sbin:/home/cpansand/bin/linux-gnu:/home/cpansand/bin/sh:/home/cpansand/bin:/usr/games:/home/cpansand/devel:/home/eserte/src/srezic-misc/scripts
PERL5LIB = /home/cpansand/.cpan/build/2018012015/Cache-RedisDB-0.12-0/blib/arch:/home/cpansand/.cpan/build/2018012015/Cache-RedisDB-0.12-0/blib/lib
PERL5OPT =
PERL5_CPANPLUS_IS_RUNNING = 25834
PERL5_CPAN_IS_RUNNING = 25834
PERL5_CPAN_IS_RUNNING_IN_RECURSION = 15634,25834
PERLDOC = -MPod::Perldoc::ToTextOverstrike
PERL_BATCH = yes
PERL_CANARY_STABILITY_NOPROMPT = 1
PERL_CPAN_REPORTER_CONFIG = /var/tmp/cpansmoker-1023/2018012012/cpanreporter_000_config.ini
PERL_EXTUTILS_AUTOINSTALL = --defaultdeps
PERL_USE_UNSAFE_INC = 1
SHELL = /bin/zsh
TERM = screen
TMPDIR = /var/tmp/cpansmoker-1023/2018012012
Perl special variables (and OS-specific diagnostics, for MSWin32):
$^X = /opt/perl-5.27.8/bin/perl5.27.8
$UID/$EUID = 1023 / 1023
$GID = 1023 1023
$EGID = 1023 1023
Perl module toolchain versions installed:
Module Have
------------------- --------
CPAN 2.20
CPAN::Meta 2.150010
Cwd 3.72
ExtUtils::CBuilder 0.280230
ExtUtils::Command 7.30
ExtUtils::Install 2.14
ExtUtils::MakeMaker 7.30
ExtUtils::Manifest 1.70
ExtUtils::ParseXS 3.36
File::Spec 3.72
JSON 2.97001
JSON::PP 2.97001
Module::Build 0.4224
Module::Signature 0.81
Parse::CPAN::Meta 2.150010
Test::Harness 3.39
Test::More 1.302120
YAML 1.24
YAML::Syck 1.30
version 0.9918
--
Summary of my perl5 (revision 5 version 27 subversion 8) configuration:
Platform:
osname=linux
osvers=2.6.32-696.3.1.el6.x86_64
archname=x86_64-linux
uname='linux centos6 2.6.32-696.3.1.el6.x86_64 #1 smp tue may 30 19:52:55 utc 2017 x86_64 x86_64 x86_64 gnulinux '
config_args='-ds -e -Dprefix=/opt/perl-5.27.8 -Dusedevel -Dusemallocwrap=no -Dcf_email=srezic@cpan.org'
hint=recommended
useposix=true
d_sigaction=define
useithreads=undef
usemultiplicity=undef
use64bitint=define
use64bitall=define
uselongdouble=undef
usemymalloc=n
default_inc_excludes_dot=define
bincompat5005=undef
Compiler:
cc='cc'
ccflags ='-fwrapv -fno-strict-aliasing -pipe -fstack-protector -I/usr/local/include -D_LARGEFILE_SOURCE -D_FILE_OFFSET_BITS=64 -D_FORTIFY_SOURCE=2'
optimize='-O2'
cppflags='-fwrapv -fno-strict-aliasing -pipe -fstack-protector -I/usr/local/include'
ccversion=''
gccversion='4.4.7 20120313 (Red Hat 4.4.7-18)'
gccosandvers=''
intsize=4
longsize=8
ptrsize=8
doublesize=8
byteorder=12345678
doublekind=3
d_longlong=define
longlongsize=8
d_longdbl=define
longdblsize=16
longdblkind=3
ivtype='long'
ivsize=8
nvtype='double'
nvsize=8
Off_t='off_t'
lseeksize=8
alignbytes=8
prototype=define
Linker and Libraries:
ld='cc'
ldflags =' -fstack-protector -L/usr/local/lib'
libpth=/usr/local/lib /usr/lib /lib/../lib64 /usr/lib/../lib64 /lib /lib64 /usr/lib64 /usr/local/lib64
libs=-lpthread -lnsl -lgdbm -ldb -ldl -lm -lcrypt -lutil -lc
perllibs=-lpthread -lnsl -ldl -lm -lcrypt -lutil -lc
libc=libc-2.12.so
so=so
useshrplib=false
libperl=libperl.a
gnulibc_version='2.12'
Dynamic Linking:
dlsrc=dl_dlopen.xs
dlext=so
d_dlsymun=undef
ccdlflags='-Wl,-E'
cccdlflags='-fPIC'
lddlflags='-shared -O2 -L/usr/local/lib -fstack-protector'
Characteristics of this binary (from libperl):
Compile-time options:
HAS_TIMES
PERLIO_LAYERS
PERL_COPY_ON_WRITE
PERL_DONT_CREATE_GVSV
PERL_OP_PARENT
PERL_PRESERVE_IVUV
PERL_USE_DEVEL
USE_64_BIT_ALL
USE_64_BIT_INT
USE_LARGE_FILES
USE_LOCALE
USE_LOCALE_COLLATE
USE_LOCALE_CTYPE
USE_LOCALE_NUMERIC
USE_LOCALE_TIME
USE_PERLIO
USE_PERL_ATOF
Built under linux
Compiled at Jan 20 2018 08:22:23
%ENV:
PERL5LIB="/home/cpansand/.cpan/build/2018012015/Cache-RedisDB-0.12-0/blib/arch:/home/cpansand/.cpan/build/2018012015/Cache-RedisDB-0.12-0/blib/lib"
PERL5OPT=""
PERL5_CPANPLUS_IS_RUNNING="25834"
PERL5_CPAN_IS_RUNNING="25834"
PERL5_CPAN_IS_RUNNING_IN_RECURSION="15634,25834"
PERLDOC="-MPod::Perldoc::ToTextOverstrike"
PERL_BATCH="yes"
PERL_CANARY_STABILITY_NOPROMPT="1"
PERL_CPAN_REPORTER_CONFIG="/var/tmp/cpansmoker-1023/2018012012/cpanreporter_000_config.ini"
PERL_EXTUTILS_AUTOINSTALL="--defaultdeps"
PERL_USE_UNSAFE_INC="1"
@INC:
/home/cpansand/.cpan/build/2018012015/Cache-RedisDB-0.12-0/blib/arch
/home/cpansand/.cpan/build/2018012015/Cache-RedisDB-0.12-0/blib/lib
/opt/perl-5.27.8/lib/site_perl/5.27.8/x86_64-linux
/opt/perl-5.27.8/lib/site_perl/5.27.8
/opt/perl-5.27.8/lib/5.27.8/x86_64-linux
/opt/perl-5.27.8/lib/5.27.8
.