Net-Azure-NotificationHubs v0.08 Perl 5 v5.24.3 x86_64-linux

Status
Pass
From
Nigel Horne
Dist
Net-Azure-NotificationHubs v0.08
Platform
Perl 5 v5.24.3 x86_64-linux
Date
2018-06-29 07:39:28
ID
8ded13c4-7b6f-11e8-b18d-822462266ff8
This distribution has been tested as part of the CPAN Testers
project, supporting the Perl programming language.  See
http://wiki.cpantesters.org/ for more information or email
questions to cpan-testers-discuss@perl.org


--
Dear Satoshi Azuma,

This is a computer-generated report for Net-Azure-NotificationHubs-0.08
on perl 5.24.3, created by CPAN-Reporter-1.2018.

Thank you for uploading your work to CPAN.  Congratulations!
All tests were successful.

Sections of this report:

    * Tester comments
    * Program output
    * Prerequisites
    * Environment and other context

------------------------------
TESTER COMMENTS
------------------------------

Additional comments from tester:

this report is from an automated smoke testing program
and was not reviewed by a human for accuracy

------------------------------
PROGRAM OUTPUT
------------------------------

Output from './Build test':

t/00_compile.t .............. ok
t/11_send_request.t ......... ok
t/10_new.t .................. ok
t/12_uri.t .................. ok
t/13_req.t .................. ok
t/21_request_do.t ........... ok
t/31_response_as_hashref.t .. ok
All tests successful.
Files=7, Tests=22,  3 wallclock secs ( 0.04 usr  0.01 sys +  0.71 cusr  0.07 csys =  0.83 CPU)
Result: PASS

------------------------------
PREREQUISITES
------------------------------

Prerequisite modules loaded:

requires:

    Module                         Need     Have    
    ------------------------------ -------- --------
    Carp                           0        1.40    
    Class::Accessor::Lite          0        0.08    
    HTTP::Tiny                     0        0.070   
    JSON                           0        2.97001 
    Net::Azure::Authorization::SAS 0.03     0.03    
    Net::SSLeay                    0        1.82    
    perl                           5.008001 5.024003
    URI                            0        1.72    

build_requires:

    Module                         Need     Have    
    ------------------------------ -------- --------
    Test::More                     0.98     1.302113
    Test::Time                     0        0.06    

configure_requires:

    Module                         Need     Have    
    ------------------------------ -------- --------
    Module::Build::Tiny            0.035    0.039   


------------------------------
ENVIRONMENT AND OTHER CONTEXT
------------------------------

Environment variables:

    AUTOMATED_TESTING = 1
    HARNESS_OPTIONS = j4
    LANG = en_GB.UTF-8
    LANGUAGE = en_GB:en
    PATH = /home/njh/perl5/perlbrew/bin:/home/njh/perl5/perlbrew/perls/perl-5.24.3/bin:/usr/bin:/bin:/home/njh/src/njh/smoker/bin
    PERL5LIB = /home/njh/.cpan/build/Net-Azure-Authorization-SAS-0.03-9/blib/arch:/home/njh/.cpan/build/Net-Azure-Authorization-SAS-0.03-9/blib/lib:/home/njh/.cpan/build/Test-Time-0.06-9/blib/arch:/home/njh/.cpan/build/Test-Time-0.06-9/blib/lib:/home/njh/.cpan/build/String-CamelCase-0.04-11/blib/arch:/home/njh/.cpan/build/String-CamelCase-0.04-11/blib/lib:/home/njh/.cpan/build/Class-Accessor-Lite-0.08-11/blib/arch:/home/njh/.cpan/build/Class-Accessor-Lite-0.08-11/blib/lib
    PERL5OPT = 
    PERL5_CPANPLUS_IS_RUNNING = 19823
    PERL5_CPAN_IS_RUNNING = 19823
    PERLBREW_HOME = /home/njh/.perlbrew
    PERLBREW_MANPATH = /home/njh/perl5/perlbrew/perls/perl-5.24.3/man
    PERLBREW_PATH = /home/njh/perl5/perlbrew/bin:/home/njh/perl5/perlbrew/perls/perl-5.24.3/bin
    PERLBREW_PERL = perl-5.24.3
    PERLBREW_ROOT = /home/njh/perl5/perlbrew
    PERLBREW_SHELLRC_VERSION = 0.82
    PERLBREW_VERSION = 0.82
    SHELL = /bin/sh
    TEMP = /tmp/user/1000
    TMPDIR = /tmp/user/1000/testwrapper.19810

Perl special variables (and OS-specific diagnostics, for MSWin32):

    $^X = /home/njh/perl5/perlbrew/perls/perl-5.24.3/bin/perl
    $UID/$EUID = 1000 / 1000
    $GID = 1000 4 24 25 29 30 44 46 108 112 1000
    $EGID = 1000 4 24 25 29 30 44 46 108 112 1000

Perl module toolchain versions installed:

    Module              Have      
    ------------------- ----------
    CPAN                2.16      
    CPAN::Meta          2.150010  
    Cwd                 3.63_01   
    ExtUtils::CBuilder  0.280226  
    ExtUtils::Command   7.34      
    ExtUtils::Install   2.14      
    ExtUtils::MakeMaker 7.34      
    ExtUtils::Manifest  1.70      
    ExtUtils::ParseXS   3.35      
    File::Spec          3.63_01   
    JSON                2.97001   
    JSON::PP            2.27300_01
    Module::Build       0.4224    
    Module::Signature   n/a       
    Parse::CPAN::Meta   2.150010  
    Test::Harness       3.39      
    Test::More          1.302113  
    YAML                1.26      
    YAML::Syck          1.30      
    version             0.9916    


--

Summary of my perl5 (revision 5 version 24 subversion 3) configuration:
   
  Platform:
    osname=linux, osvers=4.13.0-1-amd64, archname=x86_64-linux
    uname='linux gateway 4.13.0-1-amd64 #1 smp debian 4.13.4-2 (2017-10-15) x86_64 gnulinux '
    config_args='-de -Dprefix=/home/njh/perl5/perlbrew/perls/perl-5.24.3 -Aeval:scriptdir=/home/njh/perl5/perlbrew/perls/perl-5.24.3/bin'
    hint=recommended, useposix=true, d_sigaction=define
    useithreads=undef, usemultiplicity=undef
    use64bitint=define, use64bitall=define, uselongdouble=undef
    usemymalloc=n, bincompat5005=undef
  Compiler:
    cc='cc', ccflags ='-fwrapv -fno-strict-aliasing -pipe -fstack-protector-strong -I/usr/local/include -D_LARGEFILE_SOURCE -D_FILE_OFFSET_BITS=64 -D_FORTIFY_SOURCE=2',
    optimize='-O2',
    cppflags='-fwrapv -fno-strict-aliasing -pipe -fstack-protector-strong -I/usr/local/include'
    ccversion='', gccversion='7.2.0', gccosandvers=''
    intsize=4, longsize=8, ptrsize=8, doublesize=8, byteorder=12345678, doublekind=3
    d_longlong=define, longlongsize=8, d_longdbl=define, longdblsize=16, longdblkind=3
    ivtype='long', ivsize=8, nvtype='double', nvsize=8, Off_t='off_t', lseeksize=8
    alignbytes=8, prototype=define
  Linker and Libraries:
    ld='cc', ldflags =' -fstack-protector-strong -L/usr/local/lib'
    libpth=/usr/local/lib /usr/lib/gcc/x86_64-linux-gnu/7/include-fixed /usr/include/x86_64-linux-gnu /usr/lib /lib/x86_64-linux-gnu /lib/../lib /usr/lib/x86_64-linux-gnu /usr/lib/../lib /lib
    libs=-lpthread -lnsl -lgdbm -ldb -ldl -lm -lcrypt -lutil -lc -lgdbm_compat
    perllibs=-lpthread -lnsl -ldl -lm -lcrypt -lutil -lc
    libc=libc-2.24.so, so=so, useshrplib=false, libperl=libperl.a
    gnulibc_version='2.24'
  Dynamic Linking:
    dlsrc=dl_dlopen.xs, dlext=so, d_dlsymun=undef, ccdlflags='-Wl,-E'
    cccdlflags='-fPIC', lddlflags='-shared -O2 -L/usr/local/lib -fstack-protector-strong'


Characteristics of this binary (from libperl): 
  Compile-time options: HAS_TIMES PERLIO_LAYERS PERL_COPY_ON_WRITE
                        PERL_DONT_CREATE_GVSV
                        PERL_HASH_FUNC_ONE_AT_A_TIME_HARD PERL_MALLOC_WRAP
                        PERL_PRESERVE_IVUV USE_64_BIT_ALL USE_64_BIT_INT
                        USE_LARGE_FILES USE_LOCALE USE_LOCALE_COLLATE
                        USE_LOCALE_CTYPE USE_LOCALE_NUMERIC USE_LOCALE_TIME
                        USE_PERLIO USE_PERL_ATOF
  Built under linux
  Compiled at Nov 20 2017 20:32:34
  %ENV:
    PERL5LIB="/home/njh/.cpan/build/Net-Azure-Authorization-SAS-0.03-9/blib/arch:/home/njh/.cpan/build/Net-Azure-Authorization-SAS-0.03-9/blib/lib:/home/njh/.cpan/build/Test-Time-0.06-9/blib/arch:/home/njh/.cpan/build/Test-Time-0.06-9/blib/lib:/home/njh/.cpan/build/String-CamelCase-0.04-11/blib/arch:/home/njh/.cpan/build/String-CamelCase-0.04-11/blib/lib:/home/njh/.cpan/build/Class-Accessor-Lite-0.08-11/blib/arch:/home/njh/.cpan/build/Class-Accessor-Lite-0.08-11/blib/lib"
    PERL5OPT=""
    PERL5_CPANPLUS_IS_RUNNING="19823"
    PERL5_CPAN_IS_RUNNING="19823"
    PERLBREW_HOME="/home/njh/.perlbrew"
    PERLBREW_MANPATH="/home/njh/perl5/perlbrew/perls/perl-5.24.3/man"
    PERLBREW_PATH="/home/njh/perl5/perlbrew/bin:/home/njh/perl5/perlbrew/perls/perl-5.24.3/bin"
    PERLBREW_PERL="perl-5.24.3"
    PERLBREW_ROOT="/home/njh/perl5/perlbrew"
    PERLBREW_SHELLRC_VERSION="0.82"
    PERLBREW_VERSION="0.82"
  @INC:
    /home/njh/.cpan/build/Net-Azure-Authorization-SAS-0.03-9/blib/arch
    /home/njh/.cpan/build/Net-Azure-Authorization-SAS-0.03-9/blib/lib
    /home/njh/.cpan/build/Test-Time-0.06-9/blib/arch
    /home/njh/.cpan/build/Test-Time-0.06-9/blib/lib
    /home/njh/.cpan/build/String-CamelCase-0.04-11/blib/arch
    /home/njh/.cpan/build/String-CamelCase-0.04-11/blib/lib
    /home/njh/.cpan/build/Class-Accessor-Lite-0.08-11/blib/arch
    /home/njh/.cpan/build/Class-Accessor-Lite-0.08-11/blib/lib
    /home/njh/perl5/perlbrew/perls/perl-5.24.3/lib/site_perl/5.24.3/x86_64-linux
    /home/njh/perl5/perlbrew/perls/perl-5.24.3/lib/site_perl/5.24.3
    /home/njh/perl5/perlbrew/perls/perl-5.24.3/lib/5.24.3/x86_64-linux
    /home/njh/perl5/perlbrew/perls/perl-5.24.3/lib/5.24.3
    .