Report for XML-ExtOn-0.17

Back
From: metabase:user:30f0bd62-2aae-11df-837a-5e0a49663a4f
Subject: PASS XML-ExtOn-0.17 v5.12.5 OpenBSD
Date: 2012-11-13T18:18:42Z

This distribution has been tested as part of the CPAN Testers
project, supporting the Perl programming language.  See
http://wiki.cpantesters.org/ for more information or email
questions to cpan-testers-discuss@perl.org


--
Dear Zahatski Aliaksandr,

This is a computer-generated report for XML-ExtOn-0.17
on perl 5.12.5, created by CPAN-Reporter-1.2006.

Thank you for uploading your work to CPAN.  Congratulations!
All tests were successful.

Sections of this report:

    * Tester comments
    * Program output
    * Prerequisites
    * Environment and other context

------------------------------
TESTER COMMENTS
------------------------------

Additional comments from tester:

this report is from an automated smoke testing program
and was not reviewed by a human for accuracy

------------------------------
PROGRAM OUTPUT
------------------------------

Output from './Build test':

t/008_TieAttrs.t .......... ok
t/009_Attributes.t ........ ok
t/009_Context.t ........... ok
t/010_Element.t ........... ok
Use of uninitialized value $uri in concatenation (.) or string at /home/sts/cpansmoke/perl-5.12.5/cpan/build/XML-Filter-SAX1toSAX2-0.03-7bJQeX/blib/lib/XML/Filter/SAX1toSAX2.pm line 81.
Use of uninitialized value in substitution iterator at /home/sts/cpansmoke/perl-5.12.5/cpan/build/XML-SAX-Writer-0.53-Fi80gf/blib/lib/XML/SAX/Writer.pm line 152.
Use of uninitialized value in substitution iterator at /home/sts/cpansmoke/perl-5.12.5/cpan/build/XML-SAX-Writer-0.53-Fi80gf/blib/lib/XML/SAX/Writer.pm line 152.
Use of uninitialized value in substitution iterator at /home/sts/cpansmoke/perl-5.12.5/cpan/build/XML-SAX-Writer-0.53-Fi80gf/blib/lib/XML/SAX/Writer.pm line 152.
Use of uninitialized value in substitution iterator at /home/sts/cpansmoke/perl-5.12.5/cpan/build/XML-SAX-Writer-0.53-Fi80gf/blib/lib/XML/SAX/Writer.pm line 152.
Use of uninitialized value in substitution iterator at /home/sts/cpansmoke/perl-5.12.5/cpan/build/XML-SAX-Writer-0.53-Fi80gf/blib/lib/XML/SAX/Writer.pm line 152.
Use of uninitialized value in substitution iterator at /home/sts/cpansmoke/perl-5.12.5/cpan/build/XML-SAX-Writer-0.53-Fi80gf/blib/lib/XML/SAX/Writer.pm line 152.
Use of uninitialized value in substitution iterator at /home/sts/cpansmoke/perl-5.12.5/cpan/build/XML-SAX-Writer-0.53-Fi80gf/blib/lib/XML/SAX/Writer.pm line 152.
Use of uninitialized value in substitution iterator at /home/sts/cpansmoke/perl-5.12.5/cpan/build/XML-SAX-Writer-0.53-Fi80gf/blib/lib/XML/SAX/Writer.pm line 152.
Use of uninitialized value in substitution iterator at /home/sts/cpansmoke/perl-5.12.5/cpan/build/XML-SAX-Writer-0.53-Fi80gf/blib/lib/XML/SAX/Writer.pm line 152.
Use of uninitialized value in substitution iterator at /home/sts/cpansmoke/perl-5.12.5/cpan/build/XML-SAX-Writer-0.53-Fi80gf/blib/lib/XML/SAX/Writer.pm line 152.
Use of uninitialized value in substitution iterator at /home/sts/cpansmoke/perl-5.12.5/cpan/build/XML-SAX-Writer-0.53-Fi80gf/blib/lib/XML/SAX/Writer.pm line 152.
Use of uninitialized value in substitution iterator at /home/sts/cpansmoke/perl-5.12.5/cpan/build/XML-SAX-Writer-0.53-Fi80gf/blib/lib/XML/SAX/Writer.pm line 152.
Use of uninitialized value in substitution iterator at /home/sts/cpansmoke/perl-5.12.5/cpan/build/XML-SAX-Writer-0.53-Fi80gf/blib/lib/XML/SAX/Writer.pm line 152.
Use of uninitialized value in substitution iterator at /home/sts/cpansmoke/perl-5.12.5/cpan/build/XML-SAX-Writer-0.53-Fi80gf/blib/lib/XML/SAX/Writer.pm line 152.
Use of uninitialized value in substitution iterator at /home/sts/cpansmoke/perl-5.12.5/cpan/build/XML-SAX-Writer-0.53-Fi80gf/blib/lib/XML/SAX/Writer.pm line 152.
Use of uninitialized value in substitution iterator at /home/sts/cpansmoke/perl-5.12.5/cpan/build/XML-SAX-Writer-0.53-Fi80gf/blib/lib/XML/SAX/Writer.pm line 152.
Use of uninitialized value in substitution iterator at /home/sts/cpansmoke/perl-5.12.5/cpan/build/XML-SAX-Writer-0.53-Fi80gf/blib/lib/XML/SAX/Writer.pm line 152.
Use of uninitialized value in substitution iterator at /home/sts/cpansmoke/perl-5.12.5/cpan/build/XML-SAX-Writer-0.53-Fi80gf/blib/lib/XML/SAX/Writer.pm line 152.
Use of uninitialized value in substitution iterator at /home/sts/cpansmoke/perl-5.12.5/cpan/build/XML-SAX-Writer-0.53-Fi80gf/blib/lib/XML/SAX/Writer.pm line 152.
Use of uninitialized value in substitution iterator at /home/sts/cpansmoke/perl-5.12.5/cpan/build/XML-SAX-Writer-0.53-Fi80gf/blib/lib/XML/SAX/Writer.pm line 152.
Use of uninitialized value in substitution iterator at /home/sts/cpansmoke/perl-5.12.5/cpan/build/XML-SAX-Writer-0.53-Fi80gf/blib/lib/XML/SAX/Writer.pm line 152.
Use of uninitialized value in substitution iterator at /home/sts/cpansmoke/perl-5.12.5/cpan/build/XML-SAX-Writer-0.53-Fi80gf/blib/lib/XML/SAX/Writer.pm line 152.
Use of uninitialized value in substitution iterator at /home/sts/cpansmoke/perl-5.12.5/cpan/build/XML-SAX-Writer-0.53-Fi80gf/blib/lib/XML/SAX/Writer.pm line 152.
Use of uninitialized value in substitution iterator at /home/sts/cpansmoke/perl-5.12.5/cpan/build/XML-SAX-Writer-0.53-Fi80gf/blib/lib/XML/SAX/Writer.pm line 152.
Use of uninitialized value in substitution iterator at /home/sts/cpansmoke/perl-5.12.5/cpan/build/XML-SAX-Writer-0.53-Fi80gf/blib/lib/XML/SAX/Writer.pm line 152.
Use of uninitialized value in substitution iterator at /home/sts/cpansmoke/perl-5.12.5/cpan/build/XML-SAX-Writer-0.53-Fi80gf/blib/lib/XML/SAX/Writer.pm line 152.
Use of uninitialized value in substitution iterator at /home/sts/cpansmoke/perl-5.12.5/cpan/build/XML-SAX-Writer-0.53-Fi80gf/blib/lib/XML/SAX/Writer.pm line 152.
Use of uninitialized value in substitution iterator at /home/sts/cpansmoke/perl-5.12.5/cpan/build/XML-SAX-Writer-0.53-Fi80gf/blib/lib/XML/SAX/Writer.pm line 152.
Use of uninitialized value in substitution iterator at /home/sts/cpansmoke/perl-5.12.5/cpan/build/XML-SAX-Writer-0.53-Fi80gf/blib/lib/XML/SAX/Writer.pm line 152.
Use of uninitialized value in substitution iterator at /home/sts/cpansmoke/perl-5.12.5/cpan/build/XML-SAX-Writer-0.53-Fi80gf/blib/lib/XML/SAX/Writer.pm line 152.
Use of uninitialized value in substitution iterator at /home/sts/cpansmoke/perl-5.12.5/cpan/build/XML-SAX-Writer-0.53-Fi80gf/blib/lib/XML/SAX/Writer.pm line 152.
Use of uninitialized value in substitution iterator at /home/sts/cpansmoke/perl-5.12.5/cpan/build/XML-SAX-Writer-0.53-Fi80gf/blib/lib/XML/SAX/Writer.pm line 152.
Use of uninitialized value in substitution iterator at /home/sts/cpansmoke/perl-5.12.5/cpan/build/XML-SAX-Writer-0.53-Fi80gf/blib/lib/XML/SAX/Writer.pm line 152.
Use of uninitialized value in substitution iterator at /home/sts/cpansmoke/perl-5.12.5/cpan/build/XML-SAX-Writer-0.53-Fi80gf/blib/lib/XML/SAX/Writer.pm line 152.
Use of uninitialized value in substitution iterator at /home/sts/cpansmoke/perl-5.12.5/cpan/build/XML-SAX-Writer-0.53-Fi80gf/blib/lib/XML/SAX/Writer.pm line 152.
Use of uninitialized value in substitution iterator at /home/sts/cpansmoke/perl-5.12.5/cpan/build/XML-SAX-Writer-0.53-Fi80gf/blib/lib/XML/SAX/Writer.pm line 152.
Use of uninitialized value in substitution iterator at /home/sts/cpansmoke/perl-5.12.5/cpan/build/XML-SAX-Writer-0.53-Fi80gf/blib/lib/XML/SAX/Writer.pm line 152.
Use of uninitialized value in substitution iterator at /home/sts/cpansmoke/perl-5.12.5/cpan/build/XML-SAX-Writer-0.53-Fi80gf/blib/lib/XML/SAX/Writer.pm line 152.
Use of uninitialized value in substitution iterator at /home/sts/cpansmoke/perl-5.12.5/cpan/build/XML-SAX-Writer-0.53-Fi80gf/blib/lib/XML/SAX/Writer.pm line 152.
Use of uninitialized value in substitution iterator at /home/sts/cpansmoke/perl-5.12.5/cpan/build/XML-SAX-Writer-0.53-Fi80gf/blib/lib/XML/SAX/Writer.pm line 152.
Use of uninitialized value in substitution iterator at /home/sts/cpansmoke/perl-5.12.5/cpan/build/XML-SAX-Writer-0.53-Fi80gf/blib/lib/XML/SAX/Writer.pm line 152.
Use of uninitialized value in substitution iterator at /home/sts/cpansmoke/perl-5.12.5/cpan/build/XML-SAX-Writer-0.53-Fi80gf/blib/lib/XML/SAX/Writer.pm line 152.
Use of uninitialized value in substitution iterator at /home/sts/cpansmoke/perl-5.12.5/cpan/build/XML-SAX-Writer-0.53-Fi80gf/blib/lib/XML/SAX/Writer.pm line 152.
Use of uninitialized value in substitution iterator at /home/sts/cpansmoke/perl-5.12.5/cpan/build/XML-SAX-Writer-0.53-Fi80gf/blib/lib/XML/SAX/Writer.pm line 152.
Use of uninitialized value in substitution iterator at /home/sts/cpansmoke/perl-5.12.5/cpan/build/XML-SAX-Writer-0.53-Fi80gf/blib/lib/XML/SAX/Writer.pm line 152.
Use of uninitialized value in substitution iterator at /home/sts/cpansmoke/perl-5.12.5/cpan/build/XML-SAX-Writer-0.53-Fi80gf/blib/lib/XML/SAX/Writer.pm line 152.
Use of uninitialized value in substitution iterator at /home/sts/cpansmoke/perl-5.12.5/cpan/build/XML-SAX-Writer-0.53-Fi80gf/blib/lib/XML/SAX/Writer.pm line 152.
Use of uninitialized value in substitution iterator at /home/sts/cpansmoke/perl-5.12.5/cpan/build/XML-SAX-Writer-0.53-Fi80gf/blib/lib/XML/SAX/Writer.pm line 152.
Use of uninitialized value in substitution iterator at /home/sts/cpansmoke/perl-5.12.5/cpan/build/XML-SAX-Writer-0.53-Fi80gf/blib/lib/XML/SAX/Writer.pm line 152.
Use of uninitialized value in substitution iterator at /home/sts/cpansmoke/perl-5.12.5/cpan/build/XML-SAX-Writer-0.53-Fi80gf/blib/lib/XML/SAX/Writer.pm line 152.
Use of uninitialized value in substitution iterator at /home/sts/cpansmoke/perl-5.12.5/cpan/build/XML-SAX-Writer-0.53-Fi80gf/blib/lib/XML/SAX/Writer.pm line 152.
Use of uninitialized value in substitution iterator at /home/sts/cpansmoke/perl-5.12.5/cpan/build/XML-SAX-Writer-0.53-Fi80gf/blib/lib/XML/SAX/Writer.pm line 152.
Use of uninitialized value in substitution iterator at /home/sts/cpansmoke/perl-5.12.5/cpan/build/XML-SAX-Writer-0.53-Fi80gf/blib/lib/XML/SAX/Writer.pm line 152.
Use of uninitialized value in substitution iterator at /home/sts/cpansmoke/perl-5.12.5/cpan/build/XML-SAX-Writer-0.53-Fi80gf/blib/lib/XML/SAX/Writer.pm line 152.
Use of uninitialized value in substitution iterator at /home/sts/cpansmoke/perl-5.12.5/cpan/build/XML-SAX-Writer-0.53-Fi80gf/blib/lib/XML/SAX/Writer.pm line 152.
Use of uninitialized value $uri in concatenation (.) or string at /home/sts/cpansmoke/perl-5.12.5/cpan/build/XML-Filter-SAX1toSAX2-0.03-7bJQeX/blib/lib/XML/Filter/SAX1toSAX2.pm line 81.
Use of uninitialized value $uri in concatenation (.) or string at /home/sts/cpansmoke/perl-5.12.5/cpan/build/XML-Filter-SAX1toSAX2-0.03-7bJQeX/blib/lib/XML/Filter/SAX1toSAX2.pm line 81.
Use of uninitialized value in substitution iterator at /home/sts/cpansmoke/perl-5.12.5/cpan/build/XML-SAX-Writer-0.53-Fi80gf/blib/lib/XML/SAX/Writer.pm line 152.
Use of uninitialized value in substitution iterator at /home/sts/cpansmoke/perl-5.12.5/cpan/build/XML-SAX-Writer-0.53-Fi80gf/blib/lib/XML/SAX/Writer.pm line 152.
Use of uninitialized value in substitution iterator at /home/sts/cpansmoke/perl-5.12.5/cpan/build/XML-SAX-Writer-0.53-Fi80gf/blib/lib/XML/SAX/Writer.pm line 152.
Use of uninitialized value in substitution iterator at /home/sts/cpansmoke/perl-5.12.5/cpan/build/XML-SAX-Writer-0.53-Fi80gf/blib/lib/XML/SAX/Writer.pm line 152.
Use of uninitialized value in substitution iterator at /home/sts/cpansmoke/perl-5.12.5/cpan/build/XML-SAX-Writer-0.53-Fi80gf/blib/lib/XML/SAX/Writer.pm line 152.
Use of uninitialized value in substitution iterator at /home/sts/cpansmoke/perl-5.12.5/cpan/build/XML-SAX-Writer-0.53-Fi80gf/blib/lib/XML/SAX/Writer.pm line 152.
Use of uninitialized value in substitution iterator at /home/sts/cpansmoke/perl-5.12.5/cpan/build/XML-SAX-Writer-0.53-Fi80gf/blib/lib/XML/SAX/Writer.pm line 152.
Use of uninitialized value in substitution iterator at /home/sts/cpansmoke/perl-5.12.5/cpan/build/XML-SAX-Writer-0.53-Fi80gf/blib/lib/XML/SAX/Writer.pm line 152.
Use of uninitialized value in substitution iterator at /home/sts/cpansmoke/perl-5.12.5/cpan/build/XML-SAX-Writer-0.53-Fi80gf/blib/lib/XML/SAX/Writer.pm line 152.
Use of uninitialized value in substitution iterator at /home/sts/cpansmoke/perl-5.12.5/cpan/build/XML-SAX-Writer-0.53-Fi80gf/blib/lib/XML/SAX/Writer.pm line 152.
Use of uninitialized value $uri in concatenation (.) or string at /home/sts/cpansmoke/perl-5.12.5/cpan/build/XML-Filter-SAX1toSAX2-0.03-7bJQeX/blib/lib/XML/Filter/SAX1toSAX2.pm line 81.
Use of uninitialized value in substitution iterator at /home/sts/cpansmoke/perl-5.12.5/cpan/build/XML-SAX-Writer-0.53-Fi80gf/blib/lib/XML/SAX/Writer.pm line 152.
Use of uninitialized value in substitution iterator at /home/sts/cpansmoke/perl-5.12.5/cpan/build/XML-SAX-Writer-0.53-Fi80gf/blib/lib/XML/SAX/Writer.pm line 152.
Use of uninitialized value in substitution iterator at /home/sts/cpansmoke/perl-5.12.5/cpan/build/XML-SAX-Writer-0.53-Fi80gf/blib/lib/XML/SAX/Writer.pm line 152.
Use of uninitialized value in substitution iterator at /home/sts/cpansmoke/perl-5.12.5/cpan/build/XML-SAX-Writer-0.53-Fi80gf/blib/lib/XML/SAX/Writer.pm line 152.
Use of uninitialized value in substitution iterator at /home/sts/cpansmoke/perl-5.12.5/cpan/build/XML-SAX-Writer-0.53-Fi80gf/blib/lib/XML/SAX/Writer.pm line 152.
Use of uninitialized value in substitution iterator at /home/sts/cpansmoke/perl-5.12.5/cpan/build/XML-SAX-Writer-0.53-Fi80gf/blib/lib/XML/SAX/Writer.pm line 152.
Use of uninitialized value in substitution iterator at /home/sts/cpansmoke/perl-5.12.5/cpan/build/XML-SAX-Writer-0.53-Fi80gf/blib/lib/XML/SAX/Writer.pm line 152.
Use of uninitialized value in substitution iterator at /home/sts/cpansmoke/perl-5.12.5/cpan/build/XML-SAX-Writer-0.53-Fi80gf/blib/lib/XML/SAX/Writer.pm line 152.
Use of uninitialized value in substitution iterator at /home/sts/cpansmoke/perl-5.12.5/cpan/build/XML-SAX-Writer-0.53-Fi80gf/blib/lib/XML/SAX/Writer.pm line 152.
Use of uninitialized value in substitution iterator at /home/sts/cpansmoke/perl-5.12.5/cpan/build/XML-SAX-Writer-0.53-Fi80gf/blib/lib/XML/SAX/Writer.pm line 152.
Use of uninitialized value in substitution iterator at /home/sts/cpansmoke/perl-5.12.5/cpan/build/XML-SAX-Writer-0.53-Fi80gf/blib/lib/XML/SAX/Writer.pm line 152.
Use of uninitialized value in substitution iterator at /home/sts/cpansmoke/perl-5.12.5/cpan/build/XML-SAX-Writer-0.53-Fi80gf/blib/lib/XML/SAX/Writer.pm line 152.
Use of uninitialized value in substitution iterator at /home/sts/cpansmoke/perl-5.12.5/cpan/build/XML-SAX-Writer-0.53-Fi80gf/blib/lib/XML/SAX/Writer.pm line 152.
Use of uninitialized value in substitution iterator at /home/sts/cpansmoke/perl-5.12.5/cpan/build/XML-SAX-Writer-0.53-Fi80gf/blib/lib/XML/SAX/Writer.pm line 152.
Use of uninitialized value in substitution iterator at /home/sts/cpansmoke/perl-5.12.5/cpan/build/XML-SAX-Writer-0.53-Fi80gf/blib/lib/XML/SAX/Writer.pm line 152.
Use of uninitialized value in substitution iterator at /home/sts/cpansmoke/perl-5.12.5/cpan/build/XML-SAX-Writer-0.53-Fi80gf/blib/lib/XML/SAX/Writer.pm line 152.
Use of uninitialized value in substitution iterator at /home/sts/cpansmoke/perl-5.12.5/cpan/build/XML-SAX-Writer-0.53-Fi80gf/blib/lib/XML/SAX/Writer.pm line 152.
Use of uninitialized value in substitution iterator at /home/sts/cpansmoke/perl-5.12.5/cpan/build/XML-SAX-Writer-0.53-Fi80gf/blib/lib/XML/SAX/Writer.pm line 152.
Use of uninitialized value in substitution iterator at /home/sts/cpansmoke/perl-5.12.5/cpan/build/XML-SAX-Writer-0.53-Fi80gf/blib/lib/XML/SAX/Writer.pm line 152.
Use of uninitialized value in substitution iterator at /home/sts/cpansmoke/perl-5.12.5/cpan/build/XML-SAX-Writer-0.53-Fi80gf/blib/lib/XML/SAX/Writer.pm line 152.
Use of uninitialized value in substitution iterator at /home/sts/cpansmoke/perl-5.12.5/cpan/build/XML-SAX-Writer-0.53-Fi80gf/blib/lib/XML/SAX/Writer.pm line 152.
Use of uninitialized value in substitution iterator at /home/sts/cpansmoke/perl-5.12.5/cpan/build/XML-SAX-Writer-0.53-Fi80gf/blib/lib/XML/SAX/Writer.pm line 152.
Use of uninitialized value in substitution iterator at /home/sts/cpansmoke/perl-5.12.5/cpan/build/XML-SAX-Writer-0.53-Fi80gf/blib/lib/XML/SAX/Writer.pm line 152.
Use of uninitialized value in substitution iterator at /home/sts/cpansmoke/perl-5.12.5/cpan/build/XML-SAX-Writer-0.53-Fi80gf/blib/lib/XML/SAX/Writer.pm line 152.
Use of uninitialized value in substitution iterator at /home/sts/cpansmoke/perl-5.12.5/cpan/build/XML-SAX-Writer-0.53-Fi80gf/blib/lib/XML/SAX/Writer.pm line 152.
Use of uninitialized value in substitution iterator at /home/sts/cpansmoke/perl-5.12.5/cpan/build/XML-SAX-Writer-0.53-Fi80gf/blib/lib/XML/SAX/Writer.pm line 152.
Use of uninitialized value in substitution iterator at /home/sts/cpansmoke/perl-5.12.5/cpan/build/XML-SAX-Writer-0.53-Fi80gf/blib/lib/XML/SAX/Writer.pm line 152.
Use of uninitialized value in substitution iterator at /home/sts/cpansmoke/perl-5.12.5/cpan/build/XML-SAX-Writer-0.53-Fi80gf/blib/lib/XML/SAX/Writer.pm line 152.
Use of uninitialized value in substitution iterator at /home/sts/cpansmoke/perl-5.12.5/cpan/build/XML-SAX-Writer-0.53-Fi80gf/blib/lib/XML/SAX/Writer.pm line 152.
Use of uninitialized value in substitution iterator at /home/sts/cpansmoke/perl-5.12.5/cpan/build/XML-SAX-Writer-0.53-Fi80gf/blib/lib/XML/SAX/Writer.pm line 152.
Use of uninitialized value in substitution iterator at /home/sts/cpansmoke/perl-5.12.5/cpan/build/XML-SAX-Writer-0.53-Fi80gf/blib/lib/XML/SAX/Writer.pm line 152.
Use of uninitialized value in substitution iterator at /home/sts/cpansmoke/perl-5.12.5/cpan/build/XML-SAX-Writer-0.53-Fi80gf/blib/lib/XML/SAX/Writer.pm line 152.
Use of uninitialized value in substitution iterator at /home/sts/cpansmoke/perl-5.12.5/cpan/build/XML-SAX-Writer-0.53-Fi80gf/blib/lib/XML/SAX/Writer.pm line 152.
Use of uninitialized value in substitution iterator at /home/sts/cpansmoke/perl-5.12.5/cpan/build/XML-SAX-Writer-0.53-Fi80gf/blib/lib/XML/SAX/Writer.pm line 152.
Use of uninitialized value in substitution iterator at /home/sts/cpansmoke/perl-5.12.5/cpan/build/XML-SAX-Writer-0.53-Fi80gf/blib/lib/XML/SAX/Writer.pm line 152.
Use of uninitialized value in substitution iterator at /home/sts/cpansmoke/perl-5.12.5/cpan/build/XML-SAX-Writer-0.53-Fi80gf/blib/lib/XML/SAX/Writer.pm line 152.
Use of uninitialized value in substitution iterator at /home/sts/cpansmoke/perl-5.12.5/cpan/build/XML-SAX-Writer-0.53-Fi80gf/blib/lib/XML/SAX/Writer.pm line 152.
Use of uninitialized value in substitution iterator at /home/sts/cpansmoke/perl-5.12.5/cpan/build/XML-SAX-Writer-0.53-Fi80gf/blib/lib/XML/SAX/Writer.pm line 152.
Use of uninitialized value in substitution iterator at /home/sts/cpansmoke/perl-5.12.5/cpan/build/XML-SAX-Writer-0.53-Fi80gf/blib/lib/XML/SAX/Writer.pm line 152.
Use of uninitialized value in substitution iterator at /home/sts/cpansmoke/perl-5.12.5/cpan/build/XML-SAX-Writer-0.53-Fi80gf/blib/lib/XML/SAX/Writer.pm line 152.
Use of uninitialized value in substitution iterator at /home/sts/cpansmoke/perl-5.12.5/cpan/build/XML-SAX-Writer-0.53-Fi80gf/blib/lib/XML/SAX/Writer.pm line 152.
Use of uninitialized value in substitution iterator at /home/sts/cpansmoke/perl-5.12.5/cpan/build/XML-SAX-Writer-0.53-Fi80gf/blib/lib/XML/SAX/Writer.pm line 152.
Use of uninitialized value in substitution iterator at /home/sts/cpansmoke/perl-5.12.5/cpan/build/XML-SAX-Writer-0.53-Fi80gf/blib/lib/XML/SAX/Writer.pm line 152.
Use of uninitialized value in substitution iterator at /home/sts/cpansmoke/perl-5.12.5/cpan/build/XML-SAX-Writer-0.53-Fi80gf/blib/lib/XML/SAX/Writer.pm line 152.
Use of uninitialized value in substitution iterator at /home/sts/cpansmoke/perl-5.12.5/cpan/build/XML-SAX-Writer-0.53-Fi80gf/blib/lib/XML/SAX/Writer.pm line 152.
Use of uninitialized value in substitution iterator at /home/sts/cpansmoke/perl-5.12.5/cpan/build/XML-SAX-Writer-0.53-Fi80gf/blib/lib/XML/SAX/Writer.pm line 152.
Use of uninitialized value in substitution iterator at /home/sts/cpansmoke/perl-5.12.5/cpan/build/XML-SAX-Writer-0.53-Fi80gf/blib/lib/XML/SAX/Writer.pm line 152.
Use of uninitialized value in substitution iterator at /home/sts/cpansmoke/perl-5.12.5/cpan/build/XML-SAX-Writer-0.53-Fi80gf/blib/lib/XML/SAX/Writer.pm line 152.
Use of uninitialized value in substitution iterator at /home/sts/cpansmoke/perl-5.12.5/cpan/build/XML-SAX-Writer-0.53-Fi80gf/blib/lib/XML/SAX/Writer.pm line 152.
Use of uninitialized value in substitution iterator at /home/sts/cpansmoke/perl-5.12.5/cpan/build/XML-SAX-Writer-0.53-Fi80gf/blib/lib/XML/SAX/Writer.pm line 152.
Use of uninitialized value in substitution iterator at /home/sts/cpansmoke/perl-5.12.5/cpan/build/XML-SAX-Writer-0.53-Fi80gf/blib/lib/XML/SAX/Writer.pm line 152.
Use of uninitialized value in substitution iterator at /home/sts/cpansmoke/perl-5.12.5/cpan/build/XML-SAX-Writer-0.53-Fi80gf/blib/lib/XML/SAX/Writer.pm line 152.
Use of uninitialized value in substitution iterator at /home/sts/cpansmoke/perl-5.12.5/cpan/build/XML-SAX-Writer-0.53-Fi80gf/blib/lib/XML/SAX/Writer.pm line 152.
Use of uninitialized value in substitution iterator at /home/sts/cpansmoke/perl-5.12.5/cpan/build/XML-SAX-Writer-0.53-Fi80gf/blib/lib/XML/SAX/Writer.pm line 152.
Use of uninitialized value in substitution iterator at /home/sts/cpansmoke/perl-5.12.5/cpan/build/XML-SAX-Writer-0.53-Fi80gf/blib/lib/XML/SAX/Writer.pm line 152.
Use of uninitialized value in substitution iterator at /home/sts/cpansmoke/perl-5.12.5/cpan/build/XML-SAX-Writer-0.53-Fi80gf/blib/lib/XML/SAX/Writer.pm line 152.
Use of uninitialized value in substitution iterator at /home/sts/cpansmoke/perl-5.12.5/cpan/build/XML-SAX-Writer-0.53-Fi80gf/blib/lib/XML/SAX/Writer.pm line 152.
Use of uninitialized value in substitution iterator at /home/sts/cpansmoke/perl-5.12.5/cpan/build/XML-SAX-Writer-0.53-Fi80gf/blib/lib/XML/SAX/Writer.pm line 152.
Use of uninitialized value $uri in concatenation (.) or string at /home/sts/cpansmoke/perl-5.12.5/cpan/build/XML-Filter-SAX1toSAX2-0.03-7bJQeX/blib/lib/XML/Filter/SAX1toSAX2.pm line 81.
Use of uninitialized value in substitution iterator at /home/sts/cpansmoke/perl-5.12.5/cpan/build/XML-SAX-Writer-0.53-Fi80gf/blib/lib/XML/SAX/Writer.pm line 152.
Use of uninitialized value in substitution iterator at /home/sts/cpansmoke/perl-5.12.5/cpan/build/XML-SAX-Writer-0.53-Fi80gf/blib/lib/XML/SAX/Writer.pm line 152.
Use of uninitialized value in substitution iterator at /home/sts/cpansmoke/perl-5.12.5/cpan/build/XML-SAX-Writer-0.53-Fi80gf/blib/lib/XML/SAX/Writer.pm line 152.
Use of uninitialized value in substitution iterator at /home/sts/cpansmoke/perl-5.12.5/cpan/build/XML-SAX-Writer-0.53-Fi80gf/blib/lib/XML/SAX/Writer.pm line 152.
Use of uninitialized value in substitution iterator at /home/sts/cpansmoke/perl-5.12.5/cpan/build/XML-SAX-Writer-0.53-Fi80gf/blib/lib/XML/SAX/Writer.pm line 152.
Use of uninitialized value in substitution iterator at /home/sts/cpansmoke/perl-5.12.5/cpan/build/XML-SAX-Writer-0.53-Fi80gf/blib/lib/XML/SAX/Writer.pm line 152.
Use of uninitialized value in substitution iterator at /home/sts/cpansmoke/perl-5.12.5/cpan/build/XML-SAX-Writer-0.53-Fi80gf/blib/lib/XML/SAX/Writer.pm line 152.
Use of uninitialized value in substitution iterator at /home/sts/cpansmoke/perl-5.12.5/cpan/build/XML-SAX-Writer-0.53-Fi80gf/blib/lib/XML/SAX/Writer.pm line 152.
Use of uninitialized value in substitution iterator at /home/sts/cpansmoke/perl-5.12.5/cpan/build/XML-SAX-Writer-0.53-Fi80gf/blib/lib/XML/SAX/Writer.pm line 152.
Use of uninitialized value in substitution iterator at /home/sts/cpansmoke/perl-5.12.5/cpan/build/XML-SAX-Writer-0.53-Fi80gf/blib/lib/XML/SAX/Writer.pm line 152.
Use of uninitialized value in substitution iterator at /home/sts/cpansmoke/perl-5.12.5/cpan/build/XML-SAX-Writer-0.53-Fi80gf/blib/lib/XML/SAX/Writer.pm line 152.
Use of uninitialized value in substitution iterator at /home/sts/cpansmoke/perl-5.12.5/cpan/build/XML-SAX-Writer-0.53-Fi80gf/blib/lib/XML/SAX/Writer.pm line 152.
Use of uninitialized value in substitution iterator at /home/sts/cpansmoke/perl-5.12.5/cpan/build/XML-SAX-Writer-0.53-Fi80gf/blib/lib/XML/SAX/Writer.pm line 152.
Use of uninitialized value in substitution iterator at /home/sts/cpansmoke/perl-5.12.5/cpan/build/XML-SAX-Writer-0.53-Fi80gf/blib/lib/XML/SAX/Writer.pm line 152.
Use of uninitialized value in substitution iterator at /home/sts/cpansmoke/perl-5.12.5/cpan/build/XML-SAX-Writer-0.53-Fi80gf/blib/lib/XML/SAX/Writer.pm line 152.
Use of uninitialized value in substitution iterator at /home/sts/cpansmoke/perl-5.12.5/cpan/build/XML-SAX-Writer-0.53-Fi80gf/blib/lib/XML/SAX/Writer.pm line 152.
Use of uninitialized value in substitution iterator at /home/sts/cpansmoke/perl-5.12.5/cpan/build/XML-SAX-Writer-0.53-Fi80gf/blib/lib/XML/SAX/Writer.pm line 152.
Use of uninitialized value in substitution iterator at /home/sts/cpansmoke/perl-5.12.5/cpan/build/XML-SAX-Writer-0.53-Fi80gf/blib/lib/XML/SAX/Writer.pm line 152.
Use of uninitialized value in substitution iterator at /home/sts/cpansmoke/perl-5.12.5/cpan/build/XML-SAX-Writer-0.53-Fi80gf/blib/lib/XML/SAX/Writer.pm line 152.
Use of uninitialized value in substitution iterator at /home/sts/cpansmoke/perl-5.12.5/cpan/build/XML-SAX-Writer-0.53-Fi80gf/blib/lib/XML/SAX/Writer.pm line 152.
Use of uninitialized value in substitution iterator at /home/sts/cpansmoke/perl-5.12.5/cpan/build/XML-SAX-Writer-0.53-Fi80gf/blib/lib/XML/SAX/Writer.pm line 152.
Use of uninitialized value $uri in concatenation (.) or string at /home/sts/cpansmoke/perl-5.12.5/cpan/build/XML-Filter-SAX1toSAX2-0.03-7bJQeX/blib/lib/XML/Filter/SAX1toSAX2.pm line 81.
Use of uninitialized value $uri in concatenation (.) or string at /home/sts/cpansmoke/perl-5.12.5/cpan/build/XML-Filter-SAX1toSAX2-0.03-7bJQeX/blib/lib/XML/Filter/SAX1toSAX2.pm line 81.
Use of uninitialized value in substitution iterator at /home/sts/cpansmoke/perl-5.12.5/cpan/build/XML-SAX-Writer-0.53-Fi80gf/blib/lib/XML/SAX/Writer.pm line 152.
Use of uninitialized value in substitution iterator at /home/sts/cpansmoke/perl-5.12.5/cpan/build/XML-SAX-Writer-0.53-Fi80gf/blib/lib/XML/SAX/Writer.pm line 152.
Use of uninitialized value in substitution iterator at /home/sts/cpansmoke/perl-5.12.5/cpan/build/XML-SAX-Writer-0.53-Fi80gf/blib/lib/XML/SAX/Writer.pm line 152.
Use of uninitialized value in substitution iterator at /home/sts/cpansmoke/perl-5.12.5/cpan/build/XML-SAX-Writer-0.53-Fi80gf/blib/lib/XML/SAX/Writer.pm line 152.
Use of uninitialized value in substitution iterator at /home/sts/cpansmoke/perl-5.12.5/cpan/build/XML-SAX-Writer-0.53-Fi80gf/blib/lib/XML/SAX/Writer.pm line 152.
Use of uninitialized value in substitution iterator at /home/sts/cpansmoke/perl-5.12.5/cpan/build/XML-SAX-Writer-0.53-Fi80gf/blib/lib/XML/SAX/Writer.pm line 152.
Use of uninitialized value in substitution iterator at /home/sts/cpansmoke/perl-5.12.5/cpan/build/XML-SAX-Writer-0.53-Fi80gf/blib/lib/XML/SAX/Writer.pm line 152.
Use of uninitialized value in substitution iterator at /home/sts/cpansmoke/perl-5.12.5/cpan/build/XML-SAX-Writer-0.53-Fi80gf/blib/lib/XML/SAX/Writer.pm line 152.
Use of uninitialized value in substitution iterator at /home/sts/cpansmoke/perl-5.12.5/cpan/build/XML-SAX-Writer-0.53-Fi80gf/blib/lib/XML/SAX/Writer.pm line 152.
Use of uninitialized value in substitution iterator at /home/sts/cpansmoke/perl-5.12.5/cpan/build/XML-SAX-Writer-0.53-Fi80gf/blib/lib/XML/SAX/Writer.pm line 152.
Use of uninitialized value in substitution iterator at /home/sts/cpansmoke/perl-5.12.5/cpan/build/XML-SAX-Writer-0.53-Fi80gf/blib/lib/XML/SAX/Writer.pm line 152.
Use of uninitialized value in substitution iterator at /home/sts/cpansmoke/perl-5.12.5/cpan/build/XML-SAX-Writer-0.53-Fi80gf/blib/lib/XML/SAX/Writer.pm line 152.
Use of uninitialized value in substitution iterator at /home/sts/cpansmoke/perl-5.12.5/cpan/build/XML-SAX-Writer-0.53-Fi80gf/blib/lib/XML/SAX/Writer.pm line 152.
Use of uninitialized value in substitution iterator at /home/sts/cpansmoke/perl-5.12.5/cpan/build/XML-SAX-Writer-0.53-Fi80gf/blib/lib/XML/SAX/Writer.pm line 152.
Use of uninitialized value in substitution iterator at /home/sts/cpansmoke/perl-5.12.5/cpan/build/XML-SAX-Writer-0.53-Fi80gf/blib/lib/XML/SAX/Writer.pm line 152.
Use of uninitialized value in substitution iterator at /home/sts/cpansmoke/perl-5.12.5/cpan/build/XML-SAX-Writer-0.53-Fi80gf/blib/lib/XML/SAX/Writer.pm line 152.
Use of uninitialized value in substitution iterator at /home/sts/cpansmoke/perl-5.12.5/cpan/build/XML-SAX-Writer-0.53-Fi80gf/blib/lib/XML/SAX/Writer.pm line 152.
Use of uninitialized value in substitution iterator at /home/sts/cpansmoke/perl-5.12.5/cpan/build/XML-SAX-Writer-0.53-Fi80gf/blib/lib/XML/SAX/Writer.pm line 152.
Use of uninitialized value in substitution iterator at /home/sts/cpansmoke/perl-5.12.5/cpan/build/XML-SAX-Writer-0.53-Fi80gf/blib/lib/XML/SAX/Writer.pm line 152.
Use of uninitialized value in substitution iterator at /home/sts/cpansmoke/perl-5.12.5/cpan/build/XML-SAX-Writer-0.53-Fi80gf/blib/lib/XML/SAX/Writer.pm line 152.
Use of uninitialized value in substitution iterator at /home/sts/cpansmoke/perl-5.12.5/cpan/build/XML-SAX-Writer-0.53-Fi80gf/blib/lib/XML/SAX/Writer.pm line 152.
Use of uninitialized value in substitution iterator at /home/sts/cpansmoke/perl-5.12.5/cpan/build/XML-SAX-Writer-0.53-Fi80gf/blib/lib/XML/SAX/Writer.pm line 152.
Use of uninitialized value in substitution iterator at /home/sts/cpansmoke/perl-5.12.5/cpan/build/XML-SAX-Writer-0.53-Fi80gf/blib/lib/XML/SAX/Writer.pm line 152.
Use of uninitialized value in substitution iterator at /home/sts/cpansmoke/perl-5.12.5/cpan/build/XML-SAX-Writer-0.53-Fi80gf/blib/lib/XML/SAX/Writer.pm line 152.
Use of uninitialized value in substitution iterator at /home/sts/cpansmoke/perl-5.12.5/cpan/build/XML-SAX-Writer-0.53-Fi80gf/blib/lib/XML/SAX/Writer.pm line 152.
Use of uninitialized value in substitution iterator at /home/sts/cpansmoke/perl-5.12.5/cpan/build/XML-SAX-Writer-0.53-Fi80gf/blib/lib/XML/SAX/Writer.pm line 152.
Use of uninitialized value in substitution iterator at /home/sts/cpansmoke/perl-5.12.5/cpan/build/XML-SAX-Writer-0.53-Fi80gf/blib/lib/XML/SAX/Writer.pm line 152.
Use of uninitialized value in substitution iterator at /home/sts/cpansmoke/perl-5.12.5/cpan/build/XML-SAX-Writer-0.53-Fi80gf/blib/lib/XML/SAX/Writer.pm line 152.
Use of uninitialized value in substitution iterator at /home/sts/cpansmoke/perl-5.12.5/cpan/build/XML-SAX-Writer-0.53-Fi80gf/blib/lib/XML/SAX/Writer.pm line 152.
Use of uninitialized value in substitution iterator at /home/sts/cpansmoke/perl-5.12.5/cpan/build/XML-SAX-Writer-0.53-Fi80gf/blib/lib/XML/SAX/Writer.pm line 152.
Use of uninitialized value in substitution iterator at /home/sts/cpansmoke/perl-5.12.5/cpan/build/XML-SAX-Writer-0.53-Fi80gf/blib/lib/XML/SAX/Writer.pm line 152.
Use of uninitialized value in substitution iterator at /home/sts/cpansmoke/perl-5.12.5/cpan/build/XML-SAX-Writer-0.53-Fi80gf/blib/lib/XML/SAX/Writer.pm line 152.
Use of uninitialized value in substitution iterator at /home/sts/cpansmoke/perl-5.12.5/cpan/build/XML-SAX-Writer-0.53-Fi80gf/blib/lib/XML/SAX/Writer.pm line 152.
Use of uninitialized value in substitution iterator at /home/sts/cpansmoke/perl-5.12.5/cpan/build/XML-SAX-Writer-0.53-Fi80gf/blib/lib/XML/SAX/Writer.pm line 152.
Use of uninitialized value in substitution iterator at /home/sts/cpansmoke/perl-5.12.5/cpan/build/XML-SAX-Writer-0.53-Fi80gf/blib/lib/XML/SAX/Writer.pm line 152.
Use of uninitialized value in substitution iterator at /home/sts/cpansmoke/perl-5.12.5/cpan/build/XML-SAX-Writer-0.53-Fi80gf/blib/lib/XML/SAX/Writer.pm line 152.
Use of uninitialized value in substitution iterator at /home/sts/cpansmoke/perl-5.12.5/cpan/build/XML-SAX-Writer-0.53-Fi80gf/blib/lib/XML/SAX/Writer.pm line 152.
Use of uninitialized value in substitution iterator at /home/sts/cpansmoke/perl-5.12.5/cpan/build/XML-SAX-Writer-0.53-Fi80gf/blib/lib/XML/SAX/Writer.pm line 152.
Use of uninitialized value in substitution iterator at /home/sts/cpansmoke/perl-5.12.5/cpan/build/XML-SAX-Writer-0.53-Fi80gf/blib/lib/XML/SAX/Writer.pm line 152.
Use of uninitialized value in substitution iterator at /home/sts/cpansmoke/perl-5.12.5/cpan/build/XML-SAX-Writer-0.53-Fi80gf/blib/lib/XML/SAX/Writer.pm line 152.
Use of uninitialized value in substitution iterator at /home/sts/cpansmoke/perl-5.12.5/cpan/build/XML-SAX-Writer-0.53-Fi80gf/blib/lib/XML/SAX/Writer.pm line 152.
Use of uninitialized value in substitution iterator at /home/sts/cpansmoke/perl-5.12.5/cpan/build/XML-SAX-Writer-0.53-Fi80gf/blib/lib/XML/SAX/Writer.pm line 152.
Use of uninitialized value in substitution iterator at /home/sts/cpansmoke/perl-5.12.5/cpan/build/XML-SAX-Writer-0.53-Fi80gf/blib/lib/XML/SAX/Writer.pm line 152.
Use of uninitialized value in substitution iterator at /home/sts/cpansmoke/perl-5.12.5/cpan/build/XML-SAX-Writer-0.53-Fi80gf/blib/lib/XML/SAX/Writer.pm line 152.
Use of uninitialized value in substitution iterator at /home/sts/cpansmoke/perl-5.12.5/cpan/build/XML-SAX-Writer-0.53-Fi80gf/blib/lib/XML/SAX/Writer.pm line 152.
Use of uninitialized value in substitution iterator at /home/sts/cpansmoke/perl-5.12.5/cpan/build/XML-SAX-Writer-0.53-Fi80gf/blib/lib/XML/SAX/Writer.pm line 152.
Use of uninitialized value in substitution iterator at /home/sts/cpansmoke/perl-5.12.5/cpan/build/XML-SAX-Writer-0.53-Fi80gf/blib/lib/XML/SAX/Writer.pm line 152.
Use of uninitialized value in substitution iterator at /home/sts/cpansmoke/perl-5.12.5/cpan/build/XML-SAX-Writer-0.53-Fi80gf/blib/lib/XML/SAX/Writer.pm line 152.
Use of uninitialized value in substitution iterator at /home/sts/cpansmoke/perl-5.12.5/cpan/build/XML-SAX-Writer-0.53-Fi80gf/blib/lib/XML/SAX/Writer.pm line 152.
Use of uninitialized value in substitution iterator at /home/sts/cpansmoke/perl-5.12.5/cpan/build/XML-SAX-Writer-0.53-Fi80gf/blib/lib/XML/SAX/Writer.pm line 152.
Use of uninitialized value in substitution iterator at /home/sts/cpansmoke/perl-5.12.5/cpan/build/XML-SAX-Writer-0.53-Fi80gf/blib/lib/XML/SAX/Writer.pm line 152.
Use of uninitialized value in substitution iterator at /home/sts/cpansmoke/perl-5.12.5/cpan/build/XML-SAX-Writer-0.53-Fi80gf/blib/lib/XML/SAX/Writer.pm line 152.
Use of uninitialized value in substitution iterator at /home/sts/cpansmoke/perl-5.12.5/cpan/build/XML-SAX-Writer-0.53-Fi80gf/blib/lib/XML/SAX/Writer.pm line 152.
Use of uninitialized value in substitution iterator at /home/sts/cpansmoke/perl-5.12.5/cpan/build/XML-SAX-Writer-0.53-Fi80gf/blib/lib/XML/SAX/Writer.pm line 152.
Use of uninitialized value in substitution iterator at /home/sts/cpansmoke/perl-5.12.5/cpan/build/XML-SAX-Writer-0.53-Fi80gf/blib/lib/XML/SAX/Writer.pm line 152.
Use of uninitialized value in substitution iterator at /home/sts/cpansmoke/perl-5.12.5/cpan/build/XML-SAX-Writer-0.53-Fi80gf/blib/lib/XML/SAX/Writer.pm line 152.
Use of uninitialized value in substitution iterator at /home/sts/cpansmoke/perl-5.12.5/cpan/build/XML-SAX-Writer-0.53-Fi80gf/blib/lib/XML/SAX/Writer.pm line 152.
Use of uninitialized value in substitution iterator at /home/sts/cpansmoke/perl-5.12.5/cpan/build/XML-SAX-Writer-0.53-Fi80gf/blib/lib/XML/SAX/Writer.pm line 152.
Use of uninitialized value in substitution iterator at /home/sts/cpansmoke/perl-5.12.5/cpan/build/XML-SAX-Writer-0.53-Fi80gf/blib/lib/XML/SAX/Writer.pm line 152.
Use of uninitialized value in substitution iterator at /home/sts/cpansmoke/perl-5.12.5/cpan/build/XML-SAX-Writer-0.53-Fi80gf/blib/lib/XML/SAX/Writer.pm line 152.
Use of uninitialized value in substitution iterator at /home/sts/cpansmoke/perl-5.12.5/cpan/build/XML-SAX-Writer-0.53-Fi80gf/blib/lib/XML/SAX/Writer.pm line 152.
Use of uninitialized value in substitution iterator at /home/sts/cpansmoke/perl-5.12.5/cpan/build/XML-SAX-Writer-0.53-Fi80gf/blib/lib/XML/SAX/Writer.pm line 152.
Use of uninitialized value in substitution iterator at /home/sts/cpansmoke/perl-5.12.5/cpan/build/XML-SAX-Writer-0.53-Fi80gf/blib/lib/XML/SAX/Writer.pm line 152.
Use of uninitialized value in substitution iterator at /home/sts/cpansmoke/perl-5.12.5/cpan/build/XML-SAX-Writer-0.53-Fi80gf/blib/lib/XML/SAX/Writer.pm line 152.
Use of uninitialized value in substitution iterator at /home/sts/cpansmoke/perl-5.12.5/cpan/build/XML-SAX-Writer-0.53-Fi80gf/blib/lib/XML/SAX/Writer.pm line 152.
Use of uninitialized value in substitution iterator at /home/sts/cpansmoke/perl-5.12.5/cpan/build/XML-SAX-Writer-0.53-Fi80gf/blib/lib/XML/SAX/Writer.pm line 152.
Use of uninitialized value $uri in concatenation (.) or string at /home/sts/cpansmoke/perl-5.12.5/cpan/build/XML-Filter-SAX1toSAX2-0.03-7bJQeX/blib/lib/XML/Filter/SAX1toSAX2.pm line 81.
Use of uninitialized value $uri in concatenation (.) or string at /home/sts/cpansmoke/perl-5.12.5/cpan/build/XML-Filter-SAX1toSAX2-0.03-7bJQeX/blib/lib/XML/Filter/SAX1toSAX2.pm line 81.
Use of uninitialized value in substitution iterator at /home/sts/cpansmoke/perl-5.12.5/cpan/build/XML-SAX-Writer-0.53-Fi80gf/blib/lib/XML/SAX/Writer.pm line 152.
Use of uninitialized value in substitution iterator at /home/sts/cpansmoke/perl-5.12.5/cpan/build/XML-SAX-Writer-0.53-Fi80gf/blib/lib/XML/SAX/Writer.pm line 152.
Use of uninitialized value in substitution iterator at /home/sts/cpansmoke/perl-5.12.5/cpan/build/XML-SAX-Writer-0.53-Fi80gf/blib/lib/XML/SAX/Writer.pm line 152.
Use of uninitialized value in substitution iterator at /home/sts/cpansmoke/perl-5.12.5/cpan/build/XML-SAX-Writer-0.53-Fi80gf/blib/lib/XML/SAX/Writer.pm line 152.
Use of uninitialized value in substitution iterator at /home/sts/cpansmoke/perl-5.12.5/cpan/build/XML-SAX-Writer-0.53-Fi80gf/blib/lib/XML/SAX/Writer.pm line 152.
Use of uninitialized value in substitution iterator at /home/sts/cpansmoke/perl-5.12.5/cpan/build/XML-SAX-Writer-0.53-Fi80gf/blib/lib/XML/SAX/Writer.pm line 152.
Use of uninitialized value in substitution iterator at /home/sts/cpansmoke/perl-5.12.5/cpan/build/XML-SAX-Writer-0.53-Fi80gf/blib/lib/XML/SAX/Writer.pm line 152.
Use of uninitialized value in substitution iterator at /home/sts/cpansmoke/perl-5.12.5/cpan/build/XML-SAX-Writer-0.53-Fi80gf/blib/lib/XML/SAX/Writer.pm line 152.
Use of uninitialized value in substitution iterator at /home/sts/cpansmoke/perl-5.12.5/cpan/build/XML-SAX-Writer-0.53-Fi80gf/blib/lib/XML/SAX/Writer.pm line 152.
Use of uninitialized value in substitution iterator at /home/sts/cpansmoke/perl-5.12.5/cpan/build/XML-SAX-Writer-0.53-Fi80gf/blib/lib/XML/SAX/Writer.pm line 152.
Use of uninitialized value in substitution iterator at /home/sts/cpansmoke/perl-5.12.5/cpan/build/XML-SAX-Writer-0.53-Fi80gf/blib/lib/XML/SAX/Writer.pm line 152.
Use of uninitialized value in substitution iterator at /home/sts/cpansmoke/perl-5.12.5/cpan/build/XML-SAX-Writer-0.53-Fi80gf/blib/lib/XML/SAX/Writer.pm line 152.
Use of uninitialized value in substitution iterator at /home/sts/cpansmoke/perl-5.12.5/cpan/build/XML-SAX-Writer-0.53-Fi80gf/blib/lib/XML/SAX/Writer.pm line 152.
Use of uninitialized value in substitution iterator at /home/sts/cpansmoke/perl-5.12.5/cpan/build/XML-SAX-Writer-0.53-Fi80gf/blib/lib/XML/SAX/Writer.pm line 152.
Use of uninitialized value in substitution iterator at /home/sts/cpansmoke/perl-5.12.5/cpan/build/XML-SAX-Writer-0.53-Fi80gf/blib/lib/XML/SAX/Writer.pm line 152.
Use of uninitialized value in substitution iterator at /home/sts/cpansmoke/perl-5.12.5/cpan/build/XML-SAX-Writer-0.53-Fi80gf/blib/lib/XML/SAX/Writer.pm line 152.
Use of uninitialized value in substitution iterator at /home/sts/cpansmoke/perl-5.12.5/cpan/build/XML-SAX-Writer-0.53-Fi80gf/blib/lib/XML/SAX/Writer.pm line 152.
Use of uninitialized value in substitution iterator at /home/sts/cpansmoke/perl-5.12.5/cpan/build/XML-SAX-Writer-0.53-Fi80gf/blib/lib/XML/SAX/Writer.pm line 152.
Use of uninitialized value in substitution iterator at /home/sts/cpansmoke/perl-5.12.5/cpan/build/XML-SAX-Writer-0.53-Fi80gf/blib/lib/XML/SAX/Writer.pm line 152.
Use of uninitialized value in substitution iterator at /home/sts/cpansmoke/perl-5.12.5/cpan/build/XML-SAX-Writer-0.53-Fi80gf/blib/lib/XML/SAX/Writer.pm line 152.
Use of uninitialized value in substitution iterator at /home/sts/cpansmoke/perl-5.12.5/cpan/build/XML-SAX-Writer-0.53-Fi80gf/blib/lib/XML/SAX/Writer.pm line 152.
Use of uninitialized value in substitution iterator at /home/sts/cpansmoke/perl-5.12.5/cpan/build/XML-SAX-Writer-0.53-Fi80gf/blib/lib/XML/SAX/Writer.pm line 152.
Use of uninitialized value in substitution iterator at /home/sts/cpansmoke/perl-5.12.5/cpan/build/XML-SAX-Writer-0.53-Fi80gf/blib/lib/XML/SAX/Writer.pm line 152.
Use of uninitialized value in substitution iterator at /home/sts/cpansmoke/perl-5.12.5/cpan/build/XML-SAX-Writer-0.53-Fi80gf/blib/lib/XML/SAX/Writer.pm line 152.
Use of uninitialized value in substitution iterator at /home/sts/cpansmoke/perl-5.12.5/cpan/build/XML-SAX-Writer-0.53-Fi80gf/blib/lib/XML/SAX/Writer.pm line 152.
Use of uninitialized value in substitution iterator at /home/sts/cpansmoke/perl-5.12.5/cpan/build/XML-SAX-Writer-0.53-Fi80gf/blib/lib/XML/SAX/Writer.pm line 152.
Use of uninitialized value in substitution iterator at /home/sts/cpansmoke/perl-5.12.5/cpan/build/XML-SAX-Writer-0.53-Fi80gf/blib/lib/XML/SAX/Writer.pm line 152.
Use of uninitialized value in substitution iterator at /home/sts/cpansmoke/perl-5.12.5/cpan/build/XML-SAX-Writer-0.53-Fi80gf/blib/lib/XML/SAX/Writer.pm line 152.
Use of uninitialized value in substitution iterator at /home/sts/cpansmoke/perl-5.12.5/cpan/build/XML-SAX-Writer-0.53-Fi80gf/blib/lib/XML/SAX/Writer.pm line 152.
Use of uninitialized value in substitution iterator at /home/sts/cpansmoke/perl-5.12.5/cpan/build/XML-SAX-Writer-0.53-Fi80gf/blib/lib/XML/SAX/Writer.pm line 152.
Use of uninitialized value in substitution iterator at /home/sts/cpansmoke/perl-5.12.5/cpan/build/XML-SAX-Writer-0.53-Fi80gf/blib/lib/XML/SAX/Writer.pm line 152.
Use of uninitialized value in substitution iterator at /home/sts/cpansmoke/perl-5.12.5/cpan/build/XML-SAX-Writer-0.53-Fi80gf/blib/lib/XML/SAX/Writer.pm line 152.
Use of uninitialized value in substitution iterator at /home/sts/cpansmoke/perl-5.12.5/cpan/build/XML-SAX-Writer-0.53-Fi80gf/blib/lib/XML/SAX/Writer.pm line 152.
Use of uninitialized value in substitution iterator at /home/sts/cpansmoke/perl-5.12.5/cpan/build/XML-SAX-Writer-0.53-Fi80gf/blib/lib/XML/SAX/Writer.pm line 152.
Use of uninitialized value in substitution iterator at /home/sts/cpansmoke/perl-5.12.5/cpan/build/XML-SAX-Writer-0.53-Fi80gf/blib/lib/XML/SAX/Writer.pm line 152.
Use of uninitialized value in substitution iterator at /home/sts/cpansmoke/perl-5.12.5/cpan/build/XML-SAX-Writer-0.53-Fi80gf/blib/lib/XML/SAX/Writer.pm line 152.
Use of uninitialized value in substitution iterator at /home/sts/cpansmoke/perl-5.12.5/cpan/build/XML-SAX-Writer-0.53-Fi80gf/blib/lib/XML/SAX/Writer.pm line 152.
Use of uninitialized value in substitution iterator at /home/sts/cpansmoke/perl-5.12.5/cpan/build/XML-SAX-Writer-0.53-Fi80gf/blib/lib/XML/SAX/Writer.pm line 152.
Use of uninitialized value in substitution iterator at /home/sts/cpansmoke/perl-5.12.5/cpan/build/XML-SAX-Writer-0.53-Fi80gf/blib/lib/XML/SAX/Writer.pm line 152.
Use of uninitialized value in substitution iterator at /home/sts/cpansmoke/perl-5.12.5/cpan/build/XML-SAX-Writer-0.53-Fi80gf/blib/lib/XML/SAX/Writer.pm line 152.
Use of uninitialized value in substitution iterator at /home/sts/cpansmoke/perl-5.12.5/cpan/build/XML-SAX-Writer-0.53-Fi80gf/blib/lib/XML/SAX/Writer.pm line 152.
Use of uninitialized value in substitution iterator at /home/sts/cpansmoke/perl-5.12.5/cpan/build/XML-SAX-Writer-0.53-Fi80gf/blib/lib/XML/SAX/Writer.pm line 152.
Use of uninitialized value in substitution iterator at /home/sts/cpansmoke/perl-5.12.5/cpan/build/XML-SAX-Writer-0.53-Fi80gf/blib/lib/XML/SAX/Writer.pm line 152.
Use of uninitialized value $uri in concatenation (.) or string at /home/sts/cpansmoke/perl-5.12.5/cpan/build/XML-Filter-SAX1toSAX2-0.03-7bJQeX/blib/lib/XML/Filter/SAX1toSAX2.pm line 81.
Use of uninitialized value in substitution iterator at /home/sts/cpansmoke/perl-5.12.5/cpan/build/XML-SAX-Writer-0.53-Fi80gf/blib/lib/XML/SAX/Writer.pm line 152.
Use of uninitialized value in substitution iterator at /home/sts/cpansmoke/perl-5.12.5/cpan/build/XML-SAX-Writer-0.53-Fi80gf/blib/lib/XML/SAX/Writer.pm line 152.
Use of uninitialized value in substitution iterator at /home/sts/cpansmoke/perl-5.12.5/cpan/build/XML-SAX-Writer-0.53-Fi80gf/blib/lib/XML/SAX/Writer.pm line 152.
Use of uninitialized value in substitution iterator at /home/sts/cpansmoke/perl-5.12.5/cpan/build/XML-SAX-Writer-0.53-Fi80gf/blib/lib/XML/SAX/Writer.pm line 152.
Use of uninitialized value in substitution iterator at /home/sts/cpansmoke/perl-5.12.5/cpan/build/XML-SAX-Writer-0.53-Fi80gf/blib/lib/XML/SAX/Writer.pm line 152.
Use of uninitialized value in substitution iterator at /home/sts/cpansmoke/perl-5.12.5/cpan/build/XML-SAX-Writer-0.53-Fi80gf/blib/lib/XML/SAX/Writer.pm line 152.
Use of uninitialized value in substitution iterator at /home/sts/cpansmoke/perl-5.12.5/cpan/build/XML-SAX-Writer-0.53-Fi80gf/blib/lib/XML/SAX/Writer.pm line 152.
Use of uninitialized value in substitution iterator at /home/sts/cpansmoke/perl-5.12.5/cpan/build/XML-SAX-Writer-0.53-Fi80gf/blib/lib/XML/SAX/Writer.pm line 152.
Use of uninitialized value in substitution iterator at /home/sts/cpansmoke/perl-5.12.5/cpan/build/XML-SAX-Writer-0.53-Fi80gf/blib/lib/XML/SAX/Writer.pm line 152.
Use of uninitialized value in substitution iterator at /home/sts/cpansmoke/perl-5.12.5/cpan/build/XML-SAX-Writer-0.53-Fi80gf/blib/lib/XML/SAX/Writer.pm line 152.
Use of uninitialized value in substitution iterator at /home/sts/cpansmoke/perl-5.12.5/cpan/build/XML-SAX-Writer-0.53-Fi80gf/blib/lib/XML/SAX/Writer.pm line 152.
Use of uninitialized value in substitution iterator at /home/sts/cpansmoke/perl-5.12.5/cpan/build/XML-SAX-Writer-0.53-Fi80gf/blib/lib/XML/SAX/Writer.pm line 152.
Use of uninitialized value in substitution iterator at /home/sts/cpansmoke/perl-5.12.5/cpan/build/XML-SAX-Writer-0.53-Fi80gf/blib/lib/XML/SAX/Writer.pm line 152.
Use of uninitialized value in substitution iterator at /home/sts/cpansmoke/perl-5.12.5/cpan/build/XML-SAX-Writer-0.53-Fi80gf/blib/lib/XML/SAX/Writer.pm line 152.
Use of uninitialized value in substitution iterator at /home/sts/cpansmoke/perl-5.12.5/cpan/build/XML-SAX-Writer-0.53-Fi80gf/blib/lib/XML/SAX/Writer.pm line 152.
Use of uninitialized value in substitution iterator at /home/sts/cpansmoke/perl-5.12.5/cpan/build/XML-SAX-Writer-0.53-Fi80gf/blib/lib/XML/SAX/Writer.pm line 152.
Use of uninitialized value in substitution iterator at /home/sts/cpansmoke/perl-5.12.5/cpan/build/XML-SAX-Writer-0.53-Fi80gf/blib/lib/XML/SAX/Writer.pm line 152.
Use of uninitialized value in substitution iterator at /home/sts/cpansmoke/perl-5.12.5/cpan/build/XML-SAX-Writer-0.53-Fi80gf/blib/lib/XML/SAX/Writer.pm line 152.
Use of uninitialized value in substitution iterator at /home/sts/cpansmoke/perl-5.12.5/cpan/build/XML-SAX-Writer-0.53-Fi80gf/blib/lib/XML/SAX/Writer.pm line 152.
Use of uninitialized value in substitution iterator at /home/sts/cpansmoke/perl-5.12.5/cpan/build/XML-SAX-Writer-0.53-Fi80gf/blib/lib/XML/SAX/Writer.pm line 152.
Use of uninitialized value in substitution iterator at /home/sts/cpansmoke/perl-5.12.5/cpan/build/XML-SAX-Writer-0.53-Fi80gf/blib/lib/XML/SAX/Writer.pm line 152.
Use of uninitialized value in substitution iterator at /home/sts/cpansmoke/perl-5.12.5/cpan/build/XML-SAX-Writer-0.53-Fi80gf/blib/lib/XML/SAX/Writer.pm line 152.
Use of uninitialized value in substitution iterator at /home/sts/cpansmoke/perl-5.12.5/cpan/build/XML-SAX-Writer-0.53-Fi80gf/blib/lib/XML/SAX/Writer.pm line 152.
Use of uninitialized value in substitution iterator at /home/sts/cpansmoke/perl-5.12.5/cpan/build/XML-SAX-Writer-0.53-Fi80gf/blib/lib/XML/SAX/Writer.pm line 152.
Use of uninitialized value in substitution iterator at /home/sts/cpansmoke/perl-5.12.5/cpan/build/XML-SAX-Writer-0.53-Fi80gf/blib/lib/XML/SAX/Writer.pm line 152.
Use of uninitialized value in substitution iterator at /home/sts/cpansmoke/perl-5.12.5/cpan/build/XML-SAX-Writer-0.53-Fi80gf/blib/lib/XML/SAX/Writer.pm line 152.
Use of uninitialized value in substitution iterator at /home/sts/cpansmoke/perl-5.12.5/cpan/build/XML-SAX-Writer-0.53-Fi80gf/blib/lib/XML/SAX/Writer.pm line 152.
Use of uninitialized value in substitution iterator at /home/sts/cpansmoke/perl-5.12.5/cpan/build/XML-SAX-Writer-0.53-Fi80gf/blib/lib/XML/SAX/Writer.pm line 152.
Use of uninitialized value in substitution iterator at /home/sts/cpansmoke/perl-5.12.5/cpan/build/XML-SAX-Writer-0.53-Fi80gf/blib/lib/XML/SAX/Writer.pm line 152.
Use of uninitialized value in substitution iterator at /home/sts/cpansmoke/perl-5.12.5/cpan/build/XML-SAX-Writer-0.53-Fi80gf/blib/lib/XML/SAX/Writer.pm line 152.
Use of uninitialized value in substitution iterator at /home/sts/cpansmoke/perl-5.12.5/cpan/build/XML-SAX-Writer-0.53-Fi80gf/blib/lib/XML/SAX/Writer.pm line 152.
Use of uninitialized value in substitution iterator at /home/sts/cpansmoke/perl-5.12.5/cpan/build/XML-SAX-Writer-0.53-Fi80gf/blib/lib/XML/SAX/Writer.pm line 152.
t/050.t ................... ok
t/060_ExtOn_skip_root.t ... ok
Use of uninitialized value in substitution iterator at /home/sts/cpansmoke/perl-5.12.5/cpan/build/XML-SAX-Writer-0.53-Fi80gf/blib/lib/XML/SAX/Writer.pm line 152.
Use of uninitialized value in substitution iterator at /home/sts/cpansmoke/perl-5.12.5/cpan/build/XML-SAX-Writer-0.53-Fi80gf/blib/lib/XML/SAX/Writer.pm line 152.
Use of uninitialized value in substitution iterator at /home/sts/cpansmoke/perl-5.12.5/cpan/build/XML-SAX-Writer-0.53-Fi80gf/blib/lib/XML/SAX/Writer.pm line 152.
t/070_characters_cdata.t .. ok
Use of uninitialized value in substitution iterator at /home/sts/cpansmoke/perl-5.12.5/cpan/build/XML-SAX-Writer-0.53-Fi80gf/blib/lib/XML/SAX/Writer.pm line 152.
Use of uninitialized value in substitution iterator at /home/sts/cpansmoke/perl-5.12.5/cpan/build/XML-SAX-Writer-0.53-Fi80gf/blib/lib/XML/SAX/Writer.pm line 152.
Use of uninitialized value in substitution iterator at /home/sts/cpansmoke/perl-5.12.5/cpan/build/XML-SAX-Writer-0.53-Fi80gf/blib/lib/XML/SAX/Writer.pm line 152.
Use of uninitialized value in substitution iterator at /home/sts/cpansmoke/perl-5.12.5/cpan/build/XML-SAX-Writer-0.53-Fi80gf/blib/lib/XML/SAX/Writer.pm line 152.
Use of uninitialized value in substitution iterator at /home/sts/cpansmoke/perl-5.12.5/cpan/build/XML-SAX-Writer-0.53-Fi80gf/blib/lib/XML/SAX/Writer.pm line 152.
Use of uninitialized value in substitution iterator at /home/sts/cpansmoke/perl-5.12.5/cpan/build/XML-SAX-Writer-0.53-Fi80gf/blib/lib/XML/SAX/Writer.pm line 152.
Use of uninitialized value in substitution iterator at /home/sts/cpansmoke/perl-5.12.5/cpan/build/XML-SAX-Writer-0.53-Fi80gf/blib/lib/XML/SAX/Writer.pm line 152.
t/080_create_pipe.t ....... ok
t/081_split_pipe.t ........ ok
t/090_add_content.t ....... ok
t/093_wrap_around.t ....... ok
All tests successful.
Files=11, Tests=81,  2 wallclock secs ( 0.04 usr  0.13 sys +  0.58 cusr  0.30 csys =  1.05 CPU)
Result: PASS

------------------------------
PREREQUISITES
------------------------------

Prerequisite modules loaded:

requires:

    Module                  Need Have  
    ----------------------- ---- ------
    Tie::UnionHash          0    0.02  
    XML::Filter::SAX1toSAX2 0    0.03  
    XML::Flow               0.85 0.86  
    XML::Parser::PerlSAX    0    0.08  
    XML::SAX                0    0.99  
    XML::SAX::Writer        0    0.53  

configure_requires:

    Module                  Need Have  
    ----------------------- ---- ------
    Module::Build           0.36 0.4003


------------------------------
ENVIRONMENT AND OTHER CONTEXT
------------------------------

Environment variables:

    AUTOMATED_TESTING = 1
    PATH = /home/sts/bin:/bin:/sbin:/usr/bin:/usr/sbin:/usr/X11R6/bin:/usr/local/bin:/usr/local/sbin:/usr/games:.
    PERL5LIB = /home/sts/cpansmoke/perl-5.12.5/cpan/build/libxml-perl-0.08-x1fYqI/blib/arch:/home/sts/cpansmoke/perl-5.12.5/cpan/build/libxml-perl-0.08-x1fYqI/blib/lib:/home/sts/cpansmoke/perl-5.12.5/cpan/build/XML-Flow-0.86-qixXEu/blib/arch:/home/sts/cpansmoke/perl-5.12.5/cpan/build/XML-Flow-0.86-qixXEu/blib/lib:/home/sts/cpansmoke/perl-5.12.5/cpan/build/XML-Writer-0.615-a7q1OT/blib/arch:/home/sts/cpansmoke/perl-5.12.5/cpan/build/XML-Writer-0.615-a7q1OT/blib/lib:/home/sts/cpansmoke/perl-5.12.5/cpan/build/XML-Parser-2.41-KjNMr0/blib/arch:/home/sts/cpansmoke/perl-5.12.5/cpan/build/XML-Parser-2.41-KjNMr0/blib/lib:/home/sts/cpansmoke/perl-5.12.5/cpan/build/Tie-UnionHash-0.02-2YRcHH/blib/arch:/home/sts/cpansmoke/perl-5.12.5/cpan/build/Tie-UnionHash-0.02-2YRcHH/blib/lib:/home/sts/cpansmoke/perl-5.12.5/cpan/build/XML-Filter-SAX1toSAX2-0.03-7bJQeX/blib/arch:/home/sts/cpansmoke/perl-5.12.5/cpan/build/XML-Filter-SAX1toSAX2-0.03-7bJQeX/blib/lib:/home/sts/cpansmoke/perl-5.12.5/cpan/build/XML-SAX-Writer-0.53-Fi80gf/blib/arch:/home/sts/cpansmoke/perl-5.12.5/cpan/build/XML-SAX-Writer-0.53-Fi80gf/blib/lib:/home/sts/cpansmoke/perl-5.12.5/cpan/build/XML-Filter-BufferText-1.01-jjSKt7/blib/arch:/home/sts/cpansmoke/perl-5.12.5/cpan/build/XML-Filter-BufferText-1.01-jjSKt7/blib/lib:/home/sts/cpansmoke/perl-5.12.5/cpan/build/XML-SAX-0.99-Vim655/blib/arch:/home/sts/cpansmoke/perl-5.12.5/cpan/build/XML-SAX-0.99-Vim655/blib/lib:/home/sts/cpansmoke/perl-5.12.5/cpan/build/XML-NamespaceSupport-1.11-oPioht/blib/arch:/home/sts/cpansmoke/perl-5.12.5/cpan/build/XML-NamespaceSupport-1.11-oPioht/blib/lib:/home/sts/cpansmoke/perl-5.12.5/cpan/build/XML-SAX-Base-1.08-vUs197/blib/arch:/home/sts/cpansmoke/perl-5.12.5/cpan/build/XML-SAX-Base-1.08-vUs197/blib/lib:/home/sts/cpansmoke/perl-5.12.5/cpan/build/Module-Build-0.4003-Q28ZzZ/blib/arch:/home/sts/cpansmoke/perl-5.12.5/cpan/build/Module-Build-0.4003-Q28ZzZ/blib/lib:/home/sts/cpansmoke/perl-5.12.5/cpan/build/Perl-OSType-1.002-Xs7Bh7/blib/arch:/home/sts/cpansmoke/perl-5.12.5/cpan/build/Perl-OSType-1.002-Xs7Bh7/blib/lib:/home/sts/cpansmoke/perl-5.12.5/cpan/build/CPAN-Meta-2.120921-RKJdx0/blib/arch:/home/sts/cpansmoke/perl-5.12.5/cpan/build/CPAN-Meta-2.120921-RKJdx0/blib/lib:/home/sts/cpansmoke/perl-5.12.5/cpan/build/CPAN-Meta-Requirements-2.122-bhV9K7/blib/arch:/home/sts/cpansmoke/perl-5.12.5/cpan/build/CPAN-Meta-Requirements-2.122-bhV9K7/blib/lib:/home/sts/cpansmoke/perl-5.12.5/cpan/build/Parse-CPAN-Meta-1.4404-3IOWrH/blib/arch:/home/sts/cpansmoke/perl-5.12.5/cpan/build/Parse-CPAN-Meta-1.4404-3IOWrH/blib/lib:/home/sts/cpansmoke/perl-5.12.5/cpan/build/JSON-PP-2.27200-mmoSEw/blib/arch:/home/sts/cpansmoke/perl-5.12.5/cpan/build/JSON-PP-2.27200-mmoSEw/blib/lib:/home/sts/cpansmoke/perl-5.12.5/cpan/build/CPAN-Meta-YAML-0.008-usLffE/blib/arch:/home/sts/cpansmoke/perl-5.12.5/cpan/build/CPAN-Meta-YAML-0.008-usLffE/blib/lib:/home/sts/cpansmoke/perl-5.12.5/cpan/build/Module-Metadata-1.000011-QTfSi5/blib/arch:/home/sts/cpansmoke/perl-5.12.5/cpan/build/Module-Metadata-1.000011-QTfSi5/blib/lib:/home/sts/cpansmoke/perl-5.12.5/cpan/build/version-0.9901-Jpnx83/blib/arch:/home/sts/cpansmoke/perl-5.12.5/cpan/build/version-0.9901-Jpnx83/blib/lib
    PERL5OPT = 
    PERL5_CPANPLUS_IS_RUNNING = 31152
    PERL5_CPAN_IS_RUNNING = 31152
    PERL5_CPAN_IS_RUNNING_IN_RECURSION = 3754,31152
    PERL_CR_SMOKER_CURRENT = Perl6-Pod-Slide-0.06
    PERL_EXTUTILS_AUTOINSTALL = --defaultdeps
    PERL_MM_USE_DEFAULT = 1
    SHELL = /usr/local/bin/bash
    TERM = screen
    TMPDIR = /home/sts/cpansmoke/tmp

Perl special variables (and OS-specific diagnostics, for MSWin32):

    $^X = /home/sts/cpansmoke/perl-5.12.5/bin/perl
    $UID/$EUID = 1000 / 1000
    $GID = 10 10 0
    $EGID = 10 10 0

Perl module toolchain versions installed:

    Module              Have    
    ------------------- --------
    CPAN                1.9800  
    CPAN::Meta          2.120921
    Cwd                 3.31    
    ExtUtils::CBuilder  0.27    
    ExtUtils::Command   1.16    
    ExtUtils::Install   1.55    
    ExtUtils::MakeMaker 6.56    
    ExtUtils::Manifest  1.57    
    ExtUtils::ParseXS   2.21    
    File::Spec          3.31_01 
    JSON                2.53    
    JSON::PP            2.27200 
    Module::Build       0.4003  
    Module::Signature   n/a     
    Parse::CPAN::Meta   1.4404  
    Test::Harness       3.17    
    Test::More          0.98    
    YAML                n/a     
    YAML::Syck          n/a     
    version             0.9901  


--

Summary of my perl5 (revision 5 version 12 subversion 5) configuration:
   
  Platform:
    osname=openbsd, osvers=5.2, archname=OpenBSD.i386-openbsd-thread-multi
    uname='openbsd cpansmoke3 5.2 generic.mp#339 i386 '
    config_args='-des -Dusethreads -Dprefix=/home/sts/cpansmoke/perl-5.12.5'
    hint=recommended, useposix=true, d_sigaction=define
    useithreads=define, usemultiplicity=define
    useperlio=define, d_sfio=undef, uselargefiles=define, usesocks=undef
    use64bitint=undef, use64bitall=undef, uselongdouble=undef
    usemymalloc=n, bincompat5005=undef
  Compiler:
    cc='cc', ccflags ='-pthread -fno-strict-aliasing -pipe -fstack-protector -I/usr/local/include',
    optimize='-O2',
    cppflags='-pthread -fno-strict-aliasing -pipe -fstack-protector -I/usr/local/include'
    ccversion='', gccversion='4.2.1 20070719 ', gccosandvers='openbsd5.2'
    intsize=4, longsize=4, ptrsize=4, doublesize=8, byteorder=1234
    d_longlong=define, longlongsize=8, d_longdbl=define, longdblsize=12
    ivtype='long', ivsize=4, nvtype='double', nvsize=8, Off_t='off_t', lseeksize=8
    alignbytes=4, prototype=define
  Linker and Libraries:
    ld='cc', ldflags ='-pthread -Wl,-E  -fstack-protector -L/usr/local/lib'
    libpth=/usr/local/lib /usr/lib
    libs=-lgdbm -lm -lutil -lc
    perllibs=-lm -lutil -lc
    libc=/usr/lib/libc.so.65.0, so=so, useshrplib=false, libperl=libperl.a
    gnulibc_version=''
  Dynamic Linking:
    dlsrc=dl_dlopen.xs, dlext=so, d_dlsymun=undef, ccdlflags=' '
    cccdlflags='-DPIC -fPIC ', lddlflags='-shared -fPIC  -L/usr/local/lib -fstack-protector'


Characteristics of this binary (from libperl): 
  Compile-time options: MULTIPLICITY PERL_DONT_CREATE_GVSV
                        PERL_IMPLICIT_CONTEXT PERL_MALLOC_WRAP USE_ITHREADS
                        USE_LARGE_FILES USE_PERLIO USE_PERL_ATOF
                        USE_REENTRANT_API
  Built under openbsd
  Compiled at Nov 10 2012 16:11:13
  %ENV:
    PERL5LIB="/home/sts/cpansmoke/perl-5.12.5/cpan/build/libxml-perl-0.08-x1fYqI/blib/arch:/home/sts/cpansmoke/perl-5.12.5/cpan/build/libxml-perl-0.08-x1fYqI/blib/lib:/home/sts/cpansmoke/perl-5.12.5/cpan/build/XML-Flow-0.86-qixXEu/blib/arch:/home/sts/cpansmoke/perl-5.12.5/cpan/build/XML-Flow-0.86-qixXEu/blib/lib:/home/sts/cpansmoke/perl-5.12.5/cpan/build/XML-Writer-0.615-a7q1OT/blib/arch:/home/sts/cpansmoke/perl-5.12.5/cpan/build/XML-Writer-0.615-a7q1OT/blib/lib:/home/sts/cpansmoke/perl-5.12.5/cpan/build/XML-Parser-2.41-KjNMr0/blib/arch:/home/sts/cpansmoke/perl-5.12.5/cpan/build/XML-Parser-2.41-KjNMr0/blib/lib:/home/sts/cpansmoke/perl-5.12.5/cpan/build/Tie-UnionHash-0.02-2YRcHH/blib/arch:/home/sts/cpansmoke/perl-5.12.5/cpan/build/Tie-UnionHash-0.02-2YRcHH/blib/lib:/home/sts/cpansmoke/perl-5.12.5/cpan/build/XML-Filter-SAX1toSAX2-0.03-7bJQeX/blib/arch:/home/sts/cpansmoke/perl-5.12.5/cpan/build/XML-Filter-SAX1toSAX2-0.03-7bJQeX/blib/lib:/home/sts/cpansmoke/perl-5.12.5/cpan/build/XML-SAX-Writer-0.53-Fi80gf/blib/arch:/home/sts/cpansmoke/perl-5.12.5/cpan/build/XML-SAX-Writer-0.53-Fi80gf/blib/lib:/home/sts/cpansmoke/perl-5.12.5/cpan/build/XML-Filter-BufferText-1.01-jjSKt7/blib/arch:/home/sts/cpansmoke/perl-5.12.5/cpan/build/XML-Filter-BufferText-1.01-jjSKt7/blib/lib:/home/sts/cpansmoke/perl-5.12.5/cpan/build/XML-SAX-0.99-Vim655/blib/arch:/home/sts/cpansmoke/perl-5.12.5/cpan/build/XML-SAX-0.99-Vim655/blib/lib:/home/sts/cpansmoke/perl-5.12.5/cpan/build/XML-NamespaceSupport-1.11-oPioht/blib/arch:/home/sts/cpansmoke/perl-5.12.5/cpan/build/XML-NamespaceSupport-1.11-oPioht/blib/lib:/home/sts/cpansmoke/perl-5.12.5/cpan/build/XML-SAX-Base-1.08-vUs197/blib/arch:/home/sts/cpansmoke/perl-5.12.5/cpan/build/XML-SAX-Base-1.08-vUs197/blib/lib:/home/sts/cpansmoke/perl-5.12.5/cpan/build/Module-Build-0.4003-Q28ZzZ/blib/arch:/home/sts/cpansmoke/perl-5.12.5/cpan/build/Module-Build-0.4003-Q28ZzZ/blib/lib:/home/sts/cpansmoke/perl-5.12.5/cpan/build/Perl-OSType-1.002-Xs7Bh7/blib/arch:/home/sts/cpansmoke/perl-5.12.5/cpan/build/Perl-OSType-1.002-Xs7Bh7/blib/lib:/home/sts/cpansmoke/perl-5.12.5/cpan/build/CPAN-Meta-2.120921-RKJdx0/blib/arch:/home/sts/cpansmoke/perl-5.12.5/cpan/build/CPAN-Meta-2.120921-RKJdx0/blib/lib:/home/sts/cpansmoke/perl-5.12.5/cpan/build/CPAN-Meta-Requirements-2.122-bhV9K7/blib/arch:/home/sts/cpansmoke/perl-5.12.5/cpan/build/CPAN-Meta-Requirements-2.122-bhV9K7/blib/lib:/home/sts/cpansmoke/perl-5.12.5/cpan/build/Parse-CPAN-Meta-1.4404-3IOWrH/blib/arch:/home/sts/cpansmoke/perl-5.12.5/cpan/build/Parse-CPAN-Meta-1.4404-3IOWrH/blib/lib:/home/sts/cpansmoke/perl-5.12.5/cpan/build/JSON-PP-2.27200-mmoSEw/blib/arch:/home/sts/cpansmoke/perl-5.12.5/cpan/build/JSON-PP-2.27200-mmoSEw/blib/lib:/home/sts/cpansmoke/perl-5.12.5/cpan/build/CPAN-Meta-YAML-0.008-usLffE/blib/arch:/home/sts/cpansmoke/perl-5.12.5/cpan/build/CPAN-Meta-YAML-0.008-usLffE/blib/lib:/home/sts/cpansmoke/perl-5.12.5/cpan/build/Module-Metadata-1.000011-QTfSi5/blib/arch:/home/sts/cpansmoke/perl-5.12.5/cpan/build/Module-Metadata-1.000011-QTfSi5/blib/lib:/home/sts/cpansmoke/perl-5.12.5/cpan/build/version-0.9901-Jpnx83/blib/arch:/home/sts/cpansmoke/perl-5.12.5/cpan/build/version-0.9901-Jpnx83/blib/lib"
    PERL5OPT=""
    PERL5_CPANPLUS_IS_RUNNING="31152"
    PERL5_CPAN_IS_RUNNING="31152"
    PERL5_CPAN_IS_RUNNING_IN_RECURSION="3754,31152"
    PERL_CR_SMOKER_CURRENT="Perl6-Pod-Slide-0.06"
    PERL_EXTUTILS_AUTOINSTALL="--defaultdeps"
    PERL_MM_USE_DEFAULT="1"
  @INC:
    /home/sts/cpansmoke/perl-5.12.5/cpan/build/libxml-perl-0.08-x1fYqI/blib/arch
    /home/sts/cpansmoke/perl-5.12.5/cpan/build/libxml-perl-0.08-x1fYqI/blib/lib
    /home/sts/cpansmoke/perl-5.12.5/cpan/build/XML-Flow-0.86-qixXEu/blib/arch
    /home/sts/cpansmoke/perl-5.12.5/cpan/build/XML-Flow-0.86-qixXEu/blib/lib
    /home/sts/cpansmoke/perl-5.12.5/cpan/build/XML-Writer-0.615-a7q1OT/blib/arch
    /home/sts/cpansmoke/perl-5.12.5/cpan/build/XML-Writer-0.615-a7q1OT/blib/lib
    /home/sts/cpansmoke/perl-5.12.5/cpan/build/XML-Parser-2.41-KjNMr0/blib/arch
    /home/sts/cpansmoke/perl-5.12.5/cpan/build/XML-Parser-2.41-KjNMr0/blib/lib
    /home/sts/cpansmoke/perl-5.12.5/cpan/build/Tie-UnionHash-0.02-2YRcHH/blib/arch
    /home/sts/cpansmoke/perl-5.12.5/cpan/build/Tie-UnionHash-0.02-2YRcHH/blib/lib
    /home/sts/cpansmoke/perl-5.12.5/cpan/build/XML-Filter-SAX1toSAX2-0.03-7bJQeX/blib/arch
    /home/sts/cpansmoke/perl-5.12.5/cpan/build/XML-Filter-SAX1toSAX2-0.03-7bJQeX/blib/lib
    /home/sts/cpansmoke/perl-5.12.5/cpan/build/XML-SAX-Writer-0.53-Fi80gf/blib/arch
    /home/sts/cpansmoke/perl-5.12.5/cpan/build/XML-SAX-Writer-0.53-Fi80gf/blib/lib
    /home/sts/cpansmoke/perl-5.12.5/cpan/build/XML-Filter-BufferText-1.01-jjSKt7/blib/arch
    /home/sts/cpansmoke/perl-5.12.5/cpan/build/XML-Filter-BufferText-1.01-jjSKt7/blib/lib
    /home/sts/cpansmoke/perl-5.12.5/cpan/build/XML-SAX-0.99-Vim655/blib/arch
    /home/sts/cpansmoke/perl-5.12.5/cpan/build/XML-SAX-0.99-Vim655/blib/lib
    /home/sts/cpansmoke/perl-5.12.5/cpan/build/XML-NamespaceSupport-1.11-oPioht/blib/arch
    /home/sts/cpansmoke/perl-5.12.5/cpan/build/XML-NamespaceSupport-1.11-oPioht/blib/lib
    /home/sts/cpansmoke/perl-5.12.5/cpan/build/XML-SAX-Base-1.08-vUs197/blib/arch
    /home/sts/cpansmoke/perl-5.12.5/cpan/build/XML-SAX-Base-1.08-vUs197/blib/lib
    /home/sts/cpansmoke/perl-5.12.5/cpan/build/Module-Build-0.4003-Q28ZzZ/blib/arch
    /home/sts/cpansmoke/perl-5.12.5/cpan/build/Module-Build-0.4003-Q28ZzZ/blib/lib
    /home/sts/cpansmoke/perl-5.12.5/cpan/build/Perl-OSType-1.002-Xs7Bh7/blib/arch
    /home/sts/cpansmoke/perl-5.12.5/cpan/build/Perl-OSType-1.002-Xs7Bh7/blib/lib
    /home/sts/cpansmoke/perl-5.12.5/cpan/build/CPAN-Meta-2.120921-RKJdx0/blib/arch
    /home/sts/cpansmoke/perl-5.12.5/cpan/build/CPAN-Meta-2.120921-RKJdx0/blib/lib
    /home/sts/cpansmoke/perl-5.12.5/cpan/build/CPAN-Meta-Requirements-2.122-bhV9K7/blib/arch
    /home/sts/cpansmoke/perl-5.12.5/cpan/build/CPAN-Meta-Requirements-2.122-bhV9K7/blib/lib
    /home/sts/cpansmoke/perl-5.12.5/cpan/build/Parse-CPAN-Meta-1.4404-3IOWrH/blib/arch
    /home/sts/cpansmoke/perl-5.12.5/cpan/build/Parse-CPAN-Meta-1.4404-3IOWrH/blib/lib
    /home/sts/cpansmoke/perl-5.12.5/cpan/build/JSON-PP-2.27200-mmoSEw/blib/arch
    /home/sts/cpansmoke/perl-5.12.5/cpan/build/JSON-PP-2.27200-mmoSEw/blib/lib
    /home/sts/cpansmoke/perl-5.12.5/cpan/build/CPAN-Meta-YAML-0.008-usLffE/blib/arch
    /home/sts/cpansmoke/perl-5.12.5/cpan/build/CPAN-Meta-YAML-0.008-usLffE/blib/lib
    /home/sts/cpansmoke/perl-5.12.5/cpan/build/Module-Metadata-1.000011-QTfSi5/blib/arch
    /home/sts/cpansmoke/perl-5.12.5/cpan/build/Module-Metadata-1.000011-QTfSi5/blib/lib
    /home/sts/cpansmoke/perl-5.12.5/cpan/build/version-0.9901-Jpnx83/blib/arch
    /home/sts/cpansmoke/perl-5.12.5/cpan/build/version-0.9901-Jpnx83/blib/lib
    /home/sts/cpansmoke/perl-5.12.5/lib/site_perl/5.12.5/OpenBSD.i386-openbsd-thread-multi
    /home/sts/cpansmoke/perl-5.12.5/lib/site_perl/5.12.5
    /home/sts/cpansmoke/perl-5.12.5/lib/5.12.5/OpenBSD.i386-openbsd-thread-multi
    /home/sts/cpansmoke/perl-5.12.5/lib/5.12.5
    .