App-CSE v0.016 Perl 5 v5.24.4 amd64-freebsd

Status
Pass
From
Slaven Rezić
Dist
App-CSE v0.016
Platform
Perl 5 v5.24.4 amd64-freebsd
Date
2021-02-18 11:07:56
ID
8e0d03b0-71d9-11eb-b1e7-57611f24ea8f
This distribution has been tested as part of the CPAN Testers
project, supporting the Perl programming language.  See
http://wiki.cpantesters.org/ for more information or email
questions to cpan-testers-discuss@perl.org


--
Dear Jerome Eteve,

This is a computer-generated report for App-CSE-0.016
on perl 5.24.4, created by CPAN-Reporter-1.2018.

Thank you for uploading your work to CPAN.  Congratulations!
All tests were successful.

Sections of this report:

    * Tester comments
    * Program output
    * Prerequisites
    * Environment and other context

------------------------------
TESTER COMMENTS
------------------------------

Additional comments from tester:

none provided

------------------------------
PROGRAM OUTPUT
------------------------------

Output from '/usr/bin/make test':

PERL_DL_NONLAZY=1 "/usr/perl5.24.4p/bin/perl5.24.4" "-MExtUtils::Command::MM" "-MTest::Harness" "-e" "undef *Test::Harness::Switches; test_harness(0, 'blib/lib', 'blib/arch')" t/*.t t/toindex/perl/*.t
t/00-load.t ............. ok
t/01-help.t ............. ok
t/02-check.t ............ ok
t/03-index.t ............ ok
t/04-search.t ........... ok
t/05-more-search.t ...... ok
t/06-update.t ........... ok
t/07-decl.t ............. ok
t/08-meta.t ............. ok
t/09-watch.t ............ skipped: Do not run this test. unless TEST_SLOW=1
t/10-hidden.t ........... ok
# this_is_a_test
t/toindex/perl/hello.t .. ok
All tests successful.
Files=12, Tests=160, 12 wallclock secs ( 0.00 usr  0.10 sys +  1.47 cusr  5.61 csys =  7.18 CPU)
Result: PASS

------------------------------
PREREQUISITES
------------------------------

Prerequisite modules loaded:

requires:

    Module                  Need        Have    
    ----------------------- ----------- --------
    Carp                    0           1.50    
    Class::InsideOut        0           1.14    
    Class::Load             0           0.25    
    DateTime                0           1.54    
    Encode                  0           3.08    
    File::BaseDir           0           0.08    
    File::Find              0           1.34    
    File::MimeInfo::Magic   0           0.30    
    File::Slurp             0           9999.32 
    File::stat              0           1.07    
    Filesys::Notify::KQueue 0           0.11    
    Filesys::Notify::Simple 0           0.14    
    Getopt::Long            0           2.52    
    IO::Interactive         0           1.022   
    JSON                    0           4.03    
    Log::Dispatch::Syslog   0           2.70    
    Log::Log4perl           0           1.52    
    Lucy                    0.006000004 0.006002
    Moose                   0           2.2014  
    Path::Class::Dir        0           0.37    
    Pod::Text               0           4.14    
    PPI                     0           1.270   
    Regexp::Assemble        0           0.38    
    Scalar::Util            0           1.55    
    String::CamelCase       0           0.04    
    Term::ProgressBar       2.17        2.22    
    Text::Glob              0.09        0.11    
    Time::HiRes             0           1.9764  
    XML::LibXML             0           2.0205  

build_requires:

    Module                  Need        Have    
    ----------------------- ----------- --------
    Carp::Always            0           0.16    
    ExtUtils::MakeMaker     0           7.58    
    File::Copy::Recursive   0           0.45    
    File::Slurp             0           9999.32 
    File::Temp              0           0.2311  
    Test::More              0           1.302183

configure_requires:

    Module                  Need        Have    
    ----------------------- ----------- --------
    ExtUtils::MakeMaker     0           7.58    


------------------------------
ENVIRONMENT AND OTHER CONTEXT
------------------------------

Environment variables:

    LC_ALL = de_DE.ISO8859-1
    PATH = /usr/local/bin:/usr/bin:/bin:/usr/local/sbin:/usr/sbin:/sbin:/home/cpansand/bin/freebsd10.3:/home/cpansand/bin/sh:/home/cpansand/bin:/usr/games:/home/cpansand/devel:/home/eserte/src/srezic-misc/scripts
    PERL5LIB = /home/cpansand/.cpan/build/2021021812/Lucy-0.6.2-0/blib/arch:/home/cpansand/.cpan/build/2021021812/Lucy-0.6.2-0/blib/lib:/home/cpansand/.cpan/build/2021021812/Clownfish-0.6.3-0/blib/arch:/home/cpansand/.cpan/build/2021021812/Clownfish-0.6.3-0/blib/lib:/home/cpansand/.cpan/build/2021021812/Clownfish-CFC-0.6.3-0/blib/arch:/home/cpansand/.cpan/build/2021021812/Clownfish-CFC-0.6.3-0/blib/lib:/home/cpansand/.cpan/build/2021021812/Filesys-Notify-KQueue-0.11-0/blib/arch:/home/cpansand/.cpan/build/2021021812/Filesys-Notify-KQueue-0.11-0/blib/lib
    PERL5OPT = 
    PERL5_CPANPLUS_IS_RUNNING = 95643
    PERL5_CPAN_IS_RUNNING = 95643
    PERL5_CPAN_IS_RUNNING_IN_RECURSION = 92208,95643
    PERLDOC = -MPod::Perldoc::ToTextOverstrike
    PERL_BATCH = yes
    PERL_CANARY_STABILITY_NOPROMPT = 1
    PERL_CPAN_REPORTER_CONFIG = /var/tmp/cpansmoker-1023/2021021810/cpanreporter_000_config.ini
    PERL_EXTUTILS_AUTOINSTALL = --defaultdeps
    PERL_USE_UNSAFE_INC = 1
    SHELL = /usr/local/bin/zsh
    TERM = screen
    TMPDIR = /var/tmp/cpansmoker-1023/2021021810

Perl special variables (and OS-specific diagnostics, for MSWin32):

    $^X = /usr/perl5.24.4p/bin/perl5.24.4
    $UID/$EUID = 1023 / 1023
    $GID = 1023 1023
    $EGID = 1023 1023

Perl module toolchain versions installed:

    Module              Have    
    ------------------- --------
    CPAN                2.28    
    CPAN::Meta          2.150010
    Cwd                 3.75    
    ExtUtils::CBuilder  0.280235
    ExtUtils::Command   7.58    
    ExtUtils::Install   2.20    
    ExtUtils::MakeMaker 7.58    
    ExtUtils::Manifest  1.70    
    ExtUtils::ParseXS   3.35    
    File::Spec          3.75    
    JSON                4.03    
    JSON::PP            4.05    
    Module::Build       0.4229  
    Module::Signature   0.87    
    Parse::CPAN::Meta   2.150010
    Test::Harness       3.42    
    Test::More          1.302183
    YAML                1.30    
    YAML::Syck          1.34    
    version             0.9928  


--

Summary of my perl5 (revision 5 version 24 subversion 4) configuration:
   
  Platform:
    osname=freebsd, osvers=10.3-release-p24, archname=amd64-freebsd
    uname='freebsd cvrsnica-freebsd-101.herceg.de 10.3-release-p24 freebsd 10.3-release-p24 #0: wed nov 15 04:57:40 utc 2017 root@amd64-builder.daemonology.net:usrobjusrsrcsysgeneric amd64 '
    config_args='-ds -e -Dprefix=/usr/perl5.24.4p -Dcf_email=srezic@cpan.org -Doptimize=-O2 -pipe'
    hint=recommended, useposix=true, d_sigaction=define
    useithreads=undef, usemultiplicity=undef
    use64bitint=define, use64bitall=define, uselongdouble=undef
    usemymalloc=n, bincompat5005=undef
  Compiler:
    cc='cc', ccflags ='-DHAS_FPSETMASK -DHAS_FLOATINGPOINT_H -fno-strict-aliasing -pipe -fstack-protector -I/usr/local/include -D_FORTIFY_SOURCE=2',
    optimize='-O2 -pipe',
    cppflags='-DHAS_FPSETMASK -DHAS_FLOATINGPOINT_H -fno-strict-aliasing -pipe -fstack-protector -I/usr/local/include'
    ccversion='', gccversion='4.2.1 Compatible FreeBSD Clang 3.4.1 (tags/RELEASE_34/dot1-final 208032)', gccosandvers=''
    intsize=4, longsize=8, ptrsize=8, doublesize=8, byteorder=12345678, doublekind=3
    d_longlong=define, longlongsize=8, d_longdbl=define, longdblsize=16, longdblkind=3
    ivtype='long', ivsize=8, nvtype='double', nvsize=8, Off_t='off_t', lseeksize=8
    alignbytes=8, prototype=define
  Linker and Libraries:
    ld='cc', ldflags ='-pthread -Wl,-E  -fstack-protector -L/usr/local/lib'
    libpth=/usr/lib /usr/local/lib /usr/include/clang/3.4.1 /usr/lib
    libs=-lpthread -lgdbm -lm -lcrypt -lutil -lc
    perllibs=-lpthread -lm -lcrypt -lutil -lc
    libc=, so=so, useshrplib=false, libperl=libperl.a
    gnulibc_version=''
  Dynamic Linking:
    dlsrc=dl_dlopen.xs, dlext=so, d_dlsymun=undef, ccdlflags=' '
    cccdlflags='-DPIC -fPIC', lddlflags='-shared  -L/usr/local/lib -fstack-protector'


Characteristics of this binary (from libperl): 
  Compile-time options: HAS_TIMES PERLIO_LAYERS PERL_COPY_ON_WRITE
                        PERL_DONT_CREATE_GVSV
                        PERL_HASH_FUNC_ONE_AT_A_TIME_HARD PERL_MALLOC_WRAP
                        PERL_PRESERVE_IVUV USE_64_BIT_ALL USE_64_BIT_INT
                        USE_LARGE_FILES USE_LOCALE USE_LOCALE_COLLATE
                        USE_LOCALE_CTYPE USE_LOCALE_NUMERIC USE_LOCALE_TIME
                        USE_PERLIO USE_PERL_ATOF
  Built under freebsd
  Compiled at Dec 11 2018 23:48:33
  %ENV:
    PERL5LIB="/home/cpansand/.cpan/build/2021021812/Lucy-0.6.2-0/blib/arch:/home/cpansand/.cpan/build/2021021812/Lucy-0.6.2-0/blib/lib:/home/cpansand/.cpan/build/2021021812/Clownfish-0.6.3-0/blib/arch:/home/cpansand/.cpan/build/2021021812/Clownfish-0.6.3-0/blib/lib:/home/cpansand/.cpan/build/2021021812/Clownfish-CFC-0.6.3-0/blib/arch:/home/cpansand/.cpan/build/2021021812/Clownfish-CFC-0.6.3-0/blib/lib:/home/cpansand/.cpan/build/2021021812/Filesys-Notify-KQueue-0.11-0/blib/arch:/home/cpansand/.cpan/build/2021021812/Filesys-Notify-KQueue-0.11-0/blib/lib"
    PERL5OPT=""
    PERL5_CPANPLUS_IS_RUNNING="95643"
    PERL5_CPAN_IS_RUNNING="95643"
    PERL5_CPAN_IS_RUNNING_IN_RECURSION="92208,95643"
    PERLDOC="-MPod::Perldoc::ToTextOverstrike"
    PERL_BATCH="yes"
    PERL_CANARY_STABILITY_NOPROMPT="1"
    PERL_CPAN_REPORTER_CONFIG="/var/tmp/cpansmoker-1023/2021021810/cpanreporter_000_config.ini"
    PERL_EXTUTILS_AUTOINSTALL="--defaultdeps"
    PERL_USE_UNSAFE_INC="1"
  @INC:
    /home/cpansand/.cpan/build/2021021812/Lucy-0.6.2-0/blib/arch
    /home/cpansand/.cpan/build/2021021812/Lucy-0.6.2-0/blib/lib
    /home/cpansand/.cpan/build/2021021812/Clownfish-0.6.3-0/blib/arch
    /home/cpansand/.cpan/build/2021021812/Clownfish-0.6.3-0/blib/lib
    /home/cpansand/.cpan/build/2021021812/Clownfish-CFC-0.6.3-0/blib/arch
    /home/cpansand/.cpan/build/2021021812/Clownfish-CFC-0.6.3-0/blib/lib
    /home/cpansand/.cpan/build/2021021812/Filesys-Notify-KQueue-0.11-0/blib/arch
    /home/cpansand/.cpan/build/2021021812/Filesys-Notify-KQueue-0.11-0/blib/lib
    /usr/perl5.24.4p/lib/site_perl/5.24.4/amd64-freebsd
    /usr/perl5.24.4p/lib/site_perl/5.24.4
    /usr/perl5.24.4p/lib/5.24.4/amd64-freebsd
    /usr/perl5.24.4p/lib/5.24.4
    .