Back
From: metabase:user:5cdeb204-f309-11e2-bd07-4d68c2968487
Subject: PASS Ukigumo-Client-0.18 v5.18.1 GNU/Linux
Date: 2013-08-17T04:21:57Z
This distribution has been tested as part of the CPAN Testers
project, supporting the Perl programming language. See
http://wiki.cpantesters.org/ for more information or email
questions to cpan-testers-discuss@perl.org
--
Dear Masayuki Matsuki,
This is a computer-generated report for Ukigumo-Client-0.18
on perl 5.18.1, created by CPAN-Reporter-1.2010.
Thank you for uploading your work to CPAN. Congratulations!
All tests were successful.
Sections of this report:
* Tester comments
* Program output
* Prerequisites
* Environment and other context
------------------------------
TESTER COMMENTS
------------------------------
Additional comments from tester:
this report is from an automated smoke testing program
and was not reviewed by a human for accuracy
------------------------------
PROGRAM OUTPUT
------------------------------
Output from './Build test':
t/00_compile.t ............. ok
t/09_skip_if_unmodified.t .. skipped: Test requires module 'LWP::Protocol::PSGI' but it's not found
t/basic.t .................. skipped: Test requires module 'LWP::Protocol::PSGI' but it's not found
t/command.t ................ skipped: Test requires module 'LWP::Protocol::PSGI' but it's not found
All tests successful.
Files=4, Tests=10, 1 wallclock secs ( 0.10 usr 0.03 sys + 0.85 cusr 0.11 csys = 1.09 CPU)
Result: PASS
------------------------------
PREREQUISITES
------------------------------
Prerequisite modules loaded:
requires:
Module Need Have
--------------------- -------- --------
Capture::Tiny 0 0.22
Encode::Locale 0 1.03
File::HomeDir 0 1.00
HTTP::Request::Common 0 6.04
JSON 2 2.59
LWP::UserAgent 6 6.05
Mouse 0 1.11
perl 5.008001 5.018001
String::IRC 0 0.04
Time::Piece 1.15 1.20_01
Ukigumo::Common 0.03 0.03
URI::Escape 0 3.31
YAML::Tiny 0 1.51
build_requires:
Module Need Have
--------------------- -------- --------
ExtUtils::CBuilder 0 0.280210
Test::More 0.98 0.98
Test::Requires 0 0.07
configure_requires:
Module Need Have
--------------------- -------- --------
CPAN::Meta 0 2.120921
CPAN::Meta::Prereqs 0 2.120921
Module::Build 0.40 0.4003
perl 5.008001 5.018001
------------------------------
ENVIRONMENT AND OTHER CONTEXT
------------------------------
Environment variables:
AUTOMATED_TESTING = 1
LANG = en_US.UTF-8
LANGUAGE = en_US:en
LC_ALL = C
PATH = /home/fperrad/perl5/perlbrew/bin:/home/fperrad/perl5/perlbrew/perls/perl-5.18.1/bin:/usr/local/bin:/usr/bin:/bin:/usr/local/games:/usr/games
PERL5LIB = /home/fperrad/.cpan/build/Mouse-1.11-_FBK3_/blib/arch:/home/fperrad/.cpan/build/Mouse-1.11-_FBK3_/blib/lib:/home/fperrad/.cpan/build/Test-Requires-0.07-eYtcgn/blib/arch:/home/fperrad/.cpan/build/Test-Requires-0.07-eYtcgn/blib/lib:/home/fperrad/.cpan/build/YAML-Tiny-1.51-yrBwFR/blib/arch:/home/fperrad/.cpan/build/YAML-Tiny-1.51-yrBwFR/blib/lib:/home/fperrad/.cpan/build/String-IRC-0.04-vufX3B/blib/arch:/home/fperrad/.cpan/build/String-IRC-0.04-vufX3B/blib/lib:/home/fperrad/.cpan/build/Test-Base-0.60-OZEsmd/blib/arch:/home/fperrad/.cpan/build/Test-Base-0.60-OZEsmd/blib/lib:/home/fperrad/.cpan/build/Spiffy-0.31-x15mOc/blib/arch:/home/fperrad/.cpan/build/Spiffy-0.31-x15mOc/blib/lib:/home/fperrad/.cpan/build/Ukigumo-Common-0.03-MvC2xs/blib/arch:/home/fperrad/.cpan/build/Ukigumo-Common-0.03-MvC2xs/blib/lib
PERL5OPT =
PERL5_CPANPLUS_IS_RUNNING = 12555
PERL5_CPAN_IS_RUNNING = 12555
PERL5_CPAN_IS_RUNNING_IN_RECURSION = 11785,12555
PERLBREW_BASHRC_VERSION = 0.64
PERLBREW_HOME = /home/fperrad/.perlbrew
PERLBREW_MANPATH = /home/fperrad/perl5/perlbrew/perls/perl-5.18.1/man
PERLBREW_PATH = /home/fperrad/perl5/perlbrew/bin:/home/fperrad/perl5/perlbrew/perls/perl-5.18.1/bin
PERLBREW_PERL = perl-5.18.1
PERLBREW_ROOT = /home/fperrad/perl5/perlbrew
PERLBREW_VERSION = 0.64
PERL_CR_SMOKER_CURRENT = Ukigumo-Client-0.18
PERL_EXTUTILS_AUTOINSTALL = --defaultdeps
PERL_MM_USE_DEFAULT = 1
SHELL = /bin/bash
TERM = linux
Perl special variables (and OS-specific diagnostics, for MSWin32):
$^X = /home/fperrad/perl5/perlbrew/perls/perl-5.18.1/bin/perl
$UID/$EUID = 1000 / 1000
$GID = 1000 24 25 29 30 44 46 1000
$EGID = 1000 24 25 29 30 44 46 1000
Perl module toolchain versions installed:
Module Have
------------------- --------
CPAN 2.00
CPAN::Meta 2.120921
Cwd 3.40
ExtUtils::CBuilder 0.280210
ExtUtils::Command 1.17
ExtUtils::Install 1.59
ExtUtils::MakeMaker 6.66
ExtUtils::Manifest 1.63
ExtUtils::ParseXS 3.18
File::Spec 3.40
JSON 2.59
JSON::PP 2.27202
Module::Build 0.4003
Module::Signature n/a
Parse::CPAN::Meta 1.4404
Test::Harness 3.26
Test::More 0.98
YAML 0.84
YAML::Syck n/a
version 0.9902
--
Summary of my perl5 (revision 5 version 18 subversion 1) configuration:
Platform:
osname=linux, osvers=3.2.0-4-486, archname=i686-linux
uname='linux etx 3.2.0-4-486 #1 debian 3.2.46-1 i686 gnulinux '
config_args='-de -Dprefix=/home/fperrad/perl5/perlbrew/perls/perl-5.18.1 -Aeval:scriptdir=/home/fperrad/perl5/perlbrew/perls/perl-5.18.1/bin'
hint=recommended, useposix=true, d_sigaction=define
useithreads=undef, usemultiplicity=undef
useperlio=define, d_sfio=undef, uselargefiles=define, usesocks=undef
use64bitint=undef, use64bitall=undef, uselongdouble=undef
usemymalloc=n, bincompat5005=undef
Compiler:
cc='cc', ccflags ='-fno-strict-aliasing -pipe -fstack-protector -I/usr/local/include -D_LARGEFILE_SOURCE -D_FILE_OFFSET_BITS=64',
optimize='-O2',
cppflags='-fno-strict-aliasing -pipe -fstack-protector -I/usr/local/include'
ccversion='', gccversion='4.7.2', gccosandvers=''
intsize=4, longsize=4, ptrsize=4, doublesize=8, byteorder=1234
d_longlong=define, longlongsize=8, d_longdbl=define, longdblsize=12
ivtype='long', ivsize=4, nvtype='double', nvsize=8, Off_t='off_t', lseeksize=8
alignbytes=4, prototype=define
Linker and Libraries:
ld='cc', ldflags =' -fstack-protector -L/usr/local/lib'
libpth=/usr/local/lib /lib/i386-linux-gnu /lib/../lib /usr/lib/i386-linux-gnu /usr/lib/../lib /lib /usr/lib
libs=-lnsl -lgdbm -ldb -ldl -lm -lcrypt -lutil -lc -lgdbm_compat
perllibs=-lnsl -ldl -lm -lcrypt -lutil -lc
libc=, so=so, useshrplib=false, libperl=libperl.a
gnulibc_version='2.13'
Dynamic Linking:
dlsrc=dl_dlopen.xs, dlext=so, d_dlsymun=undef, ccdlflags='-Wl,-E'
cccdlflags='-fPIC', lddlflags='-shared -O2 -L/usr/local/lib -fstack-protector'
Characteristics of this binary (from libperl):
Compile-time options: HAS_TIMES PERLIO_LAYERS PERL_DONT_CREATE_GVSV
PERL_HASH_FUNC_ONE_AT_A_TIME_HARD PERL_MALLOC_WRAP
PERL_PRESERVE_IVUV PERL_SAWAMPERSAND USE_LARGE_FILES
USE_LOCALE USE_LOCALE_COLLATE USE_LOCALE_CTYPE
USE_LOCALE_NUMERIC USE_PERLIO USE_PERL_ATOF
Built under linux
Compiled at Aug 13 2013 13:38:39
%ENV:
PERL5LIB="/home/fperrad/.cpan/build/Mouse-1.11-_FBK3_/blib/arch:/home/fperrad/.cpan/build/Mouse-1.11-_FBK3_/blib/lib:/home/fperrad/.cpan/build/Test-Requires-0.07-eYtcgn/blib/arch:/home/fperrad/.cpan/build/Test-Requires-0.07-eYtcgn/blib/lib:/home/fperrad/.cpan/build/YAML-Tiny-1.51-yrBwFR/blib/arch:/home/fperrad/.cpan/build/YAML-Tiny-1.51-yrBwFR/blib/lib:/home/fperrad/.cpan/build/String-IRC-0.04-vufX3B/blib/arch:/home/fperrad/.cpan/build/String-IRC-0.04-vufX3B/blib/lib:/home/fperrad/.cpan/build/Test-Base-0.60-OZEsmd/blib/arch:/home/fperrad/.cpan/build/Test-Base-0.60-OZEsmd/blib/lib:/home/fperrad/.cpan/build/Spiffy-0.31-x15mOc/blib/arch:/home/fperrad/.cpan/build/Spiffy-0.31-x15mOc/blib/lib:/home/fperrad/.cpan/build/Ukigumo-Common-0.03-MvC2xs/blib/arch:/home/fperrad/.cpan/build/Ukigumo-Common-0.03-MvC2xs/blib/lib"
PERL5OPT=""
PERL5_CPANPLUS_IS_RUNNING="12555"
PERL5_CPAN_IS_RUNNING="12555"
PERL5_CPAN_IS_RUNNING_IN_RECURSION="11785,12555"
PERLBREW_BASHRC_VERSION="0.64"
PERLBREW_HOME="/home/fperrad/.perlbrew"
PERLBREW_MANPATH="/home/fperrad/perl5/perlbrew/perls/perl-5.18.1/man"
PERLBREW_PATH="/home/fperrad/perl5/perlbrew/bin:/home/fperrad/perl5/perlbrew/perls/perl-5.18.1/bin"
PERLBREW_PERL="perl-5.18.1"
PERLBREW_ROOT="/home/fperrad/perl5/perlbrew"
PERLBREW_VERSION="0.64"
PERL_CR_SMOKER_CURRENT="Ukigumo-Client-0.18"
PERL_EXTUTILS_AUTOINSTALL="--defaultdeps"
PERL_MM_USE_DEFAULT="1"
@INC:
/home/fperrad/.cpan/build/Mouse-1.11-_FBK3_/blib/arch
/home/fperrad/.cpan/build/Mouse-1.11-_FBK3_/blib/lib
/home/fperrad/.cpan/build/Test-Requires-0.07-eYtcgn/blib/arch
/home/fperrad/.cpan/build/Test-Requires-0.07-eYtcgn/blib/lib
/home/fperrad/.cpan/build/YAML-Tiny-1.51-yrBwFR/blib/arch
/home/fperrad/.cpan/build/YAML-Tiny-1.51-yrBwFR/blib/lib
/home/fperrad/.cpan/build/String-IRC-0.04-vufX3B/blib/arch
/home/fperrad/.cpan/build/String-IRC-0.04-vufX3B/blib/lib
/home/fperrad/.cpan/build/Test-Base-0.60-OZEsmd/blib/arch
/home/fperrad/.cpan/build/Test-Base-0.60-OZEsmd/blib/lib
/home/fperrad/.cpan/build/Spiffy-0.31-x15mOc/blib/arch
/home/fperrad/.cpan/build/Spiffy-0.31-x15mOc/blib/lib
/home/fperrad/.cpan/build/Ukigumo-Common-0.03-MvC2xs/blib/arch
/home/fperrad/.cpan/build/Ukigumo-Common-0.03-MvC2xs/blib/lib
/home/fperrad/perl5/perlbrew/perls/perl-5.18.1/lib/site_perl/5.18.1/i686-linux
/home/fperrad/perl5/perlbrew/perls/perl-5.18.1/lib/site_perl/5.18.1
/home/fperrad/perl5/perlbrew/perls/perl-5.18.1/lib/5.18.1/i686-linux
/home/fperrad/perl5/perlbrew/perls/perl-5.18.1/lib/5.18.1
.