Test-ClassAPI v1.07 Perl 5 v5.26.1 x86_64-linux
- Status
- Pass
- From
- Dist
-
Test-ClassAPI v1.07
- Platform
- Perl 5 v5.26.1 x86_64-linux
- Date
- 2018-02-02 10:26:39
- ID
- 8e11cae6-0803-11e8-bd4f-c4467f2ce38c
This distribution has been tested as part of the CPAN Testers
project, supporting the Perl programming language. See
http://wiki.cpantesters.org/ for more information or email
questions to cpan-testers-discuss@perl.org
--
Dear Karen Etheridge,
This is a computer-generated report for Test-ClassAPI-1.07
on perl 5.26.1, created by CPAN-Reporter-1.2018.
Thank you for uploading your work to CPAN. Congratulations!
All tests were successful.
Sections of this report:
* Tester comments
* Program output
* Prerequisites
* Environment and other context
------------------------------
TESTER COMMENTS
------------------------------
Additional comments from tester:
this report is from an automated smoke testing program
and was not reviewed by a human for accuracy
------------------------------
PROGRAM OUTPUT
------------------------------
Output from '/usr/bin/make test':
PERL_DL_NONLAZY=1 "/opt/perl5/bin/perl" "-MExtUtils::Command::MM" "-MTest::Harness" "-e" "undef *Test::Harness::Switches; test_harness(0, 'blib/lib', 'blib/arch')" t/*.t
#
# Versions for all modules listed in MYMETA.json (including optional ones):
#
# === Configure Requires ===
#
# Module Want Have
# ------------------- ---- ----
# ExtUtils::MakeMaker any 7.30
#
# === Build Requires ===
#
# Module Want Have
# ------------------- ---- ----
# ExtUtils::MakeMaker any 7.30
#
# === Test Requires ===
#
# Module Want Have
# ------------------- ---- --------
# ExtUtils::MakeMaker any 7.30
# File::Spec 0.83 3.67
# Test::More 0.47 1.302120
# base any 2.26
# warnings any 1.37
#
# === Test Recommends ===
#
# Module Want Have
# ---------- -------- --------
# CPAN::Meta 2.120900 2.150010
#
# === Runtime Requires ===
#
# Module Want Have
# ---------------- ---- --------
# Class::Inspector 1.12 1.32
# Config::Tiny 2.00 2.23
# File::Spec 0.83 3.67
# Params::Util 1.00 1.07
# Test::More 0.47 1.302120
# strict any 1.11
# vars any 1.03
#
# === Other Modules ===
#
# Module Have
# --------- ----------
# JSON::PP 2.27400_02
# Sub::Name 0.21
# YAML 1.24
# autodie 2.29
#
t/00-report-prereqs.t .. ok
t/01_compile.t ......... ok
t/02_api.t ............. ok
t/03_implements.t ...... ok
t/04_collisions.t ...... ok
All tests successful.
Files=5, Tests=48, 2 wallclock secs ( 0.09 usr 0.02 sys + 1.50 cusr 0.17 csys = 1.78 CPU)
Result: PASS
------------------------------
PREREQUISITES
------------------------------
Prerequisite modules loaded:
requires:
Module Need Have
------------------- -------- --------
Class::Inspector 1.12 1.32
Config::Tiny 2.00 2.23
File::Spec 0.83 3.67
Params::Util 1.00 1.07
perl 5.006 5.026001
strict 0 1.11
Test::More 0.47 1.302120
vars 0 1.03
build_requires:
Module Need Have
------------------- -------- --------
base 0 2.26
ExtUtils::MakeMaker 0 7.30
File::Spec 0.83 3.67
Test::More 0.47 1.302120
warnings 0 1.37
configure_requires:
Module Need Have
------------------- -------- --------
ExtUtils::MakeMaker 0 7.30
perl 5.006 5.026001
opt_build_requires:
Module Need Have
------------------- -------- --------
CPAN::Meta 2.120900 2.150010
------------------------------
ENVIRONMENT AND OTHER CONTEXT
------------------------------
Environment variables:
AUTOMATED_TESTING = 1
NONINTERACTIVE_TESTING = 1
PATH = /opt/perl5/bin:/usr/local/sbin:/usr/local/bin:/usr/sbin:/usr/bin:/sbin:/bin
PERL5LIB =
PERL5OPT =
PERL5_CPANPLUS_IS_RUNNING = 17387
PERL5_CPAN_IS_RUNNING = 17387
PERL_MM_USE_DEFAULT = 1
PERL_USE_UNSAFE_INC = 1
TERM = xterm
Perl special variables (and OS-specific diagnostics, for MSWin32):
$^X = /opt/perl5/bin/perl
$UID/$EUID = 0 / 0
$GID = 0 0 1 2 3 4 6 10 11 26 27
$EGID = 0 0 1 2 3 4 6 10 11 26 27
Perl module toolchain versions installed:
Module Have
------------------- ----------
CPAN 2.18
CPAN::Meta 2.150010
Cwd 3.67
ExtUtils::CBuilder 0.280230
ExtUtils::Command 7.30
ExtUtils::Install 2.06
ExtUtils::MakeMaker 7.30
ExtUtils::Manifest 1.70
ExtUtils::ParseXS 3.34
File::Spec 3.67
JSON 2.97001
JSON::PP 2.27400_02
Module::Build 0.4224
Module::Signature n/a
Parse::CPAN::Meta 2.150010
Test::Harness 3.39
Test::More 1.302120
YAML 1.24
YAML::Syck 1.30
version 0.9917
--
Summary of my perl5 (revision 5 version 26 subversion 1) configuration:
Platform:
osname=linux
osvers=4.13.13-aufs.ae
archname=x86_64-linux
uname='linux a4dfd00fb8e0 4.13.13-aufs.ae #2 smp wed jan 10 12:37:30 cst 2018 x86_64 amd opteron(tm) processor 6172 authenticamd gnulinux '
config_args='-de -Dprefix=/opt/perl5 -Dman1dir=none -Dman3dir=none -Doptimize=-O2 -pipe -march=native'
hint=recommended
useposix=true
d_sigaction=define
useithreads=undef
usemultiplicity=undef
use64bitint=define
use64bitall=define
uselongdouble=undef
usemymalloc=n
default_inc_excludes_dot=define
bincompat5005=undef
Compiler:
cc='cc'
ccflags ='-fwrapv -fno-strict-aliasing -pipe -fstack-protector-strong -D_LARGEFILE_SOURCE -D_FILE_OFFSET_BITS=64'
optimize='-O2 -pipe -march=native'
cppflags='-fwrapv -fno-strict-aliasing -pipe -fstack-protector-strong'
ccversion=''
gccversion='5.4.0'
gccosandvers=''
intsize=4
longsize=8
ptrsize=8
doublesize=8
byteorder=12345678
doublekind=3
d_longlong=define
longlongsize=8
d_longdbl=define
longdblsize=16
longdblkind=3
ivtype='long'
ivsize=8
nvtype='double'
nvsize=8
Off_t='off_t'
lseeksize=8
alignbytes=8
prototype=define
Linker and Libraries:
ld='cc'
ldflags =' -fstack-protector-strong -L/usr/local/lib'
libpth=/usr/lib/gcc/x86_64-pc-linux-gnu/5.4.0/include-fixed /usr/lib /usr/local/lib /lib/../lib64 /usr/lib/../lib64 /lib /lib64 /usr/lib64 /usr/local/lib64
libs=-lpthread -lnsl -lgdbm -ldb -ldl -lm -lcrypt -lutil -lc -lgdbm_compat
perllibs=-lpthread -lnsl -ldl -lm -lcrypt -lutil -lc
libc=libc-2.23.so
so=so
useshrplib=false
libperl=libperl.a
gnulibc_version='2.23'
Dynamic Linking:
dlsrc=dl_dlopen.xs
dlext=so
d_dlsymun=undef
ccdlflags='-Wl,-E'
cccdlflags='-fPIC'
lddlflags='-shared -O2 -pipe -march=native -L/usr/local/lib -fstack-protector-strong'
Characteristics of this binary (from libperl):
Compile-time options:
HAS_TIMES
PERLIO_LAYERS
PERL_COPY_ON_WRITE
PERL_DONT_CREATE_GVSV
PERL_MALLOC_WRAP
PERL_OP_PARENT
PERL_PRESERVE_IVUV
USE_64_BIT_ALL
USE_64_BIT_INT
USE_LARGE_FILES
USE_LOCALE
USE_LOCALE_COLLATE
USE_LOCALE_CTYPE
USE_LOCALE_NUMERIC
USE_LOCALE_TIME
USE_PERLIO
USE_PERL_ATOF
Built under linux
Compiled at Feb 2 2018 08:52:59
%ENV:
PERL5LIB=""
PERL5OPT=""
PERL5_CPANPLUS_IS_RUNNING="17387"
PERL5_CPAN_IS_RUNNING="17387"
PERL_MM_USE_DEFAULT="1"
PERL_USE_UNSAFE_INC="1"
@INC:
/opt/perl5/lib/site_perl/5.26.1/x86_64-linux
/opt/perl5/lib/site_perl/5.26.1
/opt/perl5/lib/5.26.1/x86_64-linux
/opt/perl5/lib/5.26.1
.