Report for autodie-2.29

Back
From: metabase:user:30f4dfbe-2aae-11df-837a-5e0a49663a4f
Subject: PASS autodie-2.29 v5.16.3 GNU/Linux
Date: 2017-03-29T13:13:52Z

This distribution has been tested as part of the CPAN Testers
project, supporting the Perl programming language.  See
http://wiki.cpantesters.org/ for more information or email
questions to cpan-testers-discuss@perl.org


--
Dear Paul Jamieson Fenwick,

This is a computer-generated report for autodie-2.29
on perl 5.16.3, created by CPAN-Reporter-1.2018.

Thank you for uploading your work to CPAN.  Congratulations!
All tests were successful.

Sections of this report:

    * Tester comments
    * Program output
    * Prerequisites
    * Environment and other context

------------------------------
TESTER COMMENTS
------------------------------

Additional comments from tester:

none provided

------------------------------
PROGRAM OUTPUT
------------------------------

Output from '/usr/bin/make test':

PERL_DL_NONLAZY=1 "/usr/bin/perl" "-MExtUtils::Command::MM" "-MTest::Harness" "-e" "undef *Test::Harness::Switches; test_harness(0, 'blib/lib', 'blib/arch')" t/*.t
t/00-load.t ...................... ok
t/args.t ......................... ok
t/author-critic.t ................ skipped: these tests are for testing by the author
t/backcompat.t ................... ok
t/autodie.t ...................... ok
t/format-clobber.t ............... ok
t/flock.t ........................ ok
t/fork.t ......................... ok
t/basic_exceptions.t ............. ok
t/blog_hints.t ................... ok
t/binmode.t ...................... ok
# Sub::Identify is loaded
t/hints_provider_does.t .......... ok
t/hints.t ........................ ok
t/hints_provider_easy_does_it.t .. ok
t/hints_pod_examples.t ........... ok
t/caller.t ....................... ok
t/chmod.t ........................ ok
t/hints_insist.t ................. ok
t/chown.t ........................ ok
t/context.t ...................... ok
t/critic.t ....................... skipped: Author test.  Set $ENV{AUTHOR_TESTING} to true to run.
t/kwalitee.t ..................... skipped: Author test.  Set $ENV{RELEASE_TESTING} to true to run.
t/crickey.t ...................... ok
t/internal.t ..................... ok
t/lethal.t ....................... ok
t/import-into.t .................. skipped: Test needs Import::Into >= 1.002004
t/context_lexical.t .............. ok
t/hints_provider_isa.t ........... ok
t/release-pod-coverage.t ......... skipped: these tests are for release candidate testing
t/no_carp.t ...................... ok
t/internal-backcompat.t .......... ok
t/read.t ......................... ok
t/kill.t ......................... ok
t/exception_class.t .............. ok
t/core-trampoline-slurp.t ........ ok
t/release-pod-syntax.t ........... skipped: these tests are for release candidate testing
t/skip.t ......................... ok
t/Fatal.t ........................ ok
t/string-eval-leak.t ............. ok
t/pod-coverage.t ................. skipped: Author test.  Set $ENV{AUTHOR_TESTING} to true to run.
t/filehandles.t .................. ok
t/socket.t ....................... skipped: Author test.  Set $ENV{AUTHOR_TESTING} to true to run.
t/eval_error.t ................... ok
t/scope_leak.t ................... ok
t/dbmopen.t ...................... ok
t/unlink.t ....................... ok
t/user-context.t ................. ok
t/exceptions.t ................... ok
t/sysopen.t ...................... ok
t/lex58.t ........................ ok
t/pod.t .......................... skipped: Author test.  Set $ENV{AUTHOR_TESTING} to true to run.
t/exec.t ......................... ok
t/mkdir.t ........................ ok
t/open.t ......................... ok
t/utf8_open.t .................... ok
t/string-eval-basic.t ............ ok
t/repeat.t ....................... ok
t/version_tag.t .................. ok
t/fileno.t ....................... ok
t/rt-74246.t ..................... ok
t/recv.t ......................... ok
t/utime.t ........................ ok
t/version.t ...................... skipped: Release test.  Set $ENV{RELEASE_TESTING} to true to run.
t/truncate.t ..................... ok
t/system.t ....................... ok
t/usersub.t ...................... ok
All tests successful.
Files=66, Tests=512,  8 wallclock secs ( 0.18 usr  0.09 sys +  4.24 cusr  5.91 csys = 10.42 CPU)
Result: PASS

------------------------------
PREREQUISITES
------------------------------

Prerequisite modules loaded:

requires:

    Module              Need     Have    
    ------------------- -------- --------
    B                   0        1.35    
    Carp                0        1.38    
    constant            0        1.27    
    Exporter            5.57     5.68    
    Fcntl               0        1.11    
    overload            0        1.18    
    parent              0        0.225   
    perl                5.008004 5.016003
    POSIX               0        1.30    
    Scalar::Util        0        1.47    
    strict              0        1.07    
    Tie::RefHash        0        1.39    
    warnings            0        1.13    

build_requires:

    Module              Need     Have    
    ------------------- -------- --------
    ExtUtils::MakeMaker 0        7.24    
    File::Copy          0        2.23    
    File::Spec          0        3.62    
    File::Temp          0        0.2304  
    FindBin             0        1.51    
    if                  0        0.0602  
    IO::Handle          0        1.33    
    lib                 0        0.63    
    Socket              0        2.024   
    Test::More          0        1.302075

configure_requires:

    Module              Need     Have    
    ------------------- -------- --------
    ExtUtils::MakeMaker 0        7.24    


------------------------------
ENVIRONMENT AND OTHER CONTEXT
------------------------------

Environment variables:

    HARNESS_OPTIONS = c:j24
    LANG = en_US.UTF-8
    LC_ALL = POSIX
    LD_LIBRARY_PATH = /opt/ghostscript/lib64:/usr/local/R/3.2.0/lib64/R/lib/:/usr/local/gsl/1.12/lib
    PATH = /home/hornenj/perl5/bin:/home/hornenj/bin:/net/snowman/vol/projects/sanity:/opt/python-all/bin:/opt/perl/5.16.3/bin:/opt/fcron/bin:/usr/local/R/3.2.0/bin:/usr/local/netcdf/4.3.3/bin:/usr/local/gsl/1.12/bin:/usr/local/purify/7.0.1.0-006/releases/PurifyPlus.7.0.1.0-006/i386_linux2/bin:/usr/local/purify/7.0.1.0-006/bin:/netmnt/uge/bin/lx-amd64:/opt/ruby/2.0/bin:/usr/local/subversion/1.7.22/bin:/usr/local/svnmucc/1.5.7/bin:/usr/local/nedit/5.5/bin:/netopt/ncbi_tools64/bin:/am/ncbiapdata/bin:/usr/local/joe/3.7/bin:/usr/local/git/latest/bin:/opt/ncbi/gcc/4.9.3/bin:/usr/local/ddd/3.3.12/bin:/usr/local/ctags/5.8/bin:/usr/lib64/ccache:/usr/local/bin:/usr/bin:/usr/local/sbin:/usr/sbin:/usr/sbin:/sbin:/usr/local/sbin:/opt/sybase/clients/current/bin:/opt/sybase/utils/bin:/opt/dell/srvadmin/bin
    PERL5LIB = /home/hornenj/perl5/lib/perl5:
    PERL5OPT = 
    PERL5_CPANPLUS_IS_RUNNING = 93955
    PERL5_CPAN_IS_RUNNING = 93955
    PERL_LOCAL_LIB_ROOT = :/home/hornenj/perl5
    PERL_MB_OPT = --install_base /home/hornenj/perl5
    PERL_MM_OPT = INSTALL_BASE=/home/hornenj/perl5
    SHELL = /bin/bash
    TERM = xterm-256color

Perl special variables (and OS-specific diagnostics, for MSWin32):

    $^X = /usr/bin/perl
    $UID/$EUID = 12481 / 12481
    $GID = 14 14 241 527 5344 37191 37223
    $EGID = 14 14 241 527 5344 37191 37223

Perl module toolchain versions installed:

    Module              Have    
    ------------------- --------
    CPAN                1.9800  
    CPAN::Meta          2.150010
    Cwd                 3.62    
    ExtUtils::CBuilder  0.280224
    ExtUtils::Command   7.24    
    ExtUtils::Install   1.58    
    ExtUtils::MakeMaker 7.24    
    ExtUtils::Manifest  1.70    
    ExtUtils::ParseXS   3.18    
    File::Spec          3.62    
    JSON                2.90    
    JSON::PP            2.27400 
    Module::Build       0.4220  
    Module::Signature   0.81    
    Parse::CPAN::Meta   2.150010
    Test::Harness       3.36    
    Test::More          1.302075
    YAML                1.23    
    YAML::Syck          1.29    
    version             0.9907  


--

Summary of my perl5 (revision 5 version 16 subversion 3) configuration:
   
  Platform:
    osname=linux, osvers=2.6.32-573.18.1.el6.x86_64, archname=x86_64-linux-thread-multi
    uname='linux worker1.bsys.centos.org 2.6.32-573.18.1.el6.x86_64 #1 smp tue feb 9 22:46:17 utc 2016 x86_64 x86_64 x86_64 gnulinux '
    config_args='-des -Doptimize=-O2 -g -pipe -Wall -Wp,-D_FORTIFY_SOURCE=2 -fexceptions -fstack-protector-strong --param=ssp-buffer-size=4 -grecord-gcc-switches   -m64 -mtune=generic -Dccdlflags=-Wl,--enable-new-dtags -Dlddlflags=-shared -O2 -g -pipe -Wall -Wp,-D_FORTIFY_SOURCE=2 -fexceptions -fstack-protector-strong --param=ssp-buffer-size=4 -grecord-gcc-switches   -m64 -mtune=generic -Wl,-z,relro  -DDEBUGGING=-g -Dversion=5.16.3 -Dmyhostname=localhost -Dperladmin=root@localhost -Dcc=gcc -Dcf_by=Red Hat, Inc. -Dprefix=/usr -Dvendorprefix=/usr -Dsiteprefix=/usr/local -Dsitelib=/usr/local/share/perl5 -Dsitearch=/usr/local/lib64/perl5 -Dprivlib=/usr/share/perl5 -Dvendorlib=/usr/share/perl5/vendor_perl -Darchlib=/usr/lib64/perl5 -Dvendorarch=/usr/lib64/perl5/vendor_perl -Darchname=x86_64-linux-thread-multi -Dlibpth=/usr/local/lib64 /lib64 /usr/lib64 -Duseshrplib -Dusethreads -Duseithreads -Dusedtrace=/usr/bin/dtrace -Duselargefiles -Dd_semctl_semun -Di_db -Ui_ndbm -Di_gdbm -Di_shadow -Di_syslog -Dman3ext=3pm -Duseperlio -Dinstallusrbinperl=n -Ubincompat5005 -Uversiononly -Dpager=/usr/bin/less -isr -Dd_gethostent_r_proto -Ud_endhostent_r_proto -Ud_sethostent_r_proto -Ud_endprotoent_r_proto -Ud_setprotoent_r_proto -Ud_endservent_r_proto -Ud_setservent_r_proto -Dscriptdir=/usr/bin -Dusesitecustomize'
    hint=recommended, useposix=true, d_sigaction=define
    useithreads=define, usemultiplicity=define
    useperlio=define, d_sfio=undef, uselargefiles=define, usesocks=undef
    use64bitint=define, use64bitall=define, uselongdouble=undef
    usemymalloc=n, bincompat5005=undef
  Compiler:
    cc='gcc', ccflags ='-D_REENTRANT -D_GNU_SOURCE -fno-strict-aliasing -pipe -fstack-protector -I/usr/local/include -D_LARGEFILE_SOURCE -D_FILE_OFFSET_BITS=64',
    optimize='-O2 -g -pipe -Wall -Wp,-D_FORTIFY_SOURCE=2 -fexceptions -fstack-protector-strong --param=ssp-buffer-size=4 -grecord-gcc-switches -m64 -mtune=generic',
    cppflags='-D_REENTRANT -D_GNU_SOURCE -fno-strict-aliasing -pipe -fstack-protector -I/usr/local/include'
    ccversion='', gccversion='4.8.5 20150623 (Red Hat 4.8.5-11)', gccosandvers=''
    intsize=4, longsize=8, ptrsize=8, doublesize=8, byteorder=12345678
    d_longlong=define, longlongsize=8, d_longdbl=define, longdblsize=16
    ivtype='long', ivsize=8, nvtype='double', nvsize=8, Off_t='off_t', lseeksize=8
    alignbytes=8, prototype=define
  Linker and Libraries:
    ld='gcc', ldflags =' -fstack-protector'
    libpth=/usr/local/lib64 /lib64 /usr/lib64
    libs=-lresolv -lnsl -lgdbm -ldb -ldl -lm -lcrypt -lutil -lpthread -lc -lgdbm_compat
    perllibs=-lresolv -lnsl -ldl -lm -lcrypt -lutil -lpthread -lc
    libc=, so=so, useshrplib=true, libperl=libperl.so
    gnulibc_version='2.17'
  Dynamic Linking:
    dlsrc=dl_dlopen.xs, dlext=so, d_dlsymun=undef, ccdlflags='-Wl,--enable-new-dtags -Wl,-rpath,/usr/lib64/perl5/CORE'
    cccdlflags='-fPIC', lddlflags='-shared -O2 -g -pipe -Wall -Wp,-D_FORTIFY_SOURCE=2 -fexceptions -fstack-protector-strong --param=ssp-buffer-size=4 -grecord-gcc-switches -m64 -mtune=generic -Wl,-z,relro '


Characteristics of this binary (from libperl): 
  Compile-time options: HAS_TIMES MULTIPLICITY PERLIO_LAYERS
                        PERL_DONT_CREATE_GVSV PERL_IMPLICIT_CONTEXT
                        PERL_MALLOC_WRAP PERL_PRESERVE_IVUV USE_64_BIT_ALL
                        USE_64_BIT_INT USE_ITHREADS USE_LARGE_FILES
                        USE_LOCALE USE_LOCALE_COLLATE USE_LOCALE_CTYPE
                        USE_LOCALE_NUMERIC USE_PERLIO USE_PERL_ATOF
                        USE_REENTRANT_API USE_SITECUSTOMIZE
  Locally applied patches:
	Fedora Patch1: Removes date check, Fedora/RHEL specific
	Fedora Patch3: support for libdir64
	Fedora Patch4: use libresolv instead of libbind
	Fedora Patch5: USE_MM_LD_RUN_PATH
	Fedora Patch6: Skip hostname tests, due to builders not being network capable
	Fedora Patch7: Dont run one io test due to random builder failures
	Fedora Patch9: Fix find2perl to translate ? glob properly (RT#113054)
	Fedora Patch10: Fix broken atof (RT#109318)
	Fedora Patch13: Clear $@ before "do" I/O error (RT#113730)
	Fedora Patch14: Do not truncate syscall() return value to 32 bits (RT#113980)
	Fedora Patch15: Override the Pod::Simple::parse_file (CPANRT#77530)
	Fedora Patch16: Do not leak with attribute on my variable (RT#114764)
	Fedora Patch17: Allow operator after numeric keyword argument (RT#105924)
	Fedora Patch18: Extend stack in File::Glob::glob, (RT#114984)
	Fedora Patch19: Do not crash when vivifying $|
	Fedora Patch20: Fix misparsing of maketext strings (CVE-2012-6329)
	Fedora Patch21: Add NAME headings to CPAN modules (CPANRT#73396)
	Fedora Patch22: Fix leaking tied hashes (RT#107000) [1]
	Fedora Patch23: Fix leaking tied hashes (RT#107000) [2]
	Fedora Patch24: Fix leaking tied hashes (RT#107000) [3]
	Fedora Patch25: Fix dead lock in PerlIO after fork from thread (RT#106212)
	Fedora Patch26: Make regexp safe in a signal handler (RT#114878)
	Fedora Patch27: Update h2ph(1) documentation (RT#117647)
	Fedora Patch28: Update pod2html(1) documentation (RT#117623)
	Fedora Patch29: Document Math::BigInt::CalcEmu requires Math::BigInt (CPAN RT#85015)
	RHEL Patch30: Use stronger algorithm needed for FIPS in t/op/crypt.t (RT#121591)
	RHEL Patch31: Make *DBM_File desctructors thread-safe (RT#61912)
	RHEL Patch32: Use stronger algorithm needed for FIPS in t/op/taint.t (RT#123338)
	RHEL Patch33: Remove CPU-speed-sensitive test in Benchmark test
	RHEL Patch34: Make File::Glob work with threads again
	RHEL Patch35: Fix CRLF conversion in ASCII FTP upload (CPAN RT#41642)
	RHEL Patch36: Do not leak the temp utf8 copy of namepv (CPAN RT#123786)
	RHEL Patch37: Fix duplicating PerlIO::encoding when spawning threads (RT#31923)
	RHEL Patch38: Backported libraries historically supplied with Perl 4
  Built under linux
  Compiled at Nov  6 2016 01:30:49
  %ENV:
    PERL5LIB="/home/hornenj/perl5/lib/perl5:"
    PERL5OPT=""
    PERL5_CPANPLUS_IS_RUNNING="93955"
    PERL5_CPAN_IS_RUNNING="93955"
    PERL_LOCAL_LIB_ROOT=":/home/hornenj/perl5"
    PERL_MB_OPT="--install_base /home/hornenj/perl5"
    PERL_MM_OPT="INSTALL_BASE=/home/hornenj/perl5"
  @INC:
    /home/hornenj/perl5/lib/perl5/x86_64-linux-thread-multi
    /home/hornenj/perl5/lib/perl5
    /usr/local/lib64/perl5
    /usr/local/share/perl5
    /usr/lib64/perl5/vendor_perl
    /usr/share/perl5/vendor_perl
    /usr/lib64/perl5
    /usr/share/perl5
    .