Text-WideChar-Util v0.16 Perl 5 v5.18.4 i86pc-solaris
- Status
- Pass
- From
- Nigel Horne
- Dist
-
Text-WideChar-Util v0.16
- Platform
- Perl 5 v5.18.4 i86pc-solaris
- Date
- 2018-11-13 01:50:53
- ID
- 8e4fe75a-e6e6-11e8-b70f-0367d0f16bf7
This distribution has been tested as part of the CPAN Testers
project, supporting the Perl programming language. See
http://wiki.cpantesters.org/ for more information or email
questions to cpan-testers-discuss@perl.org
--
Dear perlancar,
This is a computer-generated report for Text-WideChar-Util-0.16
on perl 5.18.4, created by CPAN-Reporter-1.2018.
Thank you for uploading your work to CPAN. Congratulations!
All tests were successful.
Sections of this report:
* Tester comments
* Program output
* Prerequisites
* Environment and other context
------------------------------
TESTER COMMENTS
------------------------------
Additional comments from tester:
this report is from an automated smoke testing program
and was not reviewed by a human for accuracy
------------------------------
PROGRAM OUTPUT
------------------------------
Output from '/usr/bin/make test':
PERL_DL_NONLAZY=1 /export/home/njh/perl5/perlbrew/perls/perl-5.18.4/bin/perl "-MExtUtils::Command::MM" "-e" "test_harness(0, 'blib/lib', 'blib/arch')" t/*.t
t/00-compile.t ............ ok
t/01-basics.t ............. skipped: Chinese locale not supported on this system
t/release-pod-coverage.t .. skipped: these tests are for release candidate testing
t/release-pod-syntax.t .... skipped: these tests are for release candidate testing
t/release-rinci.t ......... skipped: these tests are for release candidate testing
t/wrap.t .................. ok
All tests successful.
Files=6, Tests=13, 1 wallclock secs ( 0.05 usr 0.03 sys + 0.63 cusr 0.27 csys = 0.98 CPU)
Result: PASS
------------------------------
PREREQUISITES
------------------------------
Prerequisite modules loaded:
requires:
Module Need Have
------------------- -------- --------
perl 5.010001 5.018004
Unicode::GCString 0 2013.10
build_requires:
Module Need Have
------------------- -------- --------
ExtUtils::MakeMaker 0 6.66
File::Spec 0 3.40
IO::Handle 0 1.34
IPC::Open3 0 1.13
Test::More 0.98 1.302140
configure_requires:
Module Need Have
------------------- -------- --------
ExtUtils::MakeMaker 0 6.66
------------------------------
ENVIRONMENT AND OTHER CONTEXT
------------------------------
Environment variables:
AUTOMATED_TESTING = 1
NONINTERACTIVE_TESTING = 1
PATH = /export/home/njh/perl5/perlbrew/bin:/export/home/njh/perl5/perlbrew/perls/perl-5.18.4/bin:/export/home/njh/src/njh/smoker/bin:/usr/bin
PERL5LIB = /export/home/njh/.cpan/build/Unicode-LineBreak-2018.003-7/blib/arch:/export/home/njh/.cpan/build/Unicode-LineBreak-2018.003-7/blib/lib:/export/home/njh/.cpan/build/MIME-Charset-1.012.2-6/blib/arch:/export/home/njh/.cpan/build/MIME-Charset-1.012.2-6/blib/lib:/export/home/njh/.cpan/build/Text-ANSI-Util-0.22-7/blib/arch:/export/home/njh/.cpan/build/Text-ANSI-Util-0.22-7/blib/lib:/export/home/njh/.cpan/build/Data-Dump-1.23-7/blib/arch:/export/home/njh/.cpan/build/Data-Dump-1.23-7/blib/lib:/export/home/njh/.cpan/build/Term-Choose-1.627-7/blib/arch:/export/home/njh/.cpan/build/Term-Choose-1.627-7/blib/lib:/export/home/njh/.cpan/build/Parse-ANSIColor-Tiny-0.601-7/blib/arch:/export/home/njh/.cpan/build/Parse-ANSIColor-Tiny-0.601-7/blib/lib:/export/home/njh/.cpan/build/Term-Choose-1.628-7/blib/arch:/export/home/njh/.cpan/build/Term-Choose-1.628-7/blib/lib:/export/home/njh/.cpan/build/App-fftrim-0.03-7/blib/arch:/export/home/njh/.cpan/build/App-fftrim-0.03-7/blib/lib
PERL5OPT =
PERL5_CPANPLUS_IS_RUNNING = 10519
PERL5_CPAN_IS_RUNNING = 10519
PERLBREW_HOME = /export/home/njh/.perlbrew
PERLBREW_MANPATH = /export/home/njh/perl5/perlbrew/perls/perl-5.18.4/man
PERLBREW_PATH = /export/home/njh/perl5/perlbrew/bin:/export/home/njh/perl5/perlbrew/perls/perl-5.18.4/bin
PERLBREW_PERL = perl-5.18.4
PERLBREW_ROOT = /export/home/njh/perl5/perlbrew
PERLBREW_SHELLRC_VERSION = 0.84
PERLBREW_VERSION = 0.84
PERL_MM_USE_DEFAULT = 1
SHELL = /usr/bin/sh
TERM = dumb
TMPDIR = /tmp/testwrapper.10506
Perl special variables (and OS-specific diagnostics, for MSWin32):
$^X = /export/home/njh/perl5/perlbrew/perls/perl-5.18.4/bin/perl
$UID/$EUID = 101 / 101
$GID = 10 10
$EGID = 10 10
Perl module toolchain versions installed:
Module Have
------------------- --------
CPAN 2.16
CPAN::Meta 2.150010
Cwd 3.40
ExtUtils::CBuilder 0.280210
ExtUtils::Command 1.17
ExtUtils::Install 1.59
ExtUtils::MakeMaker 6.66
ExtUtils::Manifest 1.63
ExtUtils::ParseXS 3.18
File::Spec 3.40
JSON 2.97001
JSON::PP 2.97001
Module::Build 0.4224
Module::Signature n/a
Parse::CPAN::Meta 2.150010
Test::Harness 3.42
Test::More 1.302140
YAML n/a
YAML::Syck 1.30
version 0.9902
--
Summary of my perl5 (revision 5 version 18 subversion 4) configuration:
Platform:
osname=solaris, osvers=2.11, archname=i86pc-solaris
uname='sunos vultr1.bandsman.co.uk 5.11 illumos-b075503f22 i86pc i386 i86pc '
config_args='-de -Dprefix=/export/home/njh/perl5/perlbrew/perls/perl-5.18.4 -Aeval:scriptdir=/export/home/njh/perl5/perlbrew/perls/perl-5.18.4/bin'
hint=recommended, useposix=true, d_sigaction=define
useithreads=undef, usemultiplicity=undef
useperlio=define, d_sfio=undef, uselargefiles=define, usesocks=undef
use64bitint=undef, use64bitall=undef, uselongdouble=undef
usemymalloc=n, bincompat5005=undef
Compiler:
cc='/opt/SUNWspro/bin/cc', ccflags ='-I/usr/gnu/include -D_LARGEFILE_SOURCE -D_FILE_OFFSET_BITS=64 -DPERL_USE_SAFE_PUTENV',
optimize='-O',
cppflags='-I/usr/gnu/include'
ccversion='Sun C 5.10 SunOS_i386 2009/06/03', gccversion='', gccosandvers=''
intsize=4, longsize=4, ptrsize=4, doublesize=8, byteorder=1234
d_longlong=define, longlongsize=8, d_longdbl=define, longdblsize=12
ivtype='long', ivsize=4, nvtype='double', nvsize=8, Off_t='off_t', lseeksize=8
alignbytes=4, prototype=define
Linker and Libraries:
ld='/opt/SUNWspro/bin/cc', ldflags =' -L/usr/lib -L/usr/ccs/lib -L/opt/sunstudio12.1/prod/lib -L/lib -L/usr/gnu/lib '
libpth=/usr/lib /usr/ccs/lib /opt/sunstudio12.1/prod/lib /lib /usr/gnu/lib
libs=-lsocket -lnsl -lgdbm -ldb -ldl -lm -lc
perllibs=-lsocket -lnsl -ldl -lm -lc
libc=/lib/libc.so, so=so, useshrplib=true, libperl=libperl.so
gnulibc_version=''
Dynamic Linking:
dlsrc=dl_dlopen.xs, dlext=so, d_dlsymun=undef, ccdlflags=' -R /export/home/njh/perl5/perlbrew/perls/perl-5.18.4/lib/5.18.4/i86pc-solaris/CORE'
cccdlflags='-KPIC', lddlflags='-G -L/usr/lib -L/usr/ccs/lib -L/opt/sunstudio12.1/prod/lib -L/lib -L/usr/gnu/lib'
Characteristics of this binary (from libperl):
Compile-time options: HAS_TIMES PERLIO_LAYERS PERL_DONT_CREATE_GVSV
PERL_HASH_FUNC_ONE_AT_A_TIME_HARD PERL_MALLOC_WRAP
PERL_PRESERVE_IVUV PERL_SAWAMPERSAND
PERL_USE_SAFE_PUTENV USE_LARGE_FILES USE_LOCALE
USE_LOCALE_COLLATE USE_LOCALE_CTYPE
USE_LOCALE_NUMERIC USE_PERLIO USE_PERL_ATOF
Locally applied patches:
Devel::PatchPerl 1.52
Built under solaris
Compiled at Sep 13 2018 00:33:25
%ENV:
PERL5LIB="/export/home/njh/.cpan/build/Unicode-LineBreak-2018.003-7/blib/arch:/export/home/njh/.cpan/build/Unicode-LineBreak-2018.003-7/blib/lib:/export/home/njh/.cpan/build/MIME-Charset-1.012.2-6/blib/arch:/export/home/njh/.cpan/build/MIME-Charset-1.012.2-6/blib/lib:/export/home/njh/.cpan/build/Text-ANSI-Util-0.22-7/blib/arch:/export/home/njh/.cpan/build/Text-ANSI-Util-0.22-7/blib/lib:/export/home/njh/.cpan/build/Data-Dump-1.23-7/blib/arch:/export/home/njh/.cpan/build/Data-Dump-1.23-7/blib/lib:/export/home/njh/.cpan/build/Term-Choose-1.627-7/blib/arch:/export/home/njh/.cpan/build/Term-Choose-1.627-7/blib/lib:/export/home/njh/.cpan/build/Parse-ANSIColor-Tiny-0.601-7/blib/arch:/export/home/njh/.cpan/build/Parse-ANSIColor-Tiny-0.601-7/blib/lib:/export/home/njh/.cpan/build/Term-Choose-1.628-7/blib/arch:/export/home/njh/.cpan/build/Term-Choose-1.628-7/blib/lib:/export/home/njh/.cpan/build/App-fftrim-0.03-7/blib/arch:/export/home/njh/.cpan/build/App-fftrim-0.03-7/blib/lib"
PERL5OPT=""
PERL5_CPANPLUS_IS_RUNNING="10519"
PERL5_CPAN_IS_RUNNING="10519"
PERLBREW_HOME="/export/home/njh/.perlbrew"
PERLBREW_MANPATH="/export/home/njh/perl5/perlbrew/perls/perl-5.18.4/man"
PERLBREW_PATH="/export/home/njh/perl5/perlbrew/bin:/export/home/njh/perl5/perlbrew/perls/perl-5.18.4/bin"
PERLBREW_PERL="perl-5.18.4"
PERLBREW_ROOT="/export/home/njh/perl5/perlbrew"
PERLBREW_SHELLRC_VERSION="0.84"
PERLBREW_VERSION="0.84"
PERL_MM_USE_DEFAULT="1"
@INC:
/export/home/njh/.cpan/build/Unicode-LineBreak-2018.003-7/blib/arch
/export/home/njh/.cpan/build/Unicode-LineBreak-2018.003-7/blib/lib
/export/home/njh/.cpan/build/MIME-Charset-1.012.2-6/blib/arch
/export/home/njh/.cpan/build/MIME-Charset-1.012.2-6/blib/lib
/export/home/njh/.cpan/build/Text-ANSI-Util-0.22-7/blib/arch
/export/home/njh/.cpan/build/Text-ANSI-Util-0.22-7/blib/lib
/export/home/njh/.cpan/build/Data-Dump-1.23-7/blib/arch
/export/home/njh/.cpan/build/Data-Dump-1.23-7/blib/lib
/export/home/njh/.cpan/build/Term-Choose-1.627-7/blib/arch
/export/home/njh/.cpan/build/Term-Choose-1.627-7/blib/lib
/export/home/njh/.cpan/build/Parse-ANSIColor-Tiny-0.601-7/blib/arch
/export/home/njh/.cpan/build/Parse-ANSIColor-Tiny-0.601-7/blib/lib
/export/home/njh/.cpan/build/Term-Choose-1.628-7/blib/arch
/export/home/njh/.cpan/build/Term-Choose-1.628-7/blib/lib
/export/home/njh/.cpan/build/App-fftrim-0.03-7/blib/arch
/export/home/njh/.cpan/build/App-fftrim-0.03-7/blib/lib
/export/home/njh/perl5/perlbrew/perls/perl-5.18.4/lib/site_perl/5.18.4/i86pc-solaris
/export/home/njh/perl5/perlbrew/perls/perl-5.18.4/lib/site_perl/5.18.4
/export/home/njh/perl5/perlbrew/perls/perl-5.18.4/lib/5.18.4/i86pc-solaris
/export/home/njh/perl5/perlbrew/perls/perl-5.18.4/lib/5.18.4
.