Report for Text-Balanced-2.02

Back
From: metabase:user:20a45eae-6c1a-1014-abaf-4bc2b30e56df
Subject: PASS Text-Balanced-2.02 v5.8.2 Windows (Cygwin)
Date: 2013-02-10T10:53:35Z

This distribution has been tested as part of the CPAN Testers
project, supporting the Perl programming language.  See
http://wiki.cpantesters.org/ for more information or email
questions to cpan-testers-discuss@perl.org


--
Dear Adam Kennedy,

This is a computer-generated report for Text-Balanced-2.02
on perl 5.8.2, created by CPAN-Reporter-1.2009.

Thank you for uploading your work to CPAN.  Congratulations!
All tests were successful.

Sections of this report:

    * Tester comments
    * Program output
    * Prerequisites
    * Environment and other context

------------------------------
TESTER COMMENTS
------------------------------

Additional comments from tester:

this report is from an automated smoke testing program
and was not reviewed by a human for accuracy

------------------------------
PROGRAM OUTPUT
------------------------------

Output from '/usr/bin/make test':

PERL_DL_NONLAZY=1 /cygdrive/e/opt/perl/cygwin/1.7.16/perl/5.8.2/cygwin-thread-multi-64int/bin/perl.exe "-MExtUtils::Command::MM" "-e" "test_harness(0, 'blib/lib', 'blib/arch')" t/*.t
t/01_compile.t .. ok
t/02_extbrk.t ... ok
t/03_extcbk.t ... ok
t/04_extdel.t ... ok
t/05_extmul.t ... ok
t/06_extqlk.t ... ok
t/07_exttag.t ... ok
t/08_extvar.t ... ok
t/09_gentag.t ... ok
t/97_meta.t ..... ok
t/98_pod.t ...... ok
t/99_pmv.t ...... skipped: no minimum perl version could be determined
All tests successful.
Files=12, Tests=563,  2 wallclock secs ( 0.01 usr  0.05 sys +  0.76 cusr  1.18 csys =  2.00 CPU)
Result: PASS

------------------------------
PREREQUISITES
------------------------------

Prerequisite modules loaded:

requires:

    Module              Need Have
    ------------------- ---- ----
    Test::More          0.47 0.98

build_requires:

    Module              Need Have
    ------------------- ---- ----
    ExtUtils::MakeMaker 0    6.64

configure_requires:

    Module              Need Have
    ------------------- ---- ----
    ExtUtils::MakeMaker 0    6.64


------------------------------
ENVIRONMENT AND OTHER CONTEXT
------------------------------

Environment variables:

    AUTOMATED_TESTING = 1
    COMSPEC = C:\Windows\system32\cmd.exe
    NUMBER_OF_PROCESSORS = 8
    PATH = /opt/perl/cygwin/1.7.16/bin/5.8.2/cygwin-thread-multi-64int:/opt/perl/cygwin/1.7.16/perl/5.8.2/cygwin-thread-multi-64int/local/bin:/opt/perl/cygwin/1.7.16/perl/5.8.2/cygwin-thread-multi-64int/bin:/usr/local/bin:/usr/bin
    PERL5LIB = /opt/perl/cygwin/1.7.16/perl/5.8.2/cygwin-thread-multi-64int/local/lib/site_perl/5.8.2:/opt/perl/cygwin/1.7.16/perl/5.8.2/cygwin-thread-multi-64int/local/lib/5.8.2:/opt/perl/cygwin/1.7.16/perl/5.8.2/cygwin-thread-multi-64int/local/lib/perl5
    PERL5OPT = 
    PERL5_CPANPLUS_IS_RUNNING = 8344
    PERL5_CPAN_IS_RUNNING = 8344
    PERL_EXTUTILS_AUTOINSTALL = 1
    PERL_MM_USE_DEFAULT = 1
    PERL_TEST_CRITIC = 1
    PROCESSOR_IDENTIFIER = Intel64 Family 6 Model 42 Stepping 7, GenuineIntel
    SHELL = /bin/bash
    TEMP = /tmp
    TERM = xterm

Perl special variables (and OS-specific diagnostics, for MSWin32):

    $^X = /cygdrive/e/opt/perl/cygwin/1.7.16/perl/5.8.2/cygwin-thread-multi-64int/bin/perl
    $UID/$EUID = 101 / 101
    $GID = 513 513 1003 545
    $EGID = 513 513 1003 545

Perl module toolchain versions installed:

    Module              Have    
    ------------------- --------
    CPAN                1.9800  
    CPAN::Meta          2.120921
    Cwd                 3.40    
    ExtUtils::CBuilder  0.280205
    ExtUtils::Command   1.17    
    ExtUtils::Install   1.54    
    ExtUtils::MakeMaker 6.64    
    ExtUtils::Manifest  1.61    
    ExtUtils::ParseXS   3.18    
    File::Spec          3.40    
    JSON                n/a     
    JSON::PP            2.27200 
    Module::Build       0.4003  
    Module::Signature   0.70    
    Parse::CPAN::Meta   1.4404  
    Test::Harness       3.26    
    Test::More          0.98    
    YAML                0.84    
    YAML::Syck          1.22    
    version             0.9901  


--

Summary of my perl5 (revision 5.0 version 8 subversion 2) configuration:
  Platform:
    osname=cygwin, osvers=1.7.16(0.26253), archname=cygwin-thread-multi-64int
    uname='cygwin_nt-6.1-wow64 rigel 1.7.16(0.26253) 2012-07-20 22:55 i686 cygwin '
    config_args='-Dmksymlinks -de -Dcc=gcc-4 -Dprefix=/opt/perl/cygwin/1.7.16/perl/5.8.2/cygwin-thread-multi-64int -Uinc_version_list -Uinstallusrbinperl -Dusethreads -Dusemultiplicity -Duse64bitint -Dcf_by=pjacklam -Dcf_email=pjacklam@online.no -Dperladmin=pjacklam@online.no'
    hint=recommended, useposix=true, d_sigaction=define
    usethreads=define use5005threads=undef useithreads=define usemultiplicity=define
    useperlio=define d_sfio=undef uselargefiles=define usesocks=undef
    use64bitint=define use64bitall=undef uselongdouble=undef
    usemymalloc=y, bincompat5005=undef
  Compiler:
    cc='gcc-4', ccflags ='-DPERL_USE_SAFE_PUTENV -fno-strict-aliasing -I/usr/local/include',
    optimize='-O2',
    cppflags='-DPERL_USE_SAFE_PUTENV -fno-strict-aliasing -I/usr/local/include'
    ccversion='', gccversion='4.5.3', gccosandvers=''
    intsize=4, longsize=4, ptrsize=4, doublesize=8, byteorder=12345678
    d_longlong=define, longlongsize=8, d_longdbl=define, longdblsize=12
    ivtype='long long', ivsize=8, nvtype='double', nvsize=8, Off_t='off_t', lseeksize=8
    alignbytes=8, prototype=define
  Linker and Libraries:
    ld='ld2', ldflags =' -L/usr/local/lib'
    libpth=/usr/local/lib /usr/lib /lib
    libs=-lgdbm -ldb -ldl -lcrypt -lutil -lgdbm_compat
    perllibs=-ldl -lcrypt -lutil -lgdbm_compat
    libc=/usr/lib/libc.a, so=dll, useshrplib=true, libperl=libperl.a
    gnulibc_version=''
  Dynamic Linking:
    dlsrc=dl_dlopen.xs, dlext=dll, d_dlsymun=undef, ccdlflags=' '
    cccdlflags=' ', lddlflags=' -L/usr/local/lib'


Characteristics of this binary (from libperl): 
  Compile-time options: MULTIPLICITY USE_ITHREADS USE_64_BIT_INT USE_LARGE_FILES PERL_IMPLICIT_CONTEXT
  Built under cygwin
  Compiled at Jan 10 2013 11:04:47
  %ENV:
    PERL5LIB="/opt/perl/cygwin/1.7.16/perl/5.8.2/cygwin-thread-multi-64int/local/lib/site_perl/5.8.2:/opt/perl/cygwin/1.7.16/perl/5.8.2/cygwin-thread-multi-64int/local/lib/5.8.2:/opt/perl/cygwin/1.7.16/perl/5.8.2/cygwin-thread-multi-64int/local/lib/perl5"
    PERL5OPT=""
    PERL5_CPANPLUS_IS_RUNNING="8344"
    PERL5_CPAN_IS_RUNNING="8344"
    PERL_EXTUTILS_AUTOINSTALL="1"
    PERL_MM_USE_DEFAULT="1"
    PERL_TEST_CRITIC="1"
    CYGWIN="codepage:utf8 nodosfilewarning"
  @INC:
    /opt/perl/cygwin/1.7.16/perl/5.8.2/cygwin-thread-multi-64int/local/lib/site_perl/5.8.2/cygwin-thread-multi-64int
    /opt/perl/cygwin/1.7.16/perl/5.8.2/cygwin-thread-multi-64int/local/lib/site_perl/5.8.2
    /opt/perl/cygwin/1.7.16/perl/5.8.2/cygwin-thread-multi-64int/local/lib/5.8.2/cygwin-thread-multi-64int
    /opt/perl/cygwin/1.7.16/perl/5.8.2/cygwin-thread-multi-64int/local/lib/5.8.2
    /opt/perl/cygwin/1.7.16/perl/5.8.2/cygwin-thread-multi-64int/local/lib/perl5/cygwin-thread-multi-64int
    /opt/perl/cygwin/1.7.16/perl/5.8.2/cygwin-thread-multi-64int/local/lib/perl5
    /opt/perl/cygwin/1.7.16/perl/5.8.2/cygwin-thread-multi-64int/lib/5.8.2/cygwin-thread-multi-64int
    /opt/perl/cygwin/1.7.16/perl/5.8.2/cygwin-thread-multi-64int/lib/5.8.2
    /opt/perl/cygwin/1.7.16/perl/5.8.2/cygwin-thread-multi-64int/lib/site_perl/5.8.2/cygwin-thread-multi-64int
    /opt/perl/cygwin/1.7.16/perl/5.8.2/cygwin-thread-multi-64int/lib/site_perl/5.8.2
    /opt/perl/cygwin/1.7.16/perl/5.8.2/cygwin-thread-multi-64int/lib/site_perl
    .