Back
From: metabase:user:30ae4450-2aae-11df-837a-5e0a49663a4f
Subject: PASS CGI-Session-4.43 v5.12.3
Date: 2013-02-14T02:48:44Z
This distribution has been tested as part of the CPAN Testers
project, supporting the Perl programming language. See
http://wiki.cpantesters.org/ for more information or email
questions to cpan-testers-discuss@perl.org
--
Dear Mark Stosberg,
This is a computer-generated report for CGI-Session-4.43
on perl 5.12.3, created by CPAN-Reporter-1.2009.
Thank you for uploading your work to CPAN. Congratulations!
All tests were successful.
Sections of this report:
* Tester comments
* Program output
* Prerequisites
* Environment and other context
------------------------------
TESTER COMMENTS
------------------------------
Additional comments from tester:
this report is from an automated smoke testing program
and was not reviewed by a human for accuracy
------------------------------
PROGRAM OUTPUT
------------------------------
Output from 'C:\strawberry\perl\bin\perl.exe ./Build test':
t\api3_db_file.t ................ ok
t\api3_db_file_freezethaw.t ..... ok
t\api3_db_file_storable.t ....... ok
t\api3_db_file_storable_incr.t .. ok
t\api3_file.t ................... ok
t\api3_file_freezethaw.t ........ ok
t\api3_file_freezethaw_incr.t ... ok
t\api3_file_storable.t .......... ok
t\api3_file_storable_incr.t ..... ok
t\api3_incr.t ................... ok
#Using FreezeThaw as object serializer
t\api3_obj_store.t .............. ok
t\api3_obj_store_db_file.t ...... ok
t\bug21952.t .................... ok
t\bug24285.t .................... ok
t\cgi_simple.t .................. ok
t\complex_ds.t .................. ok
t\driver_dbi.t .................. ok
t\expire.t ...................... ok
# The found session has been deleted and flushed
t\find.t ........................ ok
t\flush.t ....................... ok
t\g4.t .......................... ok
t\g4_dbfile.t ................... ok
t\g4_dbfile_freezethaw.t ........ ok
t\g4_dbfile_storable.t .......... ok
t\g4_freezethaw.t ............... ok
t\g4_mysql.t .................... skipped: Couldn't establish connection with the MySQL server: Can't connect to data source '' because I can't work out what driver to use (it doesn't seem to contain a 'dbi:driver:' prefix and the DBI_DRIVER env var is not set) at t\g4_mysql.t line 44.
t\g4_mysql_freezethaw.t ......... skipped: Couldn't establish connection with the MySQL server: Can't connect to data source '' because I can't work out what driver to use (it doesn't seem to contain a 'dbi:driver:' prefix and the DBI_DRIVER env var is not set) at t\g4_mysql_freezethaw.t line 43.
t\g4_mysql_storable.t ........... skipped: Couldn't establish connection with the MySQL server: Can't connect to data source '' because I can't work out what driver to use (it doesn't seem to contain a 'dbi:driver:' prefix and the DBI_DRIVER env var is not set) at t\g4_mysql_storable.t line 43.
t\g4_postgresql.t ............... skipped: DataSource is not known
t\g4_postgresql_freezethaw.t .... skipped: DataSource is not known
t\g4_postgresql_storable.t ...... skipped: DataSource is not known
t\g4_sqlite.t ................... ok
t\g4_sqlite_freezethaw.t ........ ok
t\g4_sqlite_storable.t .......... ok
t\g4_storable.t ................. ok
t\header.t ...................... ok
t\ip_matches.t .................. ok
t\is_new.t ...................... ok
Argument "wrong" isn't numeric in numeric ne (!=) at
C:\strawberry\cpan\build\CGI-Session-4.43-lPYwiI\blib\lib/CGI/Session.pm line 684 (#1)
(W numeric) The indicated string was fed as an argument to an operator
that expected a numeric value instead. If you're fortunate the message
will identify which operator was so unfortunate.
t\load.t ........................ ok
t\load_with_undef.t ............. ok
t\name.t ........................ ok
t\new_with_undef.t .............. ok
t\parse_dsn.t ................... ok
t\remote_addr.t ................. ok
# Check in STORE of original item
# Check in STORE of stored/retrieved item
# Check in LOAD after loading from session
t\session_param_undef.t ......... ok
t\str2seconds.t ................. ok
t\symlink_db_file.t ............. skipped: Your OS doesn't support symlinks
t\symlink_file.t ................ skipped: Your OS doesn't support symlinks
All tests successful.
Files=48, Tests=1211, 40 wallclock secs ( 0.07 usr + 0.31 sys = 0.38 CPU)
Result: PASS
------------------------------
PREREQUISITES
------------------------------
Prerequisite modules loaded:
requires:
Module Need Have
------------------- ---- -----
CGI 3.26 3.63
Data::Dumper 0 2.128
Digest::MD5 0 2.51
Scalar::Util 0 1.27
build_requires:
Module Need Have
------------------- ---- -----
Test::More 0 0.98
configure_requires:
Module Need Have
------------------- ---- -----
ExtUtils::MakeMaker 0 6.64
------------------------------
ENVIRONMENT AND OTHER CONTEXT
------------------------------
Environment variables:
AUTOMATED_TESTING = 1
COMSPEC = C:\WINDOWS\system32\cmd.exe
NUMBER_OF_PROCESSORS = 1
PATH = C:\Program Files\Far Manager\;C:\WINDOWS\system32;C:\WINDOWS;C:\WINDOWS\System32\Wbem;C:\strawberry\c\bin;C:\strawberry\perl\site\bin;C:\strawberry\perl\bin
PERL5LIB =
PERL5OPT =
PERL5_CPANPLUS_IS_RUNNING = 356
PERL5_CPAN_IS_RUNNING = 356
PERL5_CPAN_IS_RUNNING_IN_RECURSION = 1016,356
PERL_CR_SMOKER_CURRENT = CGI-Session-4.43
PERL_EXTUTILS_AUTOINSTALL = --defaultdeps
PERL_JSON_BACKEND = JSON::XS
PERL_MM_USE_DEFAULT = 1
PERL_YAML_BACKEND = YAML
PROCESSOR_IDENTIFIER = x86 Family 16 Model 5 Stepping 3, AuthenticAMD
TEMP = C:\DOCUME~1\c\LOCALS~1\Temp
TERM = dumb
Perl special variables (and OS-specific diagnostics, for MSWin32):
$^X = C:\strawberry\perl\bin\perl.exe
$UID/$EUID = 0 / 0
$GID = 0
$EGID = 0
Win32::GetOSName = WinXP/.Net
Win32::GetOSVersion = Service Pack 3, 5, 1, 2600, 2, 3, 0, 256, 1
Win32::FsType = NTFS
Win32::IsAdminUser = 1
Perl module toolchain versions installed:
Module Have
------------------- --------
CPAN 1.9800
CPAN::Meta 2.120921
Cwd 3.40
ExtUtils::CBuilder 0.280202
ExtUtils::Command 1.17
ExtUtils::Install 1.55
ExtUtils::MakeMaker 6.64
ExtUtils::Manifest 1.60
ExtUtils::ParseXS 3.18
File::Spec 3.40
JSON 2.53
JSON::PP 2.27200
Module::Build 0.4003
Module::Signature 0.66
Parse::CPAN::Meta 1.4404
Test::Harness 3.23
Test::More 0.98
YAML 0.84
YAML::Syck 1.22
version 0.9901
--
Summary of my perl5 (revision 5 version 12 subversion 3) configuration:
Platform:
osname=MSWin32, osvers=5.1, archname=MSWin32-x86-multi-thread
uname='Win32 strawberryperl 5.12.3.0 #1 Sun May 15 09:44:53 2011 i386'
config_args='undef'
hint=recommended, useposix=true, d_sigaction=undef
useithreads=define, usemultiplicity=define
useperlio=define, d_sfio=undef, uselargefiles=define, usesocks=undef
use64bitint=undef, use64bitall=undef, uselongdouble=undef
usemymalloc=n, bincompat5005=undef
Compiler:
cc='gcc', ccflags =' -s -O2 -DWIN32 -DHAVE_DES_FCRYPT -DUSE_SITECUSTOMIZE -DPERL_IMPLICIT_CONTEXT -DPERL_IMPLICIT_SYS -fno-strict-aliasing -mms-bitfields -DPERL_MSVCRT_READFIX',
optimize='-s -O2',
cppflags='-DWIN32'
ccversion='', gccversion='4.4.3', gccosandvers=''
intsize=4, longsize=4, ptrsize=4, doublesize=8, byteorder=1234
d_longlong=undef, longlongsize=8, d_longdbl=define, longdblsize=12
ivtype='long', ivsize=4, nvtype='double', nvsize=8, Off_t='long long', lseeksize=8
alignbytes=8, prototype=define
Linker and Libraries:
ld='g++', ldflags ='-s -L"C:\strawberry\perl\lib\CORE" -L"C:\strawberry\c\lib"'
libpth=C:\strawberry\c\lib C:\strawberry\c\i686-w64-mingw32\lib
libs=-lmoldname -lkernel32 -luser32 -lgdi32 -lwinspool -lcomdlg32 -ladvapi32 -lshell32 -lole32 -loleaut32 -lnetapi32 -luuid -lws2_32 -lmpr -lwinmm -lversion -lodbc32 -lodbccp32 -lcomctl32
perllibs=-lmoldname -lkernel32 -luser32 -lgdi32 -lwinspool -lcomdlg32 -ladvapi32 -lshell32 -lole32 -loleaut32 -lnetapi32 -luuid -lws2_32 -lmpr -lwinmm -lversion -lodbc32 -lodbccp32 -lcomctl32
libc=, so=dll, useshrplib=true, libperl=libperl512.a
gnulibc_version=''
Dynamic Linking:
dlsrc=dl_win32.xs, dlext=dll, d_dlsymun=undef, ccdlflags=' '
cccdlflags=' ', lddlflags='-mdll -s -L"C:\strawberry\perl\lib\CORE" -L"C:\strawberry\c\lib"'
Characteristics of this binary (from libperl):
Compile-time options: MULTIPLICITY PERL_DONT_CREATE_GVSV
PERL_IMPLICIT_CONTEXT PERL_IMPLICIT_SYS
PERL_MALLOC_WRAP PL_OP_SLAB_ALLOC USE_ITHREADS
USE_LARGE_FILES USE_PERLIO USE_PERL_ATOF
USE_SITECUSTOMIZE
Built under MSWin32
Compiled at May 15 2011 17:02:01
%ENV:
PERL5_CPANPLUS_IS_RUNNING="356"
PERL5_CPAN_IS_RUNNING="356"
PERL5_CPAN_IS_RUNNING_IN_RECURSION="1016,356"
PERL_CR_SMOKER_CURRENT="CGI-Session-4.43"
PERL_EXTUTILS_AUTOINSTALL="--defaultdeps"
PERL_JSON_BACKEND="JSON::XS"
PERL_MM_USE_DEFAULT="1"
PERL_YAML_BACKEND="YAML"
@INC:
C:/strawberry/perl/site/lib
C:/strawberry/perl/vendor/lib
C:/strawberry/perl/lib
.