Image-ExifTool v12.76 Perl 5 v5.40.0 i86pc-solaris
- Status
- Pass
- From
- Roland van Ipenburg (IPENBURG)
- Dist
-
Image-ExifTool v12.76
- Platform
- Perl 5 v5.40.0 i86pc-solaris
- Date
- 2024-09-03 19:41:48
- ID
- 8ef64620-6a2c-11ef-81c1-f0db0a7bab3b
This distribution has been tested as part of the CPAN Testers
project, supporting the Perl programming language. See
http://wiki.cpantesters.org/ for more information or email
questions to cpan-testers-discuss@perl.org
--
Dear Phil Harvey,
This is a computer-generated report for Image-ExifTool-12.76
on perl 5.40.0, created by CPAN-Reporter-1.2020.
Thank you for uploading your work to CPAN. Congratulations!
All tests were successful.
Sections of this report:
* Tester comments
* Program output
* Prerequisites
* Environment and other context
------------------------------
TESTER COMMENTS
------------------------------
Additional comments from tester:
none provided
------------------------------
PROGRAM OUTPUT
------------------------------
Output from '/usr/bin/make test':
PERL_DL_NONLAZY=1 "/opt/bin/perl" "-MExtUtils::Command::MM" "-MTest::Harness" "-e" "undef *Test::Harness::Switches; test_harness(0, 'blib/lib', 'blib/arch')" t/*.t
t/AAC.t ............ ok
t/AFCP.t ........... ok
t/AIFF.t ........... ok
t/APE.t ............ ok
t/Apple.t .......... ok
t/ASF.t ............ ok
t/Audible.t ........ ok
t/BigTIFF.t ........ ok
t/BMP.t ............ ok
t/BPG.t ............ ok
t/Canon.t .......... ok
t/CanonRaw.t ....... ok
t/CanonVRD.t ....... ok
t/Casio.t .......... ok
t/DICOM.t .......... ok
t/DjVu.t ........... ok
t/DNG.t ............ ok
t/DPX.t ............ ok
t/DV.t ............. ok
t/EXE.t ............ ok
t/ExifTool.t ....... ok
t/FITS.t ........... ok
t/FLAC.t ........... ok
t/Flash.t .......... ok
t/FlashPix.t ....... ok
t/FLIF.t ........... ok
t/FLIR.t ........... ok
t/Font.t ........... ok
t/FotoStation.t .... ok
t/FujiFilm.t ....... ok
t/GE.t ............. ok
t/Geotag.t ......... ok
t/GeoTiff.t ........ ok
t/GIF.t ............ ok
t/GIMP.t ........... ok
t/GoPro.t .......... ok
t/GPS.t ............ ok
t/HTML.t ........... ok
t/ICO.t ............ ok
t/InDesign.t ....... ok
t/InfiRay.t ........ ok
t/IPTC.t ........... ok
t/ISO.t ............ ok
t/ITC.t ............ ok
t/Jpeg2000.t ....... ok
t/JSON.t ........... ok
t/JVC.t ............ ok
t/JXL.t ............ ok
t/Kodak.t .......... ok
t/KyoceraRaw.t ..... ok
t/Lang.t ........... ok
t/LNK.t ............ ok
t/Lytro.t .......... ok
t/M2TS.t ........... ok
t/MacOS.t .......... ok
t/Matroska.t ....... ok
t/MIE.t ............ ok
t/MIFF.t ........... ok
t/Minolta.t ........ ok
t/MOI.t ............ ok
t/Motorola.t ....... ok
t/MP3.t ............ ok
t/MRC.t ............ ok
t/MWG.t ............ ok
t/MXF.t ............ ok
t/Nikon.t .......... ok
t/Olympus.t ........ ok
t/OpenEXR.t ........ ok
t/Opus.t ........... ok
t/Palm.t ........... ok
t/Panasonic.t ...... ok
t/PCX.t ............ ok
t/PDF.t ............ ok
t/Pentax.t ......... ok
t/PFM.t ............ ok
t/PGF.t ............ ok
t/PhaseOne.t ....... ok
t/PhotoCD.t ........ ok
t/PhotoMechanic.t .. ok
t/Photoshop.t ...... ok
t/PICT.t ........... ok
t/PLIST.t .......... ok
t/PLUS.t ........... ok
t/PNG.t ............ ok
t/PostScript.t ..... ok
t/PPM.t ............ ok
t/PSP.t ............ ok
t/QuickTime.t ...... ok
t/Radiance.t ....... ok
t/Real.t ........... ok
t/Red.t ............ ok
t/Ricoh.t .......... ok
t/RIFF.t ........... ok
t/RTF.t ............ ok
t/Sanyo.t .......... ok
t/Sigma.t .......... ok
t/Sony.t ........... ok
t/Text.t ........... ok
t/Torrent.t ........ ok
t/Unknown.t ........ ok
t/VCard.t .......... ok
t/Vorbis.t ......... ok
t/WPG.t ............ ok
t/Writer.t ......... ok
t/WTV.t ............ ok
t/XISF.t ........... ok
t/XMP.t ............ ok
t/ZIP.t ............ ok
t/ZISRAW.t ......... ok
All tests successful.
Files=109, Tests=579, 29 wallclock secs ( 0.32 usr 0.23 sys + 26.30 cusr 1.69 csys = 28.54 CPU)
Result: PASS
------------------------------
PREREQUISITES
------------------------------
Prerequisite modules loaded:
requires:
Module Need Have
-------------------------- ----- --------
perl 5.004 5.040000
build_requires:
Module Need Have
-------------------------- ----- --------
ExtUtils::MakeMaker 0 7.70
configure_requires:
Module Need Have
-------------------------- ----- --------
ExtUtils::MakeMaker 0 7.70
opt_requires:
Module Need Have
-------------------------- ----- --------
Archive::Zip 0 1.68
Compress::Raw::Lzma 0 2.213
Compress::Zlib 0 2.213
Digest::MD5 0 2.59
Digest::SHA 0 6.04
! IO::Compress::Brotli 0 n/a
IO::Compress::RawDeflate 0 2.213
! IO::Uncompress::Brotli 0 n/a
IO::Uncompress::RawInflate 0 2.213
! POSIX::strptime 0 n/a
Time::HiRes 0 1.9777
------------------------------
ENVIRONMENT AND OTHER CONTEXT
------------------------------
Environment variables:
LANG = en_US.UTF-8
LC_ALL = en_US.UTF-8
LC_COLLATE =
LC_CTYPE = UTF-8
LC_MESSAGES =
LC_MONETARY =
LC_NUMERIC =
LC_TIME =
NONINTERACTIVE_TESTING = 1
PATH = /opt/bin:/usr/bin:/usr/sbin
PERL5LIB =
PERL5OPT =
PERL5_CPANPLUS_IS_RUNNING = 7926
PERL5_CPAN_IS_RUNNING = 7926
PERL_MM_USE_DEFAULT = 1
PERL_USE_UNSAFE_INC = 1
SHELL = /usr/bin/bash
TERM = screen
Perl special variables (and OS-specific diagnostics, for MSWin32):
$^X = /opt/bin/perl
$UID/$EUID = 100 / 100
$GID = 10 10
$EGID = 10 10
Perl module toolchain versions installed:
Module Have
------------------- --------
CPAN 2.37
CPAN::Meta 2.150010
Cwd 3.90
ExtUtils::CBuilder 0.280240
ExtUtils::Command 7.70
ExtUtils::Install 2.22
ExtUtils::MakeMaker 7.70
ExtUtils::Manifest 1.75
ExtUtils::ParseXS 3.51
File::Spec 3.90
JSON n/a
JSON::PP 4.16
Module::Build 0.4234
Module::Signature n/a
Parse::CPAN::Meta 2.150010
Test2 1.302199
Test::Harness 3.48
Test::More 1.302199
YAML 1.31
YAML::Syck n/a
version 0.9930
--
Summary of my perl5 (revision 5 version 40 subversion 0) configuration:
Platform:
osname=solaris
osvers=2.11
archname=i86pc-solaris
uname='sunos solaris 5.11 11.4.42.111.0 i86pc i386 i86pc virtualbox '
config_args='-des -Dinc_version_list=none'
hint=recommended
useposix=true
d_sigaction=define
useithreads=undef
usemultiplicity=undef
use64bitint=undef
use64bitall=undef
uselongdouble=undef
usemymalloc=n
default_inc_excludes_dot=define
Compiler:
cc='/opt/developerstudio12.6/bin/cc'
ccflags ='-I/usr/gnu/include -D_LARGEFILE_SOURCE -D_FILE_OFFSET_BITS=64'
optimize='-O1'
cppflags='-I/usr/gnu/include'
ccversion='Studio 12.6 Sun C 5.15 SunOS_i386 2017/05/30'
gccversion=''
gccosandvers=''
intsize=4
longsize=4
ptrsize=4
doublesize=8
byteorder=1234
doublekind=3
d_longlong=define
longlongsize=8
d_longdbl=define
longdblsize=12
longdblkind=3
ivtype='long'
ivsize=4
nvtype='double'
nvsize=8
Off_t='off_t'
lseeksize=8
alignbytes=4
prototype=define
Linker and Libraries:
ld='/opt/developerstudio12.6/bin/cc'
ldflags =' -L/usr/lib -L/usr/ccs/lib -L/opt/developerstudio12.6/lib/compilers/sse2 -L/opt/developerstudio12.6/lib/compilers -L/lib -L/usr/gnu/lib '
libpth=/usr/lib /usr/ccs/lib /opt/developerstudio12.6/lib/compilers/sse2 /opt/developerstudio12.6/lib/compilers /lib /usr/gnu/lib
libs=-lpthread -lsocket -lnsl -lgdbm -ldb -ldl -lm -lc
perllibs=-lpthread -lsocket -lnsl -ldl -lm -lc
libc=/lib/libc.so
so=so
useshrplib=true
libperl=libperl.so
gnulibc_version=''
Dynamic Linking:
dlsrc=dl_dlopen.xs
dlext=so
d_dlsymun=undef
ccdlflags=' -R /opt/lib/perl5/5.40.0/i86pc-solaris/CORE'
cccdlflags='-KPIC'
lddlflags='-G -L/usr/lib -L/usr/ccs/lib -L/opt/developerstudio12.6/lib/compilers/sse2 -L/opt/developerstudio12.6/lib/compilers -L/lib -L/usr/gnu/lib'
Characteristics of this binary (from libperl):
Compile-time options:
HAS_LONG_DOUBLE
HAS_STRTOLD
HAS_TIMES
PERLIO_LAYERS
PERL_COPY_ON_WRITE
PERL_DONT_CREATE_GVSV
PERL_HASH_FUNC_ZAPHOD32
PERL_HASH_USE_SBOX32
PERL_MALLOC_WRAP
PERL_OP_PARENT
PERL_PRESERVE_IVUV
PERL_USE_SAFE_PUTENV
USE_LARGE_FILES
USE_LOCALE
USE_LOCALE_COLLATE
USE_LOCALE_CTYPE
USE_LOCALE_NUMERIC
USE_LOCALE_TIME
USE_PERLIO
USE_PERL_ATOF
Built under solaris
Compiled at Sep 3 2024 19:01:39
%ENV:
PERL5LIB=""
PERL5OPT=""
PERL5_CPANPLUS_IS_RUNNING="7926"
PERL5_CPAN_IS_RUNNING="7926"
PERL_MM_USE_DEFAULT="1"
PERL_USE_UNSAFE_INC="1"
@INC:
/opt/lib/perl5/site_perl/5.40.0/i86pc-solaris
/opt/lib/perl5/site_perl/5.40.0
/opt/lib/perl5/5.40.0/i86pc-solaris
/opt/lib/perl5/5.40.0
.